BEGIN:VCALENDAR
VERSION:2.0
PRODID:-//Flamingocat - ECPv6.15.20//NONSGML v1.0//EN
CALSCALE:GREGORIAN
METHOD:PUBLISH
X-WR-CALNAME:Flamingocat
X-ORIGINAL-URL:https://flamingocat.de
X-WR-CALDESC:Veranstaltungen für Flamingocat
REFRESH-INTERVAL;VALUE=DURATION:PT1H
X-Robots-Tag:noindex
X-PUBLISHED-TTL:PT1H
BEGIN:VTIMEZONE
TZID:Europe/Berlin
BEGIN:DAYLIGHT
TZOFFSETFROM:+0100
TZOFFSETTO:+0200
TZNAME:CEST
DTSTART:20230326T010000
END:DAYLIGHT
BEGIN:STANDARD
TZOFFSETFROM:+0200
TZOFFSETTO:+0100
TZNAME:CET
DTSTART:20231029T010000
END:STANDARD
BEGIN:DAYLIGHT
TZOFFSETFROM:+0100
TZOFFSETTO:+0200
TZNAME:CEST
DTSTART:20240331T010000
END:DAYLIGHT
BEGIN:STANDARD
TZOFFSETFROM:+0200
TZOFFSETTO:+0100
TZNAME:CET
DTSTART:20241027T010000
END:STANDARD
BEGIN:DAYLIGHT
TZOFFSETFROM:+0100
TZOFFSETTO:+0200
TZNAME:CEST
DTSTART:20250330T010000
END:DAYLIGHT
BEGIN:STANDARD
TZOFFSETFROM:+0200
TZOFFSETTO:+0100
TZNAME:CET
DTSTART:20251026T010000
END:STANDARD
BEGIN:DAYLIGHT
TZOFFSETFROM:+0100
TZOFFSETTO:+0200
TZNAME:CEST
DTSTART:20260329T010000
END:DAYLIGHT
BEGIN:STANDARD
TZOFFSETFROM:+0200
TZOFFSETTO:+0100
TZNAME:CET
DTSTART:20261025T010000
END:STANDARD
END:VTIMEZONE
BEGIN:VEVENT
DTSTART;TZID=Europe/Berlin:20241201T100000
DTEND;TZID=Europe/Berlin:20241201T130000
DTSTAMP:20260422T130226
CREATED:20190821T152824Z
LAST-MODIFIED:20260413T080710Z
UID:10001481-1733047200-1733058000@flamingocat.de
SUMMARY:offener Adventskranz-Workshop
DESCRIPTION:You better watch out! In diesem Jahr begrüßen wir die Weihnachtszeit mit einem selbstgebundenen Adventskranz. Mit Eukalytus\, bunten Seidenbändern und allerlei schönen Materialien verpassen wir dem Kranz ein angesagtes skandinavisches Make-Over. Und damit ihr richtig in Weihnachtsstimmung kommt\, servieren wir euch nebenbei noch dampfenden Glühwein…
URL:https://flamingocat.de/event/offener-adventskranz-workshop-9/2024-12-01/1/
LOCATION:FLAMINGOCAT\, Kurt Eisner Strasse 17\, Leipzig\, 04275
CATEGORIES:Offene Kurse
ATTACH;FMTTYPE=image/jpeg:https://flamingocat.de/wp-content/uploads/2022/12/DIY-Adventskranz-im-Greenery-Style-Flamingocat-Leipzig-43.jpg
END:VEVENT
BEGIN:VEVENT
DTSTART;TZID=Europe/Berlin:20241201T103000
DTEND;TZID=Europe/Berlin:20241201T133000
DTSTAMP:20260422T130226
CREATED:20190821T152824Z
LAST-MODIFIED:20260413T080710Z
UID:10001482-1733049000-1733059800@flamingocat.de
SUMMARY:offener Adventskranz-Workshop
DESCRIPTION:You better watch out! In diesem Jahr begrüßen wir die Weihnachtszeit mit einem selbstgebundenen Adventskranz. Mit Eukalytus\, bunten Seidenbändern und allerlei schönen Materialien verpassen wir dem Kranz ein angesagtes skandinavisches Make-Over. Und damit ihr richtig in Weihnachtsstimmung kommt\, servieren wir euch nebenbei noch dampfenden Glühwein…
URL:https://flamingocat.de/event/offener-adventskranz-workshop-9/2024-12-01/2/
LOCATION:FLAMINGOCAT\, Kurt Eisner Strasse 17\, Leipzig\, 04275
CATEGORIES:Offene Kurse
ATTACH;FMTTYPE=image/jpeg:https://flamingocat.de/wp-content/uploads/2022/12/DIY-Adventskranz-im-Greenery-Style-Flamingocat-Leipzig-43.jpg
END:VEVENT
BEGIN:VEVENT
DTSTART;TZID=Europe/Berlin:20241201T150000
DTEND;TZID=Europe/Berlin:20241201T180000
DTSTAMP:20260422T130226
CREATED:20190821T152824Z
LAST-MODIFIED:20260413T080710Z
UID:10001483-1733065200-1733076000@flamingocat.de
SUMMARY:offener Adventskranz-Workshop
DESCRIPTION:You better watch out! In diesem Jahr begrüßen wir die Weihnachtszeit mit einem selbstgebundenen Adventskranz. Mit Eukalytus\, bunten Seidenbändern und allerlei schönen Materialien verpassen wir dem Kranz ein angesagtes skandinavisches Make-Over. Und damit ihr richtig in Weihnachtsstimmung kommt\, servieren wir euch nebenbei noch dampfenden Glühwein…
URL:https://flamingocat.de/event/offener-adventskranz-workshop-9/2024-12-01/3/
LOCATION:FLAMINGOCAT\, Kurt Eisner Strasse 17\, Leipzig\, 04275
CATEGORIES:Offene Kurse
ATTACH;FMTTYPE=image/jpeg:https://flamingocat.de/wp-content/uploads/2022/12/DIY-Adventskranz-im-Greenery-Style-Flamingocat-Leipzig-43.jpg
END:VEVENT
BEGIN:VEVENT
DTSTART;TZID=Europe/Berlin:20241201T153000
DTEND;TZID=Europe/Berlin:20241201T183000
DTSTAMP:20260422T130226
CREATED:20190821T152824Z
LAST-MODIFIED:20260413T080710Z
UID:10001484-1733067000-1733077800@flamingocat.de
SUMMARY:offener Adventskranz-Workshop
DESCRIPTION:You better watch out! In diesem Jahr begrüßen wir die Weihnachtszeit mit einem selbstgebundenen Adventskranz. Mit Eukalytus\, bunten Seidenbändern und allerlei schönen Materialien verpassen wir dem Kranz ein angesagtes skandinavisches Make-Over. Und damit ihr richtig in Weihnachtsstimmung kommt\, servieren wir euch nebenbei noch dampfenden Glühwein…
URL:https://flamingocat.de/event/offener-adventskranz-workshop-9/2024-12-01/4/
LOCATION:FLAMINGOCAT\, Kurt Eisner Strasse 17\, Leipzig\, 04275
CATEGORIES:Offene Kurse
ATTACH;FMTTYPE=image/jpeg:https://flamingocat.de/wp-content/uploads/2022/12/DIY-Adventskranz-im-Greenery-Style-Flamingocat-Leipzig-43.jpg
END:VEVENT
BEGIN:VEVENT
DTSTART;TZID=Europe/Berlin:20241205T180000
DTEND;TZID=Europe/Berlin:20241205T210000
DTSTAMP:20260422T130226
CREATED:20220215T152121Z
LAST-MODIFIED:20260412T201331Z
UID:10001568-1733421600-1733432400@flamingocat.de
SUMMARY:Schmuck aus Polymer-Clay
DESCRIPTION:Mit unserem neuen Polymer-Clay-Workshop\, kannst du dir deinen neuen Lieblingsschmuck einfach selber kneten. Du bestimmst Form\, Farbe und Stil selbst und designst die passenden Accessoires für deinen Lieblingslook. Egal ob Statement-Ohrringe\, Ketten oder Ringe : you decide! Obendrauf servieren wir dir noch eine ordentliche Portion Blattgold.
URL:https://flamingocat.de/event/schmuck-aus-polymer-clay/2024-12-05/
CATEGORIES:Offene Kurse
ATTACH;FMTTYPE=image/jpeg:https://flamingocat.de/wp-content/uploads/2022/12/Schmuck-Workshop-Schmuck-aus-Ofen-Clay-Flamingocat-Leipzig-5.jpg
END:VEVENT
BEGIN:VEVENT
DTSTART;TZID=Europe/Berlin:20241208T110000
DTEND;TZID=Europe/Berlin:20241208T140000
DTSTAMP:20260422T130226
CREATED:20240803T084052Z
LAST-MODIFIED:20260412T091701Z
UID:10001550-1733655600-1733666400@flamingocat.de
SUMMARY:Offener Workshop Dip Dye Candles
DESCRIPTION:Dip it like ist hot – ab jetzt widmen wir uns einem der heißesten neuen Interior-Trends und\ndippen gemeinsam Kerzen. Denn was in skandinavischen Concept-Stores bereits ein absoluter Design-Dauerbrenner ist\, hält jetzt auch Einzug in unsere Kreativwerkstatt. Wir zeigen dir in unserem Workshop\, wie du die stylischen Must-Haves ganz einfach selber gestaltest. Dafür mischen wir deine individuellen Lieblingsfarben\, experimentieren mit verschiedenen Techniken und vermitteln dir viele nützliche Tipps rund ums Tauchen\, Klecksen und Dekorieren deiner ganz persönlichen Kerzen-Kollektion. Wähle aus Stab- oder Stumpenkerzen deine individuelle Favoriten und designe die passenden Home-Accessoires für dein Zuhause oder zum Verschenken.\nCome on baby\, light my fire!
URL:https://flamingocat.de/event/offener-workshop-dip-dye-candles/2024-12-08/
LOCATION:FLAMINGOCAT\, Kurt Eisner Strasse 17\, Leipzig\, 04275
CATEGORIES:Offene Kurse
ATTACH;FMTTYPE=image/jpeg:https://flamingocat.de/wp-content/uploads/2026/02/DIY-Workshop-Kerzen-giessen-Leipzig.jpg
END:VEVENT
BEGIN:VEVENT
DTSTART;TZID=Europe/Berlin:20241208T110000
DTEND;TZID=Europe/Berlin:20241208T143000
DTSTAMP:20260422T130226
CREATED:20211025T070836Z
LAST-MODIFIED:20260413T162837Z
UID:10001538-1733655600-1733668200@flamingocat.de
SUMMARY:Weihnachtlicher Türkranz
DESCRIPTION:You better watch out! In diesem Jahr begrüßen wir die Weihnachtszeit mit einem selbstgebundenen Türkranz. Mit Eukalytus\, bunten Seidenbändern und allerlei schönen Materialien verpassen wir dem Kranz ein angesagtes skandinavisches Make-Over. ! \nBitte beachte: Aufgrund der aktuellen Inzidenzen ist eine Präsenzveranstaltung nicht möglich. Daher findet unser Workshop digital statt. \n  ab 64\,95 € / Person
URL:https://flamingocat.de/event/weihnachtlicher-tuerkranz-2021-12-16/2024-12-08/
CATEGORIES:Offene Kurse
ATTACH;FMTTYPE=:
END:VEVENT
BEGIN:VEVENT
DTSTART;TZID=Europe/Berlin:20241210T180000
DTEND;TZID=Europe/Berlin:20241210T210000
DTSTAMP:20260422T130226
CREATED:20230128T115718Z
LAST-MODIFIED:20260412T192005Z
UID:10001559-1733853600-1733864400@flamingocat.de
SUMMARY:Offener Naturkosmetik Workshop
DESCRIPTION:Mit diesem Workshop kannst du ab sofort deine Haut zum Strahlen bringen. Gemeinsam kreiren wir glitzernde Badeperlen\, betörende Düfte oder natürliche Peelings\, die man sogar Naschen kann. Yummy! Digitalwaage\, Pipette und Spatel liegen schon bereit. Ab jetzt darf fleissig gerührt werden.Wir erklären dir die Grundlagen und servieren obendrauf praktische Tipps mit denen du auch im Anschluss an unseren Workshops weiterarbeiten kannst.
URL:https://flamingocat.de/event/test-naturkosmetik-workshop/2024-12-10/
CATEGORIES:Offene Kurse
ATTACH;FMTTYPE=image/jpeg:https://flamingocat.de/wp-content/uploads/2022/12/Badewannenkugeln-Badebomben-DIY-Naturkosmetik-Workshop-natuerliche-Beautyprodukte-Zutaten-handmade-FLAMINGOCAT.jpg
END:VEVENT
BEGIN:VEVENT
DTSTART;TZID=Europe/Berlin:20241212T180000
DTEND;TZID=Europe/Berlin:20241212T210000
DTSTAMP:20260422T130226
CREATED:20230501T092756Z
LAST-MODIFIED:20260412T193638Z
UID:10001565-1734026400-1734037200@flamingocat.de
SUMMARY:Punch Needeling
DESCRIPTION:
URL:https://flamingocat.de/event/punch-needeling-2023/2024-12-12/
CATEGORIES:Offene Kurse
ATTACH;FMTTYPE=image/jpeg:https://flamingocat.de/wp-content/uploads/2023/04/Punch-Needling-9-scaled.jpg
END:VEVENT
BEGIN:VEVENT
DTSTART;TZID=Europe/Berlin:20241214T110000
DTEND;TZID=Europe/Berlin:20241214T140000
DTSTAMP:20260422T130226
CREATED:20211025T070836Z
LAST-MODIFIED:20260413T162837Z
UID:10001581-1734174000-1734184800@flamingocat.de
SUMMARY:Weihnachtlicher Türkranz
DESCRIPTION:You better watch out! In diesem Jahr begrüßen wir die Weihnachtszeit mit einem selbstgebundenen Türkranz. Mit Eukalytus\, bunten Seidenbändern und allerlei schönen Materialien verpassen wir dem Kranz ein angesagtes skandinavisches Make-Over. ! \nBitte beachte: Aufgrund der aktuellen Inzidenzen ist eine Präsenzveranstaltung nicht möglich. Daher findet unser Workshop digital statt. \n  ab 64\,95 € / Person
URL:https://flamingocat.de/event/weihnachtlicher-tuerkranz-2021-12-16/2024-12-14/
CATEGORIES:Offene Kurse
ATTACH;FMTTYPE=:
END:VEVENT
BEGIN:VEVENT
DTSTART;TZID=Europe/Berlin:20241214T110000
DTEND;TZID=Europe/Berlin:20241214T140000
DTSTAMP:20260422T130226
CREATED:20240207T101617Z
LAST-MODIFIED:20260413T065910Z
UID:10001578-1734174000-1734184800@flamingocat.de
SUMMARY:Textured Art
DESCRIPTION:Mit diesem Workshop bringen wir Struktur in deinen Alltag und hauchen der schnöden Spachtelmasse frischen Wind ein. Wenn du keine Scheu hast dir die Hände schmutzig zu machen und grafische Designs liebst\, bist du hier genau richtig!
URL:https://flamingocat.de/event/textured-art/2024-12-14/
CATEGORIES:Offene Kurse
ATTACH;FMTTYPE=image/jpeg:https://flamingocat.de/wp-content/uploads/2026/02/Spachtelmasse-Workshop-Leipzig-Textured-Art.jpg
ORGANIZER;CN="FLAMINGOCAT":MAILTO:info@flamingocat.de
END:VEVENT
BEGIN:VEVENT
DTSTART;TZID=Europe/Berlin:20241215T110000
DTEND;TZID=Europe/Berlin:20241215T140000
DTSTAMP:20260422T130226
CREATED:20230118T101731Z
LAST-MODIFIED:20260412T204856Z
UID:10001553-1734260400-1734271200@flamingocat.de
SUMMARY:Offener Terrazzo Deko Workshop
DESCRIPTION:Schon die alten Römer liebten Bodenbelege mit farbigen Sprenkeln.\nNun feiert das antike Design ein echtes Revival. Die römische Terrazzo-Optik\nist der Design-Trend des Jahres. Egal ob Schalen\, Blumentöpfe oder Kerzenständer –\nwir streuseln uns die Welt\, wie sie uns gefällt. In unserem 3-stündigen Workshop gestaltest du aus einem umweltfreundlichen\, gips-ähnlichen Verbundwerkstoff deine individuellen Home-Accessoires.
URL:https://flamingocat.de/event/offener-terrazzo-deko-workshop/2024-12-15/
CATEGORIES:Offene Kurse
ATTACH;FMTTYPE=image/jpeg:https://flamingocat.de/wp-content/uploads/2023/01/Terrazzo-Schalen-Workshop-Flamingocat-Leipzig-8-1.jpg
END:VEVENT
BEGIN:VEVENT
DTSTART;TZID=Europe/Berlin:20241215T110000
DTEND;TZID=Europe/Berlin:20241215T140000
DTSTAMP:20260422T130227
CREATED:20230616T201428Z
LAST-MODIFIED:20260412T081737Z
UID:10001673-1734260400-1734271200@flamingocat.de
SUMMARY:Offener Aquarell Workshop
DESCRIPTION:Ready for some summer vibes? In unserem neusten Workshop wird es jetzt blumig! Gemeinsam schwingen wir die Pinsel und zeigen euch in unserem Aquarell Workshop die wichtigsten Techniken und besten Tricks rund um die beliebten Wasserfarben. Ihr zeichnet Blumen\, Pflanzen und bunte Blüten und nehmt am Ende unseres 3-stündigen Kurses eure eigenen Aquarell-Blumensträuße und Kränze mit nachhause.
URL:https://flamingocat.de/event/offener-aquarell-workshop-13/2024-12-15/
CATEGORIES:Offene Kurse
ATTACH;FMTTYPE=image/jpeg:https://flamingocat.de/wp-content/uploads/2023/08/aquarell-watercoloring-watercolor-workshop-leipzig-wasserfarben-malen-lernen-7-scaled.jpg
END:VEVENT
BEGIN:VEVENT
DTSTART;TZID=Europe/Berlin:20241215T110000
DTEND;TZID=Europe/Berlin:20241215T140000
DTSTAMP:20260422T130227
CREATED:20240207T101617Z
LAST-MODIFIED:20260413T065910Z
UID:10001561-1734260400-1734271200@flamingocat.de
SUMMARY:Textured Art
DESCRIPTION:Mit diesem Workshop bringen wir Struktur in deinen Alltag und hauchen der schnöden Spachtelmasse frischen Wind ein. Wenn du keine Scheu hast dir die Hände schmutzig zu machen und grafische Designs liebst\, bist du hier genau richtig!
URL:https://flamingocat.de/event/textured-art/2024-12-15/
CATEGORIES:Offene Kurse
ATTACH;FMTTYPE=image/jpeg:https://flamingocat.de/wp-content/uploads/2026/02/Spachtelmasse-Workshop-Leipzig-Textured-Art.jpg
ORGANIZER;CN="FLAMINGOCAT":MAILTO:info@flamingocat.de
END:VEVENT
BEGIN:VEVENT
DTSTART;TZID=Europe/Berlin:20241215T110000
DTEND;TZID=Europe/Berlin:20241215T140000
DTSTAMP:20260422T130227
CREATED:20260412T095612Z
LAST-MODIFIED:20260412T095827Z
UID:10001742-1734260400-1734271200@flamingocat.de
SUMMARY:Moosbild gestalten - Offener Workshop
DESCRIPTION:Wir holen uns die Natur ins Wohnzimmer. Sag Tschüss zu Poster Einheitsbrei und nackten Wänden\, denn in diesem Workshop zaubern wir deinen ganz persönlichen #urbanjungle. Wir zeigen dir\, wie du verschiedene Hölzer\, Rinde oder Steine zu einem echten Kunstwerk anordnest. Egal ob Bastel-Beginner oder ein Crafting-Profi bist\, dieser Workshop ist für alle geeignet!
URL:https://flamingocat.de/event/moosbild-gestalten-offener-workshop/2024-12-15/
CATEGORIES:Offene Kurse
ATTACH;FMTTYPE=image/jpeg:https://flamingocat.de/wp-content/uploads/2024/12/Kreative-Teamevents-Idee-Leipzig-.jpg
END:VEVENT
BEGIN:VEVENT
DTSTART;TZID=Europe/Berlin:20241217T180000
DTEND;TZID=Europe/Berlin:20241217T210000
DTSTAMP:20260422T130227
CREATED:20200813T131847Z
LAST-MODIFIED:20260412T084014Z
UID:10001582-1734458400-1734469200@flamingocat.de
SUMMARY:Botanical Printing
DESCRIPTION:You better believe the hype! Dank Pinterest und Co. sind grafische Prints und botanische Drucke ein absolutes Must-Have für deine 4 Wände. Egal ob große Monstera-Blätter oder geometrische Figuren – in unserem Linoldruck-Workshop bringen wir ordentlich Farbe aufs Papier.Gemeinsam erarbeiten wir dein neues Lieblingsmotiv.
URL:https://flamingocat.de/event/botanical-printing-6/2024-12-17/
LOCATION:DIY DEPARTEMENT\, Karl Liebknecht Strasse 13\, 04107
CATEGORIES:Offene Kurse
ATTACH;FMTTYPE=image/jpeg:https://flamingocat.de/wp-content/uploads/2024/01/DSC3393.jpg
END:VEVENT
BEGIN:VEVENT
DTSTART;TZID=Europe/Berlin:20250112T110000
DTEND;TZID=Europe/Berlin:20250112T140000
DTSTAMP:20260422T130227
CREATED:20230118T101731Z
LAST-MODIFIED:20260412T204856Z
UID:10001585-1736679600-1736690400@flamingocat.de
SUMMARY:Offener Terrazzo Deko Workshop
DESCRIPTION:Schon die alten Römer liebten Bodenbelege mit farbigen Sprenkeln.\nNun feiert das antike Design ein echtes Revival. Die römische Terrazzo-Optik\nist der Design-Trend des Jahres. Egal ob Schalen\, Blumentöpfe oder Kerzenständer –\nwir streuseln uns die Welt\, wie sie uns gefällt. In unserem 3-stündigen Workshop gestaltest du aus einem umweltfreundlichen\, gips-ähnlichen Verbundwerkstoff deine individuellen Home-Accessoires.
URL:https://flamingocat.de/event/offener-terrazzo-deko-workshop/2025-01-12/
CATEGORIES:Offene Kurse
ATTACH;FMTTYPE=image/jpeg:https://flamingocat.de/wp-content/uploads/2023/01/Terrazzo-Schalen-Workshop-Flamingocat-Leipzig-8-1.jpg
END:VEVENT
BEGIN:VEVENT
DTSTART;TZID=Europe/Berlin:20250119T110000
DTEND;TZID=Europe/Berlin:20250119T140000
DTSTAMP:20260422T130227
CREATED:20220215T151233Z
LAST-MODIFIED:20260413T065423Z
UID:10001588-1737284400-1737295200@flamingocat.de
SUMMARY:Sticken für Einsteiger:innen
DESCRIPTION:In unserem neusten Workshop lassen wir die Nadeln glühen. It´s time for botanical embroidery! Mit leuchtenden Garnen und hübschen Stoffen designen wir ein textiles Must-Have für dein zuhause und sticken Blüten\, Blätter und Botanisches auf deinen Stickrahmen. Alle benötigten Materialien sowie ein Gläschen Sekt\, sind wie immer bereits im Preis enthalten
URL:https://flamingocat.de/event/sticken-fuer-einsteigerinnen-praesenz-veranstaltung/2025-01-19/
CATEGORIES:Offene Kurse
ATTACH;FMTTYPE=image/jpeg:https://flamingocat.de/wp-content/uploads/2023/01/Sticken-lernen-in-Leipzig-Flamingocat-5.jpg
END:VEVENT
BEGIN:VEVENT
DTSTART;TZID=Europe/Berlin:20250119T110000
DTEND;TZID=Europe/Berlin:20250119T140000
DTSTAMP:20260422T130227
CREATED:20220215T152121Z
LAST-MODIFIED:20260412T201331Z
UID:10001570-1737284400-1737295200@flamingocat.de
SUMMARY:Schmuck aus Polymer-Clay
DESCRIPTION:Mit unserem neuen Polymer-Clay-Workshop\, kannst du dir deinen neuen Lieblingsschmuck einfach selber kneten. Du bestimmst Form\, Farbe und Stil selbst und designst die passenden Accessoires für deinen Lieblingslook. Egal ob Statement-Ohrringe\, Ketten oder Ringe : you decide! Obendrauf servieren wir dir noch eine ordentliche Portion Blattgold.
URL:https://flamingocat.de/event/schmuck-aus-polymer-clay/2025-01-19/
CATEGORIES:Offene Kurse
ATTACH;FMTTYPE=image/jpeg:https://flamingocat.de/wp-content/uploads/2022/12/Schmuck-Workshop-Schmuck-aus-Ofen-Clay-Flamingocat-Leipzig-5.jpg
END:VEVENT
BEGIN:VEVENT
DTSTART;TZID=Europe/Berlin:20250126T110000
DTEND;TZID=Europe/Berlin:20250126T140000
DTSTAMP:20260422T130227
CREATED:20200813T131847Z
LAST-MODIFIED:20260412T084014Z
UID:10001637-1737889200-1737900000@flamingocat.de
SUMMARY:Botanical Printing
DESCRIPTION:You better believe the hype! Dank Pinterest und Co. sind grafische Prints und botanische Drucke ein absolutes Must-Have für deine 4 Wände. Egal ob große Monstera-Blätter oder geometrische Figuren – in unserem Linoldruck-Workshop bringen wir ordentlich Farbe aufs Papier.Gemeinsam erarbeiten wir dein neues Lieblingsmotiv.
URL:https://flamingocat.de/event/botanical-printing-6/2025-01-26/
LOCATION:DIY DEPARTEMENT\, Karl Liebknecht Strasse 13\, 04107
CATEGORIES:Offene Kurse
ATTACH;FMTTYPE=image/jpeg:https://flamingocat.de/wp-content/uploads/2024/01/DSC3393.jpg
END:VEVENT
BEGIN:VEVENT
DTSTART;TZID=Europe/Berlin:20250126T110000
DTEND;TZID=Europe/Berlin:20250126T140000
DTSTAMP:20260422T130227
CREATED:20230128T115718Z
LAST-MODIFIED:20260412T192005Z
UID:10001575-1737889200-1737900000@flamingocat.de
SUMMARY:Offener Naturkosmetik Workshop
DESCRIPTION:Mit diesem Workshop kannst du ab sofort deine Haut zum Strahlen bringen. Gemeinsam kreiren wir glitzernde Badeperlen\, betörende Düfte oder natürliche Peelings\, die man sogar Naschen kann. Yummy! Digitalwaage\, Pipette und Spatel liegen schon bereit. Ab jetzt darf fleissig gerührt werden.Wir erklären dir die Grundlagen und servieren obendrauf praktische Tipps mit denen du auch im Anschluss an unseren Workshops weiterarbeiten kannst.
URL:https://flamingocat.de/event/test-naturkosmetik-workshop/2025-01-26/
CATEGORIES:Offene Kurse
ATTACH;FMTTYPE=image/jpeg:https://flamingocat.de/wp-content/uploads/2022/12/Badewannenkugeln-Badebomben-DIY-Naturkosmetik-Workshop-natuerliche-Beautyprodukte-Zutaten-handmade-FLAMINGOCAT.jpg
END:VEVENT
BEGIN:VEVENT
DTSTART;TZID=Europe/Berlin:20250202T110000
DTEND;TZID=Europe/Berlin:20250202T140000
DTSTAMP:20260422T130227
CREATED:20230501T092756Z
LAST-MODIFIED:20260412T193638Z
UID:10001566-1738494000-1738504800@flamingocat.de
SUMMARY:Punch Needeling
DESCRIPTION:
URL:https://flamingocat.de/event/punch-needeling-2023/2025-02-02/
CATEGORIES:Offene Kurse
ATTACH;FMTTYPE=image/jpeg:https://flamingocat.de/wp-content/uploads/2023/04/Punch-Needling-9-scaled.jpg
END:VEVENT
BEGIN:VEVENT
DTSTART;TZID=Europe/Berlin:20250202T110000
DTEND;TZID=Europe/Berlin:20250202T140000
DTSTAMP:20260422T130227
CREATED:20240207T101617Z
LAST-MODIFIED:20260413T065910Z
UID:10001579-1738494000-1738504800@flamingocat.de
SUMMARY:Textured Art
DESCRIPTION:Mit diesem Workshop bringen wir Struktur in deinen Alltag und hauchen der schnöden Spachtelmasse frischen Wind ein. Wenn du keine Scheu hast dir die Hände schmutzig zu machen und grafische Designs liebst\, bist du hier genau richtig!
URL:https://flamingocat.de/event/textured-art/2025-02-02/
CATEGORIES:Offene Kurse
ATTACH;FMTTYPE=image/jpeg:https://flamingocat.de/wp-content/uploads/2026/02/Spachtelmasse-Workshop-Leipzig-Textured-Art.jpg
ORGANIZER;CN="FLAMINGOCAT":MAILTO:info@flamingocat.de
END:VEVENT
BEGIN:VEVENT
DTSTART;TZID=Europe/Berlin:20250209T110000
DTEND;TZID=Europe/Berlin:20250209T140000
DTSTAMP:20260422T130227
CREATED:20210117T114808Z
LAST-MODIFIED:20260412T202612Z
UID:10001646-1739098800-1739109600@flamingocat.de
SUMMARY:Offener Trockenblumenkranz Workshop
DESCRIPTION:You better watch out! In diesem Jahr begrüßen wir die neue Jahreszeit mit einem selbstgebundenen Blumenkranz. Mit getrockneten Zweigen\, Blüten\, Federn und und allerlei schönen Materialien verpassen wir deinem Türkranz ein skandinavisches Make-Over.
URL:https://flamingocat.de/event/online-workshop-osterkranz/2025-02-09/
CATEGORIES:Offene Kurse
ATTACH;FMTTYPE=image/jpeg:https://flamingocat.de/wp-content/uploads/2023/01/DIY-Trockenblumenkranz-Fruehling-2.jpg
END:VEVENT
BEGIN:VEVENT
DTSTART;TZID=Europe/Berlin:20250209T110000
DTEND;TZID=Europe/Berlin:20250209T140000
DTSTAMP:20260422T130227
CREATED:20230616T201428Z
LAST-MODIFIED:20260412T081737Z
UID:10001674-1739098800-1739109600@flamingocat.de
SUMMARY:Offener Aquarell Workshop
DESCRIPTION:Ready for some summer vibes? In unserem neusten Workshop wird es jetzt blumig! Gemeinsam schwingen wir die Pinsel und zeigen euch in unserem Aquarell Workshop die wichtigsten Techniken und besten Tricks rund um die beliebten Wasserfarben. Ihr zeichnet Blumen\, Pflanzen und bunte Blüten und nehmt am Ende unseres 3-stündigen Kurses eure eigenen Aquarell-Blumensträuße und Kränze mit nachhause.
URL:https://flamingocat.de/event/offener-aquarell-workshop-13/2025-02-09/
CATEGORIES:Offene Kurse
ATTACH;FMTTYPE=image/jpeg:https://flamingocat.de/wp-content/uploads/2023/08/aquarell-watercoloring-watercolor-workshop-leipzig-wasserfarben-malen-lernen-7-scaled.jpg
END:VEVENT
BEGIN:VEVENT
DTSTART;TZID=Europe/Berlin:20250209T110000
DTEND;TZID=Europe/Berlin:20250209T140000
DTSTAMP:20260422T130227
CREATED:20260412T095612Z
LAST-MODIFIED:20260412T095827Z
UID:10001743-1739098800-1739109600@flamingocat.de
SUMMARY:Moosbild gestalten - Offener Workshop
DESCRIPTION:Wir holen uns die Natur ins Wohnzimmer. Sag Tschüss zu Poster Einheitsbrei und nackten Wänden\, denn in diesem Workshop zaubern wir deinen ganz persönlichen #urbanjungle. Wir zeigen dir\, wie du verschiedene Hölzer\, Rinde oder Steine zu einem echten Kunstwerk anordnest. Egal ob Bastel-Beginner oder ein Crafting-Profi bist\, dieser Workshop ist für alle geeignet!
URL:https://flamingocat.de/event/moosbild-gestalten-offener-workshop/2025-02-09/
CATEGORIES:Offene Kurse
ATTACH;FMTTYPE=image/jpeg:https://flamingocat.de/wp-content/uploads/2024/12/Kreative-Teamevents-Idee-Leipzig-.jpg
END:VEVENT
BEGIN:VEVENT
DTSTART;TZID=Europe/Berlin:20250216T110000
DTEND;TZID=Europe/Berlin:20250216T140000
DTSTAMP:20260422T130227
CREATED:20220215T152121Z
LAST-MODIFIED:20260412T201331Z
UID:10001574-1739703600-1739714400@flamingocat.de
SUMMARY:Schmuck aus Polymer-Clay
DESCRIPTION:Mit unserem neuen Polymer-Clay-Workshop\, kannst du dir deinen neuen Lieblingsschmuck einfach selber kneten. Du bestimmst Form\, Farbe und Stil selbst und designst die passenden Accessoires für deinen Lieblingslook. Egal ob Statement-Ohrringe\, Ketten oder Ringe : you decide! Obendrauf servieren wir dir noch eine ordentliche Portion Blattgold.
URL:https://flamingocat.de/event/schmuck-aus-polymer-clay/2025-02-16/
CATEGORIES:Offene Kurse
ATTACH;FMTTYPE=image/jpeg:https://flamingocat.de/wp-content/uploads/2022/12/Schmuck-Workshop-Schmuck-aus-Ofen-Clay-Flamingocat-Leipzig-5.jpg
END:VEVENT
BEGIN:VEVENT
DTSTART;TZID=Europe/Berlin:20250223T110000
DTEND;TZID=Europe/Berlin:20250223T140000
DTSTAMP:20260422T130227
CREATED:20200813T131847Z
LAST-MODIFIED:20260412T084014Z
UID:10001584-1740308400-1740319200@flamingocat.de
SUMMARY:Botanical Printing
DESCRIPTION:You better believe the hype! Dank Pinterest und Co. sind grafische Prints und botanische Drucke ein absolutes Must-Have für deine 4 Wände. Egal ob große Monstera-Blätter oder geometrische Figuren – in unserem Linoldruck-Workshop bringen wir ordentlich Farbe aufs Papier.Gemeinsam erarbeiten wir dein neues Lieblingsmotiv.
URL:https://flamingocat.de/event/botanical-printing-6/2025-02-23/
LOCATION:DIY DEPARTEMENT\, Karl Liebknecht Strasse 13\, 04107
CATEGORIES:Offene Kurse
ATTACH;FMTTYPE=image/jpeg:https://flamingocat.de/wp-content/uploads/2024/01/DSC3393.jpg
END:VEVENT
BEGIN:VEVENT
DTSTART;TZID=Europe/Berlin:20250223T110000
DTEND;TZID=Europe/Berlin:20250223T140000
DTSTAMP:20260422T130227
CREATED:20240822T071933Z
LAST-MODIFIED:20250221T162046Z
UID:10001590-1740308400-1740319200@flamingocat.de
SUMMARY:Offener Workshop - Häkeln lernen
DESCRIPTION:Wir lassen deine Häkelnadeln glühen! In unserem Workshop entdecken wir Omas Lieblingsbeschäftigung nämlich komplett neu! Topflappen und Klopapier-Häubchen – Ade! Wir nutzen die schicken Schlaufen für stylische Accessoires und praktische Alltagshelfer. Egal ob Handtasche oder Sortier-Körbchen. You can do it all! Damit´s bei dir auch wie am Schnürchen läuft starten wir unseren Kurs mit einem Einstieg in die wichtigsten Grundtechniken. Keine Sorge\, die Basics hast du schnell gelernt und kannst mit unsere Hilfe auch direkt in dein erstes eigenes Häkelprojekt starten. Nadeln\, Scheren und Wolle in verschieden Farben halten wir selbstverständlich für dich bereit. Alles was du brauchst sind bunte Ideen für dein erstes Häkel-DIY!
URL:https://flamingocat.de/event/offener-workshop-haekeln-lernen/2025-02-23/
CATEGORIES:Offene Kurse
ATTACH;FMTTYPE=image/jpeg:https://flamingocat.de/wp-content/uploads/2024/08/Kreativ-Workshop-Leipzig-Haekeln-fuer-Einsteiger.jpg
END:VEVENT
BEGIN:VEVENT
DTSTART;TZID=Europe/Berlin:20250302T110000
DTEND;TZID=Europe/Berlin:20250302T140000
DTSTAMP:20260422T130227
CREATED:20230118T101731Z
LAST-MODIFIED:20260412T204856Z
UID:10001586-1740913200-1740924000@flamingocat.de
SUMMARY:Offener Terrazzo Deko Workshop
DESCRIPTION:Schon die alten Römer liebten Bodenbelege mit farbigen Sprenkeln.\nNun feiert das antike Design ein echtes Revival. Die römische Terrazzo-Optik\nist der Design-Trend des Jahres. Egal ob Schalen\, Blumentöpfe oder Kerzenständer –\nwir streuseln uns die Welt\, wie sie uns gefällt. In unserem 3-stündigen Workshop gestaltest du aus einem umweltfreundlichen\, gips-ähnlichen Verbundwerkstoff deine individuellen Home-Accessoires.
URL:https://flamingocat.de/event/offener-terrazzo-deko-workshop/2025-03-02/
CATEGORIES:Offene Kurse
ATTACH;FMTTYPE=image/jpeg:https://flamingocat.de/wp-content/uploads/2023/01/Terrazzo-Schalen-Workshop-Flamingocat-Leipzig-8-1.jpg
END:VEVENT
END:VCALENDAR