BEGIN:VCALENDAR
VERSION:2.0
PRODID:-//Flamingocat - ECPv6.15.20//NONSGML v1.0//EN
CALSCALE:GREGORIAN
METHOD:PUBLISH
X-ORIGINAL-URL:https://flamingocat.de
X-WR-CALDESC:Veranstaltungen für Flamingocat
REFRESH-INTERVAL;VALUE=DURATION:PT1H
X-Robots-Tag:noindex
X-PUBLISHED-TTL:PT1H
BEGIN:VTIMEZONE
TZID:Europe/Berlin
BEGIN:DAYLIGHT
TZOFFSETFROM:+0100
TZOFFSETTO:+0200
TZNAME:CEST
DTSTART:20210328T010000
END:DAYLIGHT
BEGIN:STANDARD
TZOFFSETFROM:+0200
TZOFFSETTO:+0100
TZNAME:CET
DTSTART:20211031T010000
END:STANDARD
BEGIN:DAYLIGHT
TZOFFSETFROM:+0100
TZOFFSETTO:+0200
TZNAME:CEST
DTSTART:20220327T010000
END:DAYLIGHT
BEGIN:STANDARD
TZOFFSETFROM:+0200
TZOFFSETTO:+0100
TZNAME:CET
DTSTART:20221030T010000
END:STANDARD
BEGIN:DAYLIGHT
TZOFFSETFROM:+0100
TZOFFSETTO:+0200
TZNAME:CEST
DTSTART:20230326T010000
END:DAYLIGHT
BEGIN:STANDARD
TZOFFSETFROM:+0200
TZOFFSETTO:+0100
TZNAME:CET
DTSTART:20231029T010000
END:STANDARD
BEGIN:DAYLIGHT
TZOFFSETFROM:+0100
TZOFFSETTO:+0200
TZNAME:CEST
DTSTART:20240331T010000
END:DAYLIGHT
BEGIN:STANDARD
TZOFFSETFROM:+0200
TZOFFSETTO:+0100
TZNAME:CET
DTSTART:20241027T010000
END:STANDARD
END:VTIMEZONE
BEGIN:VEVENT
DTSTART;TZID=Europe/Berlin:20221126T100000
DTEND;TZID=Europe/Berlin:20221126T120000
DTSTAMP:20260423T214146
CREATED:20190821T152824Z
LAST-MODIFIED:20190821T152824Z
UID:10000797-1669456800-1669464000@flamingocat.de
SUMMARY:offener Adventskranz-Workshop
DESCRIPTION:You better watch out! In diesem Jahr begrüßen wir die Weihnachtszeit mit einem selbstgebundenen Adventskranz. Mit Eukalytus\, bunten Seidenbändern und allerlei schönen Materialien verpassen wir dem Kranz ein angesagtes skandinavisches Make-Over. Und damit ihr richtig in Weihnachtsstimmung kommt\, servieren wir euch nebenbei noch dampfenden Glühwein…
URL:https://flamingocat.de/event/offener-adventskranz-workshop-9/2022-11-26/1/
LOCATION:FLAMINGOCAT\, Kurt Eisner Strasse 17\, Leipzig\, 04275
CATEGORIES:Offene Kurse
ATTACH;FMTTYPE=image/jpeg:https://flamingocat.de/wp-content/uploads/2022/12/DIY-Adventskranz-im-Greenery-Style-Flamingocat-Leipzig-43.jpg
END:VEVENT
BEGIN:VEVENT
DTSTART;TZID=Europe/Berlin:20221126T100000
DTEND;TZID=Europe/Berlin:20221126T120000
DTSTAMP:20260423T214146
CREATED:20190821T152824Z
LAST-MODIFIED:20190821T152824Z
UID:10000845-1669456800-1669464000@flamingocat.de
SUMMARY:offener Adventskranz-Workshop
DESCRIPTION:You better watch out! In diesem Jahr begrüßen wir die Weihnachtszeit mit einem selbstgebundenen Adventskranz. Mit Eukalytus\, bunten Seidenbändern und allerlei schönen Materialien verpassen wir dem Kranz ein angesagtes skandinavisches Make-Over. Und damit ihr richtig in Weihnachtsstimmung kommt\, servieren wir euch nebenbei noch dampfenden Glühwein…
URL:https://flamingocat.de/event/offener-adventskranz-workshop-9/2022-11-26/1/
LOCATION:FLAMINGOCAT\, Kurt Eisner Strasse 17\, Leipzig\, 04275
CATEGORIES:Offene Kurse
ATTACH;FMTTYPE=image/jpeg:https://flamingocat.de/wp-content/uploads/2022/12/DIY-Adventskranz-im-Greenery-Style-Flamingocat-Leipzig-43.jpg
END:VEVENT
BEGIN:VEVENT
DTSTART;TZID=Europe/Berlin:20221126T140000
DTEND;TZID=Europe/Berlin:20221126T170000
DTSTAMP:20260423T214146
CREATED:20190821T152824Z
LAST-MODIFIED:20190821T152824Z
UID:10000917-1669471200-1669482000@flamingocat.de
SUMMARY:offener Adventskranz-Workshop
DESCRIPTION:You better watch out! In diesem Jahr begrüßen wir die Weihnachtszeit mit einem selbstgebundenen Adventskranz. Mit Eukalytus\, bunten Seidenbändern und allerlei schönen Materialien verpassen wir dem Kranz ein angesagtes skandinavisches Make-Over. Und damit ihr richtig in Weihnachtsstimmung kommt\, servieren wir euch nebenbei noch dampfenden Glühwein…
URL:https://flamingocat.de/event/offener-adventskranz-workshop-9/2022-11-26/2/
LOCATION:FLAMINGOCAT\, Kurt Eisner Strasse 17\, Leipzig\, 04275
CATEGORIES:Offene Kurse
ATTACH;FMTTYPE=image/jpeg:https://flamingocat.de/wp-content/uploads/2022/12/DIY-Adventskranz-im-Greenery-Style-Flamingocat-Leipzig-43.jpg
END:VEVENT
BEGIN:VEVENT
DTSTART;TZID=Europe/Berlin:20221126T140000
DTEND;TZID=Europe/Berlin:20221126T170000
DTSTAMP:20260423T214146
CREATED:20190821T152824Z
LAST-MODIFIED:20190821T152824Z
UID:10000965-1669471200-1669482000@flamingocat.de
SUMMARY:offener Adventskranz-Workshop
DESCRIPTION:You better watch out! In diesem Jahr begrüßen wir die Weihnachtszeit mit einem selbstgebundenen Adventskranz. Mit Eukalytus\, bunten Seidenbändern und allerlei schönen Materialien verpassen wir dem Kranz ein angesagtes skandinavisches Make-Over. Und damit ihr richtig in Weihnachtsstimmung kommt\, servieren wir euch nebenbei noch dampfenden Glühwein…
URL:https://flamingocat.de/event/offener-adventskranz-workshop-9/2022-11-26/2/
LOCATION:FLAMINGOCAT\, Kurt Eisner Strasse 17\, Leipzig\, 04275
CATEGORIES:Offene Kurse
ATTACH;FMTTYPE=image/jpeg:https://flamingocat.de/wp-content/uploads/2022/12/DIY-Adventskranz-im-Greenery-Style-Flamingocat-Leipzig-43.jpg
END:VEVENT
BEGIN:VEVENT
DTSTART;TZID=Europe/Berlin:20221126T140000
DTEND;TZID=Europe/Berlin:20221126T170000
DTSTAMP:20260423T214146
CREATED:20190821T152824Z
LAST-MODIFIED:20190821T152824Z
UID:10000774-1669471200-1669482000@flamingocat.de
SUMMARY:offener Adventskranz-Workshop
DESCRIPTION:You better watch out! In diesem Jahr begrüßen wir die Weihnachtszeit mit einem selbstgebundenen Adventskranz. Mit Eukalytus\, bunten Seidenbändern und allerlei schönen Materialien verpassen wir dem Kranz ein angesagtes skandinavisches Make-Over. Und damit ihr richtig in Weihnachtsstimmung kommt\, servieren wir euch nebenbei noch dampfenden Glühwein…
URL:https://flamingocat.de/event/offener-adventskranz-workshop-9/2022-11-26/2/
LOCATION:FLAMINGOCAT\, Kurt Eisner Strasse 17\, Leipzig\, 04275
CATEGORIES:Offene Kurse
ATTACH;FMTTYPE=image/jpeg:https://flamingocat.de/wp-content/uploads/2022/12/DIY-Adventskranz-im-Greenery-Style-Flamingocat-Leipzig-43.jpg
END:VEVENT
BEGIN:VEVENT
DTSTART;TZID=Europe/Berlin:20221126T140000
DTEND;TZID=Europe/Berlin:20221126T170000
DTSTAMP:20260423T214146
CREATED:20190821T152824Z
LAST-MODIFIED:20190821T152824Z
UID:10000822-1669471200-1669482000@flamingocat.de
SUMMARY:offener Adventskranz-Workshop
DESCRIPTION:You better watch out! In diesem Jahr begrüßen wir die Weihnachtszeit mit einem selbstgebundenen Adventskranz. Mit Eukalytus\, bunten Seidenbändern und allerlei schönen Materialien verpassen wir dem Kranz ein angesagtes skandinavisches Make-Over. Und damit ihr richtig in Weihnachtsstimmung kommt\, servieren wir euch nebenbei noch dampfenden Glühwein…
URL:https://flamingocat.de/event/offener-adventskranz-workshop-9/2022-11-26/2/
LOCATION:FLAMINGOCAT\, Kurt Eisner Strasse 17\, Leipzig\, 04275
CATEGORIES:Offene Kurse
ATTACH;FMTTYPE=image/jpeg:https://flamingocat.de/wp-content/uploads/2022/12/DIY-Adventskranz-im-Greenery-Style-Flamingocat-Leipzig-43.jpg
END:VEVENT
BEGIN:VEVENT
DTSTART;TZID=Europe/Berlin:20221126T140000
DTEND;TZID=Europe/Berlin:20221126T170000
DTSTAMP:20260423T214146
CREATED:20190821T152824Z
LAST-MODIFIED:20190821T152824Z
UID:10000870-1669471200-1669482000@flamingocat.de
SUMMARY:offener Adventskranz-Workshop
DESCRIPTION:You better watch out! In diesem Jahr begrüßen wir die Weihnachtszeit mit einem selbstgebundenen Adventskranz. Mit Eukalytus\, bunten Seidenbändern und allerlei schönen Materialien verpassen wir dem Kranz ein angesagtes skandinavisches Make-Over. Und damit ihr richtig in Weihnachtsstimmung kommt\, servieren wir euch nebenbei noch dampfenden Glühwein…
URL:https://flamingocat.de/event/offener-adventskranz-workshop-9/2022-11-26/2/
LOCATION:FLAMINGOCAT\, Kurt Eisner Strasse 17\, Leipzig\, 04275
CATEGORIES:Offene Kurse
ATTACH;FMTTYPE=image/jpeg:https://flamingocat.de/wp-content/uploads/2022/12/DIY-Adventskranz-im-Greenery-Style-Flamingocat-Leipzig-43.jpg
END:VEVENT
BEGIN:VEVENT
DTSTART;TZID=Europe/Berlin:20221126T140000
DTEND;TZID=Europe/Berlin:20221126T170000
DTSTAMP:20260423T214146
CREATED:20190821T152824Z
LAST-MODIFIED:20190821T152824Z
UID:10000727-1669471200-1669482000@flamingocat.de
SUMMARY:offener Adventskranz-Workshop
DESCRIPTION:You better watch out! In diesem Jahr begrüßen wir die Weihnachtszeit mit einem selbstgebundenen Adventskranz. Mit Eukalytus\, bunten Seidenbändern und allerlei schönen Materialien verpassen wir dem Kranz ein angesagtes skandinavisches Make-Over. Und damit ihr richtig in Weihnachtsstimmung kommt\, servieren wir euch nebenbei noch dampfenden Glühwein…
URL:https://flamingocat.de/event/offener-adventskranz-workshop-9/2022-11-26/2/
LOCATION:FLAMINGOCAT\, Kurt Eisner Strasse 17\, Leipzig\, 04275
CATEGORIES:Offene Kurse
ATTACH;FMTTYPE=image/jpeg:https://flamingocat.de/wp-content/uploads/2022/12/DIY-Adventskranz-im-Greenery-Style-Flamingocat-Leipzig-43.jpg
END:VEVENT
BEGIN:VEVENT
DTSTART;TZID=Europe/Berlin:20221126T140000
DTEND;TZID=Europe/Berlin:20221126T170000
DTSTAMP:20260423T214146
CREATED:20190821T152824Z
LAST-MODIFIED:20190821T152824Z
UID:10000893-1669471200-1669482000@flamingocat.de
SUMMARY:offener Adventskranz-Workshop
DESCRIPTION:You better watch out! In diesem Jahr begrüßen wir die Weihnachtszeit mit einem selbstgebundenen Adventskranz. Mit Eukalytus\, bunten Seidenbändern und allerlei schönen Materialien verpassen wir dem Kranz ein angesagtes skandinavisches Make-Over. Und damit ihr richtig in Weihnachtsstimmung kommt\, servieren wir euch nebenbei noch dampfenden Glühwein…
URL:https://flamingocat.de/event/offener-adventskranz-workshop-9/2022-11-26/2/
LOCATION:FLAMINGOCAT\, Kurt Eisner Strasse 17\, Leipzig\, 04275
CATEGORIES:Offene Kurse
ATTACH;FMTTYPE=image/jpeg:https://flamingocat.de/wp-content/uploads/2022/12/DIY-Adventskranz-im-Greenery-Style-Flamingocat-Leipzig-43.jpg
END:VEVENT
BEGIN:VEVENT
DTSTART;TZID=Europe/Berlin:20221126T140000
DTEND;TZID=Europe/Berlin:20221126T170000
DTSTAMP:20260423T214146
CREATED:20190821T152824Z
LAST-MODIFIED:20190821T152824Z
UID:10000941-1669471200-1669482000@flamingocat.de
SUMMARY:offener Adventskranz-Workshop
DESCRIPTION:You better watch out! In diesem Jahr begrüßen wir die Weihnachtszeit mit einem selbstgebundenen Adventskranz. Mit Eukalytus\, bunten Seidenbändern und allerlei schönen Materialien verpassen wir dem Kranz ein angesagtes skandinavisches Make-Over. Und damit ihr richtig in Weihnachtsstimmung kommt\, servieren wir euch nebenbei noch dampfenden Glühwein…
URL:https://flamingocat.de/event/offener-adventskranz-workshop-9/2022-11-26/2/
LOCATION:FLAMINGOCAT\, Kurt Eisner Strasse 17\, Leipzig\, 04275
CATEGORIES:Offene Kurse
ATTACH;FMTTYPE=image/jpeg:https://flamingocat.de/wp-content/uploads/2022/12/DIY-Adventskranz-im-Greenery-Style-Flamingocat-Leipzig-43.jpg
END:VEVENT
BEGIN:VEVENT
DTSTART;TZID=Europe/Berlin:20221126T140000
DTEND;TZID=Europe/Berlin:20221126T170000
DTSTAMP:20260423T214146
CREATED:20190821T152824Z
LAST-MODIFIED:20190821T152824Z
UID:10000989-1669471200-1669482000@flamingocat.de
SUMMARY:offener Adventskranz-Workshop
DESCRIPTION:You better watch out! In diesem Jahr begrüßen wir die Weihnachtszeit mit einem selbstgebundenen Adventskranz. Mit Eukalytus\, bunten Seidenbändern und allerlei schönen Materialien verpassen wir dem Kranz ein angesagtes skandinavisches Make-Over. Und damit ihr richtig in Weihnachtsstimmung kommt\, servieren wir euch nebenbei noch dampfenden Glühwein…
URL:https://flamingocat.de/event/offener-adventskranz-workshop-9/2022-11-26/2/
LOCATION:FLAMINGOCAT\, Kurt Eisner Strasse 17\, Leipzig\, 04275
CATEGORIES:Offene Kurse
ATTACH;FMTTYPE=image/jpeg:https://flamingocat.de/wp-content/uploads/2022/12/DIY-Adventskranz-im-Greenery-Style-Flamingocat-Leipzig-43.jpg
END:VEVENT
BEGIN:VEVENT
DTSTART;TZID=Europe/Berlin:20221126T140000
DTEND;TZID=Europe/Berlin:20221126T170000
DTSTAMP:20260423T214146
CREATED:20190821T152824Z
LAST-MODIFIED:20190821T152824Z
UID:10000750-1669471200-1669482000@flamingocat.de
SUMMARY:offener Adventskranz-Workshop
DESCRIPTION:You better watch out! In diesem Jahr begrüßen wir die Weihnachtszeit mit einem selbstgebundenen Adventskranz. Mit Eukalytus\, bunten Seidenbändern und allerlei schönen Materialien verpassen wir dem Kranz ein angesagtes skandinavisches Make-Over. Und damit ihr richtig in Weihnachtsstimmung kommt\, servieren wir euch nebenbei noch dampfenden Glühwein…
URL:https://flamingocat.de/event/offener-adventskranz-workshop-9/2022-11-26/2/
LOCATION:FLAMINGOCAT\, Kurt Eisner Strasse 17\, Leipzig\, 04275
CATEGORIES:Offene Kurse
ATTACH;FMTTYPE=image/jpeg:https://flamingocat.de/wp-content/uploads/2022/12/DIY-Adventskranz-im-Greenery-Style-Flamingocat-Leipzig-43.jpg
END:VEVENT
BEGIN:VEVENT
DTSTART;TZID=Europe/Berlin:20221126T140000
DTEND;TZID=Europe/Berlin:20221126T170000
DTSTAMP:20260423T214146
CREATED:20190821T152824Z
LAST-MODIFIED:20190821T152824Z
UID:10000798-1669471200-1669482000@flamingocat.de
SUMMARY:offener Adventskranz-Workshop
DESCRIPTION:You better watch out! In diesem Jahr begrüßen wir die Weihnachtszeit mit einem selbstgebundenen Adventskranz. Mit Eukalytus\, bunten Seidenbändern und allerlei schönen Materialien verpassen wir dem Kranz ein angesagtes skandinavisches Make-Over. Und damit ihr richtig in Weihnachtsstimmung kommt\, servieren wir euch nebenbei noch dampfenden Glühwein…
URL:https://flamingocat.de/event/offener-adventskranz-workshop-9/2022-11-26/2/
LOCATION:FLAMINGOCAT\, Kurt Eisner Strasse 17\, Leipzig\, 04275
CATEGORIES:Offene Kurse
ATTACH;FMTTYPE=image/jpeg:https://flamingocat.de/wp-content/uploads/2022/12/DIY-Adventskranz-im-Greenery-Style-Flamingocat-Leipzig-43.jpg
END:VEVENT
BEGIN:VEVENT
DTSTART;TZID=Europe/Berlin:20221126T140000
DTEND;TZID=Europe/Berlin:20221126T170000
DTSTAMP:20260423T214146
CREATED:20190821T152824Z
LAST-MODIFIED:20190821T152824Z
UID:10000846-1669471200-1669482000@flamingocat.de
SUMMARY:offener Adventskranz-Workshop
DESCRIPTION:You better watch out! In diesem Jahr begrüßen wir die Weihnachtszeit mit einem selbstgebundenen Adventskranz. Mit Eukalytus\, bunten Seidenbändern und allerlei schönen Materialien verpassen wir dem Kranz ein angesagtes skandinavisches Make-Over. Und damit ihr richtig in Weihnachtsstimmung kommt\, servieren wir euch nebenbei noch dampfenden Glühwein…
URL:https://flamingocat.de/event/offener-adventskranz-workshop-9/2022-11-26/2/
LOCATION:FLAMINGOCAT\, Kurt Eisner Strasse 17\, Leipzig\, 04275
CATEGORIES:Offene Kurse
ATTACH;FMTTYPE=image/jpeg:https://flamingocat.de/wp-content/uploads/2022/12/DIY-Adventskranz-im-Greenery-Style-Flamingocat-Leipzig-43.jpg
END:VEVENT
BEGIN:VEVENT
DTSTART;TZID=Europe/Berlin:20221127T100000
DTEND;TZID=Europe/Berlin:20221127T120000
DTSTAMP:20260423T214146
CREATED:20190821T152824Z
LAST-MODIFIED:20190821T152824Z
UID:10000751-1669543200-1669550400@flamingocat.de
SUMMARY:offener Adventskranz-Workshop
DESCRIPTION:You better watch out! In diesem Jahr begrüßen wir die Weihnachtszeit mit einem selbstgebundenen Adventskranz. Mit Eukalytus\, bunten Seidenbändern und allerlei schönen Materialien verpassen wir dem Kranz ein angesagtes skandinavisches Make-Over. Und damit ihr richtig in Weihnachtsstimmung kommt\, servieren wir euch nebenbei noch dampfenden Glühwein…
URL:https://flamingocat.de/event/offener-adventskranz-workshop-9/2022-11-27/
LOCATION:FLAMINGOCAT\, Kurt Eisner Strasse 17\, Leipzig\, 04275
CATEGORIES:Offene Kurse
ATTACH;FMTTYPE=image/jpeg:https://flamingocat.de/wp-content/uploads/2022/12/DIY-Adventskranz-im-Greenery-Style-Flamingocat-Leipzig-43.jpg
END:VEVENT
BEGIN:VEVENT
DTSTART;TZID=Europe/Berlin:20221127T100000
DTEND;TZID=Europe/Berlin:20221127T120000
DTSTAMP:20260423T214146
CREATED:20190821T152824Z
LAST-MODIFIED:20190821T152824Z
UID:10000799-1669543200-1669550400@flamingocat.de
SUMMARY:offener Adventskranz-Workshop
DESCRIPTION:You better watch out! In diesem Jahr begrüßen wir die Weihnachtszeit mit einem selbstgebundenen Adventskranz. Mit Eukalytus\, bunten Seidenbändern und allerlei schönen Materialien verpassen wir dem Kranz ein angesagtes skandinavisches Make-Over. Und damit ihr richtig in Weihnachtsstimmung kommt\, servieren wir euch nebenbei noch dampfenden Glühwein…
URL:https://flamingocat.de/event/offener-adventskranz-workshop-9/2022-11-27/
LOCATION:FLAMINGOCAT\, Kurt Eisner Strasse 17\, Leipzig\, 04275
CATEGORIES:Offene Kurse
ATTACH;FMTTYPE=image/jpeg:https://flamingocat.de/wp-content/uploads/2022/12/DIY-Adventskranz-im-Greenery-Style-Flamingocat-Leipzig-43.jpg
END:VEVENT
BEGIN:VEVENT
DTSTART;TZID=Europe/Berlin:20221127T100000
DTEND;TZID=Europe/Berlin:20221127T120000
DTSTAMP:20260423T214146
CREATED:20190821T152824Z
LAST-MODIFIED:20190821T152824Z
UID:10000847-1669543200-1669550400@flamingocat.de
SUMMARY:offener Adventskranz-Workshop
DESCRIPTION:You better watch out! In diesem Jahr begrüßen wir die Weihnachtszeit mit einem selbstgebundenen Adventskranz. Mit Eukalytus\, bunten Seidenbändern und allerlei schönen Materialien verpassen wir dem Kranz ein angesagtes skandinavisches Make-Over. Und damit ihr richtig in Weihnachtsstimmung kommt\, servieren wir euch nebenbei noch dampfenden Glühwein…
URL:https://flamingocat.de/event/offener-adventskranz-workshop-9/2022-11-27/
LOCATION:FLAMINGOCAT\, Kurt Eisner Strasse 17\, Leipzig\, 04275
CATEGORIES:Offene Kurse
ATTACH;FMTTYPE=image/jpeg:https://flamingocat.de/wp-content/uploads/2022/12/DIY-Adventskranz-im-Greenery-Style-Flamingocat-Leipzig-43.jpg
END:VEVENT
BEGIN:VEVENT
DTSTART;TZID=Europe/Berlin:20221127T100000
DTEND;TZID=Europe/Berlin:20221127T120000
DTSTAMP:20260423T214146
CREATED:20190821T152824Z
LAST-MODIFIED:20190821T152824Z
UID:10000918-1669543200-1669550400@flamingocat.de
SUMMARY:offener Adventskranz-Workshop
DESCRIPTION:You better watch out! In diesem Jahr begrüßen wir die Weihnachtszeit mit einem selbstgebundenen Adventskranz. Mit Eukalytus\, bunten Seidenbändern und allerlei schönen Materialien verpassen wir dem Kranz ein angesagtes skandinavisches Make-Over. Und damit ihr richtig in Weihnachtsstimmung kommt\, servieren wir euch nebenbei noch dampfenden Glühwein…
URL:https://flamingocat.de/event/offener-adventskranz-workshop-9/2022-11-27/3/
LOCATION:FLAMINGOCAT\, Kurt Eisner Strasse 17\, Leipzig\, 04275
CATEGORIES:Offene Kurse
ATTACH;FMTTYPE=image/jpeg:https://flamingocat.de/wp-content/uploads/2022/12/DIY-Adventskranz-im-Greenery-Style-Flamingocat-Leipzig-43.jpg
END:VEVENT
BEGIN:VEVENT
DTSTART;TZID=Europe/Berlin:20221127T100000
DTEND;TZID=Europe/Berlin:20221127T120000
DTSTAMP:20260423T214146
CREATED:20190821T152824Z
LAST-MODIFIED:20190821T152824Z
UID:10000966-1669543200-1669550400@flamingocat.de
SUMMARY:offener Adventskranz-Workshop
DESCRIPTION:You better watch out! In diesem Jahr begrüßen wir die Weihnachtszeit mit einem selbstgebundenen Adventskranz. Mit Eukalytus\, bunten Seidenbändern und allerlei schönen Materialien verpassen wir dem Kranz ein angesagtes skandinavisches Make-Over. Und damit ihr richtig in Weihnachtsstimmung kommt\, servieren wir euch nebenbei noch dampfenden Glühwein…
URL:https://flamingocat.de/event/offener-adventskranz-workshop-9/2022-11-27/3/
LOCATION:FLAMINGOCAT\, Kurt Eisner Strasse 17\, Leipzig\, 04275
CATEGORIES:Offene Kurse
ATTACH;FMTTYPE=image/jpeg:https://flamingocat.de/wp-content/uploads/2022/12/DIY-Adventskranz-im-Greenery-Style-Flamingocat-Leipzig-43.jpg
END:VEVENT
BEGIN:VEVENT
DTSTART;TZID=Europe/Berlin:20221127T100000
DTEND;TZID=Europe/Berlin:20221127T120000
DTSTAMP:20260423T214146
CREATED:20190821T152824Z
LAST-MODIFIED:20190821T152824Z
UID:10000775-1669543200-1669550400@flamingocat.de
SUMMARY:offener Adventskranz-Workshop
DESCRIPTION:You better watch out! In diesem Jahr begrüßen wir die Weihnachtszeit mit einem selbstgebundenen Adventskranz. Mit Eukalytus\, bunten Seidenbändern und allerlei schönen Materialien verpassen wir dem Kranz ein angesagtes skandinavisches Make-Over. Und damit ihr richtig in Weihnachtsstimmung kommt\, servieren wir euch nebenbei noch dampfenden Glühwein…
URL:https://flamingocat.de/event/offener-adventskranz-workshop-9/2022-11-27/2/
LOCATION:FLAMINGOCAT\, Kurt Eisner Strasse 17\, Leipzig\, 04275
CATEGORIES:Offene Kurse
ATTACH;FMTTYPE=image/jpeg:https://flamingocat.de/wp-content/uploads/2022/12/DIY-Adventskranz-im-Greenery-Style-Flamingocat-Leipzig-43.jpg
END:VEVENT
BEGIN:VEVENT
DTSTART;TZID=Europe/Berlin:20221127T100000
DTEND;TZID=Europe/Berlin:20221127T120000
DTSTAMP:20260423T214146
CREATED:20190821T152824Z
LAST-MODIFIED:20190821T152824Z
UID:10000823-1669543200-1669550400@flamingocat.de
SUMMARY:offener Adventskranz-Workshop
DESCRIPTION:You better watch out! In diesem Jahr begrüßen wir die Weihnachtszeit mit einem selbstgebundenen Adventskranz. Mit Eukalytus\, bunten Seidenbändern und allerlei schönen Materialien verpassen wir dem Kranz ein angesagtes skandinavisches Make-Over. Und damit ihr richtig in Weihnachtsstimmung kommt\, servieren wir euch nebenbei noch dampfenden Glühwein…
URL:https://flamingocat.de/event/offener-adventskranz-workshop-9/2022-11-27/2/
LOCATION:FLAMINGOCAT\, Kurt Eisner Strasse 17\, Leipzig\, 04275
CATEGORIES:Offene Kurse
ATTACH;FMTTYPE=image/jpeg:https://flamingocat.de/wp-content/uploads/2022/12/DIY-Adventskranz-im-Greenery-Style-Flamingocat-Leipzig-43.jpg
END:VEVENT
BEGIN:VEVENT
DTSTART;TZID=Europe/Berlin:20221127T100000
DTEND;TZID=Europe/Berlin:20221127T120000
DTSTAMP:20260423T214146
CREATED:20190821T152824Z
LAST-MODIFIED:20190821T152824Z
UID:10000871-1669543200-1669550400@flamingocat.de
SUMMARY:offener Adventskranz-Workshop
DESCRIPTION:You better watch out! In diesem Jahr begrüßen wir die Weihnachtszeit mit einem selbstgebundenen Adventskranz. Mit Eukalytus\, bunten Seidenbändern und allerlei schönen Materialien verpassen wir dem Kranz ein angesagtes skandinavisches Make-Over. Und damit ihr richtig in Weihnachtsstimmung kommt\, servieren wir euch nebenbei noch dampfenden Glühwein…
URL:https://flamingocat.de/event/offener-adventskranz-workshop-9/2022-11-27/
LOCATION:FLAMINGOCAT\, Kurt Eisner Strasse 17\, Leipzig\, 04275
CATEGORIES:Offene Kurse
ATTACH;FMTTYPE=image/jpeg:https://flamingocat.de/wp-content/uploads/2022/12/DIY-Adventskranz-im-Greenery-Style-Flamingocat-Leipzig-43.jpg
END:VEVENT
BEGIN:VEVENT
DTSTART;TZID=Europe/Berlin:20221127T100000
DTEND;TZID=Europe/Berlin:20221127T120000
DTSTAMP:20260423T214146
CREATED:20190821T152824Z
LAST-MODIFIED:20190821T152824Z
UID:10000728-1669543200-1669550400@flamingocat.de
SUMMARY:offener Adventskranz-Workshop
DESCRIPTION:You better watch out! In diesem Jahr begrüßen wir die Weihnachtszeit mit einem selbstgebundenen Adventskranz. Mit Eukalytus\, bunten Seidenbändern und allerlei schönen Materialien verpassen wir dem Kranz ein angesagtes skandinavisches Make-Over. Und damit ihr richtig in Weihnachtsstimmung kommt\, servieren wir euch nebenbei noch dampfenden Glühwein…
URL:https://flamingocat.de/event/offener-adventskranz-workshop-9/2022-11-27/
LOCATION:FLAMINGOCAT\, Kurt Eisner Strasse 17\, Leipzig\, 04275
CATEGORIES:Offene Kurse
ATTACH;FMTTYPE=image/jpeg:https://flamingocat.de/wp-content/uploads/2022/12/DIY-Adventskranz-im-Greenery-Style-Flamingocat-Leipzig-43.jpg
END:VEVENT
BEGIN:VEVENT
DTSTART;TZID=Europe/Berlin:20221127T100000
DTEND;TZID=Europe/Berlin:20221127T120000
DTSTAMP:20260423T214146
CREATED:20190821T152824Z
LAST-MODIFIED:20190821T152824Z
UID:10000894-1669543200-1669550400@flamingocat.de
SUMMARY:offener Adventskranz-Workshop
DESCRIPTION:You better watch out! In diesem Jahr begrüßen wir die Weihnachtszeit mit einem selbstgebundenen Adventskranz. Mit Eukalytus\, bunten Seidenbändern und allerlei schönen Materialien verpassen wir dem Kranz ein angesagtes skandinavisches Make-Over. Und damit ihr richtig in Weihnachtsstimmung kommt\, servieren wir euch nebenbei noch dampfenden Glühwein…
URL:https://flamingocat.de/event/offener-adventskranz-workshop-9/2022-11-27/
LOCATION:FLAMINGOCAT\, Kurt Eisner Strasse 17\, Leipzig\, 04275
CATEGORIES:Offene Kurse
ATTACH;FMTTYPE=image/jpeg:https://flamingocat.de/wp-content/uploads/2022/12/DIY-Adventskranz-im-Greenery-Style-Flamingocat-Leipzig-43.jpg
END:VEVENT
BEGIN:VEVENT
DTSTART;TZID=Europe/Berlin:20221127T100000
DTEND;TZID=Europe/Berlin:20221127T120000
DTSTAMP:20260423T214146
CREATED:20190821T152824Z
LAST-MODIFIED:20190821T152824Z
UID:10000942-1669543200-1669550400@flamingocat.de
SUMMARY:offener Adventskranz-Workshop
DESCRIPTION:You better watch out! In diesem Jahr begrüßen wir die Weihnachtszeit mit einem selbstgebundenen Adventskranz. Mit Eukalytus\, bunten Seidenbändern und allerlei schönen Materialien verpassen wir dem Kranz ein angesagtes skandinavisches Make-Over. Und damit ihr richtig in Weihnachtsstimmung kommt\, servieren wir euch nebenbei noch dampfenden Glühwein…
URL:https://flamingocat.de/event/offener-adventskranz-workshop-9/2022-11-27/
LOCATION:FLAMINGOCAT\, Kurt Eisner Strasse 17\, Leipzig\, 04275
CATEGORIES:Offene Kurse
ATTACH;FMTTYPE=image/jpeg:https://flamingocat.de/wp-content/uploads/2022/12/DIY-Adventskranz-im-Greenery-Style-Flamingocat-Leipzig-43.jpg
END:VEVENT
BEGIN:VEVENT
DTSTART;TZID=Europe/Berlin:20221127T100000
DTEND;TZID=Europe/Berlin:20221127T120000
DTSTAMP:20260423T214146
CREATED:20190821T152824Z
LAST-MODIFIED:20190821T152824Z
UID:10000990-1669543200-1669550400@flamingocat.de
SUMMARY:offener Adventskranz-Workshop
DESCRIPTION:You better watch out! In diesem Jahr begrüßen wir die Weihnachtszeit mit einem selbstgebundenen Adventskranz. Mit Eukalytus\, bunten Seidenbändern und allerlei schönen Materialien verpassen wir dem Kranz ein angesagtes skandinavisches Make-Over. Und damit ihr richtig in Weihnachtsstimmung kommt\, servieren wir euch nebenbei noch dampfenden Glühwein…
URL:https://flamingocat.de/event/offener-adventskranz-workshop-9/2022-11-27/
LOCATION:FLAMINGOCAT\, Kurt Eisner Strasse 17\, Leipzig\, 04275
CATEGORIES:Offene Kurse
ATTACH;FMTTYPE=image/jpeg:https://flamingocat.de/wp-content/uploads/2022/12/DIY-Adventskranz-im-Greenery-Style-Flamingocat-Leipzig-43.jpg
END:VEVENT
BEGIN:VEVENT
DTSTART;TZID=Europe/Berlin:20221129T183000
DTEND;TZID=Europe/Berlin:20221129T213000
DTSTAMP:20260423T214146
CREATED:20220215T151233Z
LAST-MODIFIED:20260413T065423Z
UID:10001312-1669746600-1669757400@flamingocat.de
SUMMARY:Sticken für Einsteiger:innen
DESCRIPTION:In unserem neusten Workshop lassen wir die Nadeln glühen. It´s time for botanical embroidery! Mit leuchtenden Garnen und hübschen Stoffen designen wir ein textiles Must-Have für dein zuhause und sticken Blüten\, Blätter und Botanisches auf deinen Stickrahmen. Alle benötigten Materialien sowie ein Gläschen Sekt\, sind wie immer bereits im Preis enthalten
URL:https://flamingocat.de/event/sticken-fuer-einsteigerinnen-praesenz-veranstaltung/2022-11-29/
CATEGORIES:Offene Kurse
ATTACH;FMTTYPE=image/jpeg:https://flamingocat.de/wp-content/uploads/2023/01/Sticken-lernen-in-Leipzig-Flamingocat-5.jpg
END:VEVENT
BEGIN:VEVENT
DTSTART;TZID=Europe/Berlin:20221206T183000
DTEND;TZID=Europe/Berlin:20221206T213000
DTSTAMP:20260423T214146
CREATED:20220215T151233Z
LAST-MODIFIED:20260413T065423Z
UID:10001313-1670351400-1670362200@flamingocat.de
SUMMARY:Sticken für Einsteiger:innen
DESCRIPTION:In unserem neusten Workshop lassen wir die Nadeln glühen. It´s time for botanical embroidery! Mit leuchtenden Garnen und hübschen Stoffen designen wir ein textiles Must-Have für dein zuhause und sticken Blüten\, Blätter und Botanisches auf deinen Stickrahmen. Alle benötigten Materialien sowie ein Gläschen Sekt\, sind wie immer bereits im Preis enthalten
URL:https://flamingocat.de/event/sticken-fuer-einsteigerinnen-praesenz-veranstaltung/2022-12-06/
CATEGORIES:Offene Kurse
ATTACH;FMTTYPE=image/jpeg:https://flamingocat.de/wp-content/uploads/2023/01/Sticken-lernen-in-Leipzig-Flamingocat-5.jpg
END:VEVENT
BEGIN:VEVENT
DTSTART;TZID=Europe/Berlin:20221211T110000
DTEND;TZID=Europe/Berlin:20221211T140000
DTSTAMP:20260423T214146
CREATED:20210420T142814Z
LAST-MODIFIED:20250206T094100Z
UID:10001383-1670756400-1670767200@flamingocat.de
SUMMARY:Offener Trockenblüten-Stickrahmen Workshop
DESCRIPTION:Dieser neuen DIY-Idee sind wir buchstäblich auf den Leim gegangen – Mit bunten Trockenblüten\, Tüll und einer großen Portion Klebstoff zaubern wir florale Träume zum Anfassen. Unsere stylischen Trockenblüten-Stickrahmen sind nämlich nicht nur die ultimative Geschenkidee für jeden Anlass\, sondern auch das perfekte Interior-It-Piece für deine 4-Wände. In unserem 90-minütigen Workshop zeigen wir dir wie du mit etwas Geschick deinen individuellen Letter-Frame gestaltest.
URL:https://flamingocat.de/event/trockenblueten-stickrahmen/2022-12-11/
CATEGORIES:Offene Kurse
ATTACH;FMTTYPE=:
END:VEVENT
BEGIN:VEVENT
DTSTART;TZID=Europe/Berlin:20230110T183000
DTEND;TZID=Europe/Berlin:20230110T213000
DTSTAMP:20260423T214146
CREATED:20220215T151233Z
LAST-MODIFIED:20260413T065423Z
UID:10001314-1673375400-1673386200@flamingocat.de
SUMMARY:Sticken für Einsteiger:innen
DESCRIPTION:In unserem neusten Workshop lassen wir die Nadeln glühen. It´s time for botanical embroidery! Mit leuchtenden Garnen und hübschen Stoffen designen wir ein textiles Must-Have für dein zuhause und sticken Blüten\, Blätter und Botanisches auf deinen Stickrahmen. Alle benötigten Materialien sowie ein Gläschen Sekt\, sind wie immer bereits im Preis enthalten
URL:https://flamingocat.de/event/sticken-fuer-einsteigerinnen-praesenz-veranstaltung/2023-01-10/
CATEGORIES:Offene Kurse
ATTACH;FMTTYPE=image/jpeg:https://flamingocat.de/wp-content/uploads/2023/01/Sticken-lernen-in-Leipzig-Flamingocat-5.jpg
END:VEVENT
END:VCALENDAR