BEGIN:VCALENDAR
VERSION:2.0
PRODID:-//Flamingocat - ECPv6.15.20//NONSGML v1.0//EN
CALSCALE:GREGORIAN
METHOD:PUBLISH
X-ORIGINAL-URL:https://flamingocat.de
X-WR-CALDESC:Veranstaltungen für Flamingocat
REFRESH-INTERVAL;VALUE=DURATION:PT1H
X-Robots-Tag:noindex
X-PUBLISHED-TTL:PT1H
BEGIN:VTIMEZONE
TZID:Europe/Berlin
BEGIN:DAYLIGHT
TZOFFSETFROM:+0100
TZOFFSETTO:+0200
TZNAME:CEST
DTSTART:20220327T010000
END:DAYLIGHT
BEGIN:STANDARD
TZOFFSETFROM:+0200
TZOFFSETTO:+0100
TZNAME:CET
DTSTART:20221030T010000
END:STANDARD
BEGIN:DAYLIGHT
TZOFFSETFROM:+0100
TZOFFSETTO:+0200
TZNAME:CEST
DTSTART:20230326T010000
END:DAYLIGHT
BEGIN:STANDARD
TZOFFSETFROM:+0200
TZOFFSETTO:+0100
TZNAME:CET
DTSTART:20231029T010000
END:STANDARD
BEGIN:DAYLIGHT
TZOFFSETFROM:+0100
TZOFFSETTO:+0200
TZNAME:CEST
DTSTART:20240331T010000
END:DAYLIGHT
BEGIN:STANDARD
TZOFFSETFROM:+0200
TZOFFSETTO:+0100
TZNAME:CET
DTSTART:20241027T010000
END:STANDARD
BEGIN:DAYLIGHT
TZOFFSETFROM:+0100
TZOFFSETTO:+0200
TZNAME:CEST
DTSTART:20250330T010000
END:DAYLIGHT
BEGIN:STANDARD
TZOFFSETFROM:+0200
TZOFFSETTO:+0100
TZNAME:CET
DTSTART:20251026T010000
END:STANDARD
END:VTIMEZONE
BEGIN:VEVENT
DTSTART;TZID=Europe/Berlin:20231217T110000
DTEND;TZID=Europe/Berlin:20231217T140000
DTSTAMP:20260424T130733
CREATED:20230616T201428Z
LAST-MODIFIED:20260412T081737Z
UID:10001434-1702810800-1702821600@flamingocat.de
SUMMARY:Offener Aquarell Workshop
DESCRIPTION:Ready for some summer vibes? In unserem neusten Workshop wird es jetzt blumig! Gemeinsam schwingen wir die Pinsel und zeigen euch in unserem Aquarell Workshop die wichtigsten Techniken und besten Tricks rund um die beliebten Wasserfarben. Ihr zeichnet Blumen\, Pflanzen und bunte Blüten und nehmt am Ende unseres 3-stündigen Kurses eure eigenen Aquarell-Blumensträuße und Kränze mit nachhause.
URL:https://flamingocat.de/event/offener-aquarell-workshop-13/2023-12-17/
CATEGORIES:Offene Kurse
ATTACH;FMTTYPE=image/jpeg:https://flamingocat.de/wp-content/uploads/2023/08/aquarell-watercoloring-watercolor-workshop-leipzig-wasserfarben-malen-lernen-7-scaled.jpg
END:VEVENT
BEGIN:VEVENT
DTSTART;TZID=Europe/Berlin:20231217T110000
DTEND;TZID=Europe/Berlin:20231217T140000
DTSTAMP:20260424T130733
CREATED:20260412T095612Z
LAST-MODIFIED:20260412T095827Z
UID:10001731-1702810800-1702821600@flamingocat.de
SUMMARY:Moosbild gestalten - Offener Workshop
DESCRIPTION:Wir holen uns die Natur ins Wohnzimmer. Sag Tschüss zu Poster Einheitsbrei und nackten Wänden\, denn in diesem Workshop zaubern wir deinen ganz persönlichen #urbanjungle. Wir zeigen dir\, wie du verschiedene Hölzer\, Rinde oder Steine zu einem echten Kunstwerk anordnest. Egal ob Bastel-Beginner oder ein Crafting-Profi bist\, dieser Workshop ist für alle geeignet!
URL:https://flamingocat.de/event/moosbild-gestalten-offener-workshop/2023-12-17/
CATEGORIES:Offene Kurse
ATTACH;FMTTYPE=image/jpeg:https://flamingocat.de/wp-content/uploads/2024/12/Kreative-Teamevents-Idee-Leipzig-.jpg
END:VEVENT
BEGIN:VEVENT
DTSTART;TZID=Europe/Berlin:20240114T110000
DTEND;TZID=Europe/Berlin:20240114T140000
DTSTAMP:20260424T130733
CREATED:20230616T201428Z
LAST-MODIFIED:20260412T081737Z
UID:10001435-1705230000-1705240800@flamingocat.de
SUMMARY:Offener Aquarell Workshop
DESCRIPTION:Ready for some summer vibes? In unserem neusten Workshop wird es jetzt blumig! Gemeinsam schwingen wir die Pinsel und zeigen euch in unserem Aquarell Workshop die wichtigsten Techniken und besten Tricks rund um die beliebten Wasserfarben. Ihr zeichnet Blumen\, Pflanzen und bunte Blüten und nehmt am Ende unseres 3-stündigen Kurses eure eigenen Aquarell-Blumensträuße und Kränze mit nachhause.
URL:https://flamingocat.de/event/offener-aquarell-workshop-13/2024-01-14/
CATEGORIES:Offene Kurse
ATTACH;FMTTYPE=image/jpeg:https://flamingocat.de/wp-content/uploads/2023/08/aquarell-watercoloring-watercolor-workshop-leipzig-wasserfarben-malen-lernen-7-scaled.jpg
END:VEVENT
BEGIN:VEVENT
DTSTART;TZID=Europe/Berlin:20240114T110000
DTEND;TZID=Europe/Berlin:20240114T140000
DTSTAMP:20260424T130733
CREATED:20260412T095612Z
LAST-MODIFIED:20260412T095827Z
UID:10001732-1705230000-1705240800@flamingocat.de
SUMMARY:Moosbild gestalten - Offener Workshop
DESCRIPTION:Wir holen uns die Natur ins Wohnzimmer. Sag Tschüss zu Poster Einheitsbrei und nackten Wänden\, denn in diesem Workshop zaubern wir deinen ganz persönlichen #urbanjungle. Wir zeigen dir\, wie du verschiedene Hölzer\, Rinde oder Steine zu einem echten Kunstwerk anordnest. Egal ob Bastel-Beginner oder ein Crafting-Profi bist\, dieser Workshop ist für alle geeignet!
URL:https://flamingocat.de/event/moosbild-gestalten-offener-workshop/2024-01-14/
CATEGORIES:Offene Kurse
ATTACH;FMTTYPE=image/jpeg:https://flamingocat.de/wp-content/uploads/2024/12/Kreative-Teamevents-Idee-Leipzig-.jpg
END:VEVENT
BEGIN:VEVENT
DTSTART;TZID=Europe/Berlin:20240121T110000
DTEND;TZID=Europe/Berlin:20240121T140000
DTSTAMP:20260424T130733
CREATED:20230118T101731Z
LAST-MODIFIED:20260412T204856Z
UID:10001438-1705834800-1705845600@flamingocat.de
SUMMARY:Offener Terrazzo Deko Workshop
DESCRIPTION:Schon die alten Römer liebten Bodenbelege mit farbigen Sprenkeln.\nNun feiert das antike Design ein echtes Revival. Die römische Terrazzo-Optik\nist der Design-Trend des Jahres. Egal ob Schalen\, Blumentöpfe oder Kerzenständer –\nwir streuseln uns die Welt\, wie sie uns gefällt. In unserem 3-stündigen Workshop gestaltest du aus einem umweltfreundlichen\, gips-ähnlichen Verbundwerkstoff deine individuellen Home-Accessoires.
URL:https://flamingocat.de/event/offener-terrazzo-deko-workshop/2024-01-21/
CATEGORIES:Offene Kurse
ATTACH;FMTTYPE=image/jpeg:https://flamingocat.de/wp-content/uploads/2023/01/Terrazzo-Schalen-Workshop-Flamingocat-Leipzig-8-1.jpg
END:VEVENT
BEGIN:VEVENT
DTSTART;TZID=Europe/Berlin:20240128T110000
DTEND;TZID=Europe/Berlin:20240128T140000
DTSTAMP:20260424T130733
CREATED:20230128T115718Z
LAST-MODIFIED:20260412T192005Z
UID:10001440-1706439600-1706450400@flamingocat.de
SUMMARY:Offener Naturkosmetik Workshop
DESCRIPTION:Mit diesem Workshop kannst du ab sofort deine Haut zum Strahlen bringen. Gemeinsam kreiren wir glitzernde Badeperlen\, betörende Düfte oder natürliche Peelings\, die man sogar Naschen kann. Yummy! Digitalwaage\, Pipette und Spatel liegen schon bereit. Ab jetzt darf fleissig gerührt werden.Wir erklären dir die Grundlagen und servieren obendrauf praktische Tipps mit denen du auch im Anschluss an unseren Workshops weiterarbeiten kannst.
URL:https://flamingocat.de/event/test-naturkosmetik-workshop/2024-01-28/
CATEGORIES:Offene Kurse
ATTACH;FMTTYPE=image/jpeg:https://flamingocat.de/wp-content/uploads/2022/12/Badewannenkugeln-Badebomben-DIY-Naturkosmetik-Workshop-natuerliche-Beautyprodukte-Zutaten-handmade-FLAMINGOCAT.jpg
END:VEVENT
BEGIN:VEVENT
DTSTART;TZID=Europe/Berlin:20240204T110000
DTEND;TZID=Europe/Berlin:20240204T140000
DTSTAMP:20260424T130733
CREATED:20200813T131847Z
LAST-MODIFIED:20260412T084014Z
UID:10001443-1707044400-1707055200@flamingocat.de
SUMMARY:Botanical Printing
DESCRIPTION:You better believe the hype! Dank Pinterest und Co. sind grafische Prints und botanische Drucke ein absolutes Must-Have für deine 4 Wände. Egal ob große Monstera-Blätter oder geometrische Figuren – in unserem Linoldruck-Workshop bringen wir ordentlich Farbe aufs Papier.Gemeinsam erarbeiten wir dein neues Lieblingsmotiv.
URL:https://flamingocat.de/event/botanical-printing-6/2024-02-04/
LOCATION:DIY DEPARTEMENT\, Karl Liebknecht Strasse 13\, 04107
CATEGORIES:Offene Kurse
ATTACH;FMTTYPE=image/jpeg:https://flamingocat.de/wp-content/uploads/2024/01/DSC3393.jpg
END:VEVENT
BEGIN:VEVENT
DTSTART;TZID=Europe/Berlin:20240204T111500
DTEND;TZID=Europe/Berlin:20240204T141500
DTSTAMP:20260424T130733
CREATED:20230501T092756Z
LAST-MODIFIED:20260412T193638Z
UID:10001444-1707045300-1707056100@flamingocat.de
SUMMARY:Punch Needeling
DESCRIPTION:
URL:https://flamingocat.de/event/punch-needeling-2023/2024-02-04/
CATEGORIES:Offene Kurse
ATTACH;FMTTYPE=image/jpeg:https://flamingocat.de/wp-content/uploads/2023/04/Punch-Needling-9-scaled.jpg
END:VEVENT
BEGIN:VEVENT
DTSTART;TZID=Europe/Berlin:20240211T110000
DTEND;TZID=Europe/Berlin:20240211T140000
DTSTAMP:20260424T130733
CREATED:20210117T114808Z
LAST-MODIFIED:20260412T202612Z
UID:10001452-1707649200-1707660000@flamingocat.de
SUMMARY:Offener Trockenblumenkranz Workshop
DESCRIPTION:You better watch out! In diesem Jahr begrüßen wir die neue Jahreszeit mit einem selbstgebundenen Blumenkranz. Mit getrockneten Zweigen\, Blüten\, Federn und und allerlei schönen Materialien verpassen wir deinem Türkranz ein skandinavisches Make-Over.
URL:https://flamingocat.de/event/online-workshop-osterkranz/2024-02-11/
CATEGORIES:Offene Kurse
ATTACH;FMTTYPE=image/jpeg:https://flamingocat.de/wp-content/uploads/2023/01/DIY-Trockenblumenkranz-Fruehling-2.jpg
END:VEVENT
BEGIN:VEVENT
DTSTART;TZID=Europe/Berlin:20240211T110000
DTEND;TZID=Europe/Berlin:20240211T140000
DTSTAMP:20260424T130733
CREATED:20220215T151233Z
LAST-MODIFIED:20260413T065423Z
UID:10001442-1707649200-1707660000@flamingocat.de
SUMMARY:Sticken für Einsteiger:innen
DESCRIPTION:In unserem neusten Workshop lassen wir die Nadeln glühen. It´s time for botanical embroidery! Mit leuchtenden Garnen und hübschen Stoffen designen wir ein textiles Must-Have für dein zuhause und sticken Blüten\, Blätter und Botanisches auf deinen Stickrahmen. Alle benötigten Materialien sowie ein Gläschen Sekt\, sind wie immer bereits im Preis enthalten
URL:https://flamingocat.de/event/sticken-fuer-einsteigerinnen-praesenz-veranstaltung/2024-02-11/
CATEGORIES:Offene Kurse
ATTACH;FMTTYPE=image/jpeg:https://flamingocat.de/wp-content/uploads/2023/01/Sticken-lernen-in-Leipzig-Flamingocat-5.jpg
END:VEVENT
BEGIN:VEVENT
DTSTART;TZID=Europe/Berlin:20240218T110000
DTEND;TZID=Europe/Berlin:20240218T140000
DTSTAMP:20260424T130733
CREATED:20220215T152121Z
LAST-MODIFIED:20260412T201331Z
UID:10001445-1708254000-1708264800@flamingocat.de
SUMMARY:Schmuck aus Polymer-Clay
DESCRIPTION:Mit unserem neuen Polymer-Clay-Workshop\, kannst du dir deinen neuen Lieblingsschmuck einfach selber kneten. Du bestimmst Form\, Farbe und Stil selbst und designst die passenden Accessoires für deinen Lieblingslook. Egal ob Statement-Ohrringe\, Ketten oder Ringe : you decide! Obendrauf servieren wir dir noch eine ordentliche Portion Blattgold.
URL:https://flamingocat.de/event/schmuck-aus-polymer-clay/2024-02-18/
CATEGORIES:Offene Kurse
ATTACH;FMTTYPE=image/jpeg:https://flamingocat.de/wp-content/uploads/2022/12/Schmuck-Workshop-Schmuck-aus-Ofen-Clay-Flamingocat-Leipzig-5.jpg
END:VEVENT
BEGIN:VEVENT
DTSTART;TZID=Europe/Berlin:20240218T110000
DTEND;TZID=Europe/Berlin:20240218T140000
DTSTAMP:20260424T130733
CREATED:20230616T201428Z
LAST-MODIFIED:20260412T081737Z
UID:10001436-1708254000-1708264800@flamingocat.de
SUMMARY:Offener Aquarell Workshop
DESCRIPTION:Ready for some summer vibes? In unserem neusten Workshop wird es jetzt blumig! Gemeinsam schwingen wir die Pinsel und zeigen euch in unserem Aquarell Workshop die wichtigsten Techniken und besten Tricks rund um die beliebten Wasserfarben. Ihr zeichnet Blumen\, Pflanzen und bunte Blüten und nehmt am Ende unseres 3-stündigen Kurses eure eigenen Aquarell-Blumensträuße und Kränze mit nachhause.
URL:https://flamingocat.de/event/offener-aquarell-workshop-13/2024-02-18/
CATEGORIES:Offene Kurse
ATTACH;FMTTYPE=image/jpeg:https://flamingocat.de/wp-content/uploads/2023/08/aquarell-watercoloring-watercolor-workshop-leipzig-wasserfarben-malen-lernen-7-scaled.jpg
END:VEVENT
BEGIN:VEVENT
DTSTART;TZID=Europe/Berlin:20240218T110000
DTEND;TZID=Europe/Berlin:20240218T140000
DTSTAMP:20260424T130733
CREATED:20260412T095612Z
LAST-MODIFIED:20260412T095827Z
UID:10001733-1708254000-1708264800@flamingocat.de
SUMMARY:Moosbild gestalten - Offener Workshop
DESCRIPTION:Wir holen uns die Natur ins Wohnzimmer. Sag Tschüss zu Poster Einheitsbrei und nackten Wänden\, denn in diesem Workshop zaubern wir deinen ganz persönlichen #urbanjungle. Wir zeigen dir\, wie du verschiedene Hölzer\, Rinde oder Steine zu einem echten Kunstwerk anordnest. Egal ob Bastel-Beginner oder ein Crafting-Profi bist\, dieser Workshop ist für alle geeignet!
URL:https://flamingocat.de/event/moosbild-gestalten-offener-workshop/2024-02-18/
CATEGORIES:Offene Kurse
ATTACH;FMTTYPE=image/jpeg:https://flamingocat.de/wp-content/uploads/2024/12/Kreative-Teamevents-Idee-Leipzig-.jpg
END:VEVENT
BEGIN:VEVENT
DTSTART;TZID=Europe/Berlin:20240225T110000
DTEND;TZID=Europe/Berlin:20240225T140000
DTSTAMP:20260424T130733
CREATED:20230118T101731Z
LAST-MODIFIED:20260412T204856Z
UID:10001439-1708858800-1708869600@flamingocat.de
SUMMARY:Offener Terrazzo Deko Workshop
DESCRIPTION:Schon die alten Römer liebten Bodenbelege mit farbigen Sprenkeln.\nNun feiert das antike Design ein echtes Revival. Die römische Terrazzo-Optik\nist der Design-Trend des Jahres. Egal ob Schalen\, Blumentöpfe oder Kerzenständer –\nwir streuseln uns die Welt\, wie sie uns gefällt. In unserem 3-stündigen Workshop gestaltest du aus einem umweltfreundlichen\, gips-ähnlichen Verbundwerkstoff deine individuellen Home-Accessoires.
URL:https://flamingocat.de/event/offener-terrazzo-deko-workshop/2024-02-25/
CATEGORIES:Offene Kurse
ATTACH;FMTTYPE=image/jpeg:https://flamingocat.de/wp-content/uploads/2023/01/Terrazzo-Schalen-Workshop-Flamingocat-Leipzig-8-1.jpg
END:VEVENT
BEGIN:VEVENT
DTSTART;TZID=Europe/Berlin:20240303T110000
DTEND;TZID=Europe/Berlin:20240303T140000
DTSTAMP:20260424T130733
CREATED:20201001T172256Z
LAST-MODIFIED:20260412T094946Z
UID:10001458-1709463600-1709474400@flamingocat.de
SUMMARY:Offener Blumenampel Workshop
DESCRIPTION:Auf die Knoten – Fertig – Los! Für Makramee-Einsteiger ist dieser Kurs genau das Richtige.Wir zeigen dir in unserem 3-stündigen Kurs grundlegende Techniken und knüpfen anschließend gemeinsam für deine geliebten Topf-Pflanzen einen angesagten Pflanzenhänger im Vintage-Look. Also sicher dir schnell ein Plätzchen an unserer Knüpfstange!
URL:https://flamingocat.de/event/offener-blumenampel-workshop-9/2024-03-03/
CATEGORIES:Offene Kurse
ATTACH;FMTTYPE=image/jpeg:https://flamingocat.de/wp-content/uploads/2022/12/Blumenampel-Workshop-Leipzig-Makramee-Kurs-DIY-Pflanzenhaenger.jpg
END:VEVENT
BEGIN:VEVENT
DTSTART;TZID=Europe/Berlin:20240303T110000
DTEND;TZID=Europe/Berlin:20240303T140000
DTSTAMP:20260424T130733
CREATED:20230128T115718Z
LAST-MODIFIED:20260412T192005Z
UID:10001441-1709463600-1709474400@flamingocat.de
SUMMARY:Offener Naturkosmetik Workshop
DESCRIPTION:Mit diesem Workshop kannst du ab sofort deine Haut zum Strahlen bringen. Gemeinsam kreiren wir glitzernde Badeperlen\, betörende Düfte oder natürliche Peelings\, die man sogar Naschen kann. Yummy! Digitalwaage\, Pipette und Spatel liegen schon bereit. Ab jetzt darf fleissig gerührt werden.Wir erklären dir die Grundlagen und servieren obendrauf praktische Tipps mit denen du auch im Anschluss an unseren Workshops weiterarbeiten kannst.
URL:https://flamingocat.de/event/test-naturkosmetik-workshop/2024-03-03/
CATEGORIES:Offene Kurse
ATTACH;FMTTYPE=image/jpeg:https://flamingocat.de/wp-content/uploads/2022/12/Badewannenkugeln-Badebomben-DIY-Naturkosmetik-Workshop-natuerliche-Beautyprodukte-Zutaten-handmade-FLAMINGOCAT.jpg
END:VEVENT
BEGIN:VEVENT
DTSTART;TZID=Europe/Berlin:20240310T110000
DTEND;TZID=Europe/Berlin:20240310T140000
DTSTAMP:20260424T130733
CREATED:20210420T142814Z
LAST-MODIFIED:20250206T094100Z
UID:10001460-1710068400-1710079200@flamingocat.de
SUMMARY:Offener Trockenblüten-Stickrahmen Workshop
DESCRIPTION:Dieser neuen DIY-Idee sind wir buchstäblich auf den Leim gegangen – Mit bunten Trockenblüten\, Tüll und einer großen Portion Klebstoff zaubern wir florale Träume zum Anfassen. Unsere stylischen Trockenblüten-Stickrahmen sind nämlich nicht nur die ultimative Geschenkidee für jeden Anlass\, sondern auch das perfekte Interior-It-Piece für deine 4-Wände. In unserem 90-minütigen Workshop zeigen wir dir wie du mit etwas Geschick deinen individuellen Letter-Frame gestaltest.
URL:https://flamingocat.de/event/trockenblueten-stickrahmen/2024-03-10/
CATEGORIES:Offene Kurse
ATTACH;FMTTYPE=:
END:VEVENT
BEGIN:VEVENT
DTSTART;TZID=Europe/Berlin:20240310T110000
DTEND;TZID=Europe/Berlin:20240310T140000
DTSTAMP:20260424T130733
CREATED:20230303T101713Z
LAST-MODIFIED:20231221T081813Z
UID:10001456-1710068400-1710079200@flamingocat.de
SUMMARY:Offener Osterkranz Workshop
DESCRIPTION:
URL:https://flamingocat.de/event/offener-osterkranz-workshop/2024-03-10/
CATEGORIES:Offene Kurse
ATTACH;FMTTYPE=image/jpeg:https://flamingocat.de/wp-content/uploads/2023/03/DIY-Osterkranz-Workshop-Leipzig.jpg
END:VEVENT
BEGIN:VEVENT
DTSTART;TZID=Europe/Berlin:20240316T100000
DTEND;TZID=Europe/Berlin:20240316T130000
DTSTAMP:20260424T130733
CREATED:20230616T201428Z
LAST-MODIFIED:20260412T081737Z
UID:10001488-1710583200-1710594000@flamingocat.de
SUMMARY:Offener Aquarell Workshop
DESCRIPTION:Ready for some summer vibes? In unserem neusten Workshop wird es jetzt blumig! Gemeinsam schwingen wir die Pinsel und zeigen euch in unserem Aquarell Workshop die wichtigsten Techniken und besten Tricks rund um die beliebten Wasserfarben. Ihr zeichnet Blumen\, Pflanzen und bunte Blüten und nehmt am Ende unseres 3-stündigen Kurses eure eigenen Aquarell-Blumensträuße und Kränze mit nachhause.
URL:https://flamingocat.de/event/offener-aquarell-workshop-13/2024-03-16/
CATEGORIES:Offene Kurse
ATTACH;FMTTYPE=image/jpeg:https://flamingocat.de/wp-content/uploads/2023/08/aquarell-watercoloring-watercolor-workshop-leipzig-wasserfarben-malen-lernen-7-scaled.jpg
END:VEVENT
BEGIN:VEVENT
DTSTART;TZID=Europe/Berlin:20240316T100000
DTEND;TZID=Europe/Berlin:20240316T130000
DTSTAMP:20260424T130733
CREATED:20260412T095612Z
LAST-MODIFIED:20260412T095827Z
UID:10001734-1710583200-1710594000@flamingocat.de
SUMMARY:Moosbild gestalten - Offener Workshop
DESCRIPTION:Wir holen uns die Natur ins Wohnzimmer. Sag Tschüss zu Poster Einheitsbrei und nackten Wänden\, denn in diesem Workshop zaubern wir deinen ganz persönlichen #urbanjungle. Wir zeigen dir\, wie du verschiedene Hölzer\, Rinde oder Steine zu einem echten Kunstwerk anordnest. Egal ob Bastel-Beginner oder ein Crafting-Profi bist\, dieser Workshop ist für alle geeignet!
URL:https://flamingocat.de/event/moosbild-gestalten-offener-workshop/2024-03-16/
CATEGORIES:Offene Kurse
ATTACH;FMTTYPE=image/jpeg:https://flamingocat.de/wp-content/uploads/2024/12/Kreative-Teamevents-Idee-Leipzig-.jpg
END:VEVENT
BEGIN:VEVENT
DTSTART;TZID=Europe/Berlin:20240317T110000
DTEND;TZID=Europe/Berlin:20240317T140000
DTSTAMP:20260424T130733
CREATED:20220215T152121Z
LAST-MODIFIED:20260412T201331Z
UID:10001446-1710673200-1710684000@flamingocat.de
SUMMARY:Schmuck aus Polymer-Clay
DESCRIPTION:Mit unserem neuen Polymer-Clay-Workshop\, kannst du dir deinen neuen Lieblingsschmuck einfach selber kneten. Du bestimmst Form\, Farbe und Stil selbst und designst die passenden Accessoires für deinen Lieblingslook. Egal ob Statement-Ohrringe\, Ketten oder Ringe : you decide! Obendrauf servieren wir dir noch eine ordentliche Portion Blattgold.
URL:https://flamingocat.de/event/schmuck-aus-polymer-clay/2024-03-17/
CATEGORIES:Offene Kurse
ATTACH;FMTTYPE=image/jpeg:https://flamingocat.de/wp-content/uploads/2022/12/Schmuck-Workshop-Schmuck-aus-Ofen-Clay-Flamingocat-Leipzig-5.jpg
END:VEVENT
BEGIN:VEVENT
DTSTART;TZID=Europe/Berlin:20240324T110000
DTEND;TZID=Europe/Berlin:20240324T140000
DTSTAMP:20260424T130733
CREATED:20200813T131847Z
LAST-MODIFIED:20260412T084014Z
UID:10001447-1711278000-1711288800@flamingocat.de
SUMMARY:Botanical Printing
DESCRIPTION:You better believe the hype! Dank Pinterest und Co. sind grafische Prints und botanische Drucke ein absolutes Must-Have für deine 4 Wände. Egal ob große Monstera-Blätter oder geometrische Figuren – in unserem Linoldruck-Workshop bringen wir ordentlich Farbe aufs Papier.Gemeinsam erarbeiten wir dein neues Lieblingsmotiv.
URL:https://flamingocat.de/event/botanical-printing-6/2024-03-24/
LOCATION:DIY DEPARTEMENT\, Karl Liebknecht Strasse 13\, 04107
CATEGORIES:Offene Kurse
ATTACH;FMTTYPE=image/jpeg:https://flamingocat.de/wp-content/uploads/2024/01/DSC3393.jpg
END:VEVENT
BEGIN:VEVENT
DTSTART;TZID=Europe/Berlin:20240324T110000
DTEND;TZID=Europe/Berlin:20240324T140000
DTSTAMP:20260424T130733
CREATED:20230118T101731Z
LAST-MODIFIED:20260412T204856Z
UID:10001450-1711278000-1711288800@flamingocat.de
SUMMARY:Offener Terrazzo Deko Workshop
DESCRIPTION:Schon die alten Römer liebten Bodenbelege mit farbigen Sprenkeln.\nNun feiert das antike Design ein echtes Revival. Die römische Terrazzo-Optik\nist der Design-Trend des Jahres. Egal ob Schalen\, Blumentöpfe oder Kerzenständer –\nwir streuseln uns die Welt\, wie sie uns gefällt. In unserem 3-stündigen Workshop gestaltest du aus einem umweltfreundlichen\, gips-ähnlichen Verbundwerkstoff deine individuellen Home-Accessoires.
URL:https://flamingocat.de/event/offener-terrazzo-deko-workshop/2024-03-24/
CATEGORIES:Offene Kurse
ATTACH;FMTTYPE=image/jpeg:https://flamingocat.de/wp-content/uploads/2023/01/Terrazzo-Schalen-Workshop-Flamingocat-Leipzig-8-1.jpg
END:VEVENT
BEGIN:VEVENT
DTSTART;TZID=Europe/Berlin:20240324T111500
DTEND;TZID=Europe/Berlin:20240324T141500
DTSTAMP:20260424T130733
CREATED:20240207T101617Z
LAST-MODIFIED:20260413T065910Z
UID:10001496-1711278900-1711289700@flamingocat.de
SUMMARY:Textured Art
DESCRIPTION:Mit diesem Workshop bringen wir Struktur in deinen Alltag und hauchen der schnöden Spachtelmasse frischen Wind ein. Wenn du keine Scheu hast dir die Hände schmutzig zu machen und grafische Designs liebst\, bist du hier genau richtig!
URL:https://flamingocat.de/event/textured-art/2024-03-24/
CATEGORIES:Offene Kurse
ATTACH;FMTTYPE=image/jpeg:https://flamingocat.de/wp-content/uploads/2026/02/Spachtelmasse-Workshop-Leipzig-Textured-Art.jpg
ORGANIZER;CN="FLAMINGOCAT":MAILTO:info@flamingocat.de
END:VEVENT
BEGIN:VEVENT
DTSTART;TZID=Europe/Berlin:20240331T110000
DTEND;TZID=Europe/Berlin:20240331T140000
DTSTAMP:20260424T130733
CREATED:20210117T114808Z
LAST-MODIFIED:20260412T202612Z
UID:10001453-1711882800-1711893600@flamingocat.de
SUMMARY:Offener Trockenblumenkranz Workshop
DESCRIPTION:You better watch out! In diesem Jahr begrüßen wir die neue Jahreszeit mit einem selbstgebundenen Blumenkranz. Mit getrockneten Zweigen\, Blüten\, Federn und und allerlei schönen Materialien verpassen wir deinem Türkranz ein skandinavisches Make-Over.
URL:https://flamingocat.de/event/online-workshop-osterkranz/2024-03-31/
CATEGORIES:Offene Kurse
ATTACH;FMTTYPE=image/jpeg:https://flamingocat.de/wp-content/uploads/2023/01/DIY-Trockenblumenkranz-Fruehling-2.jpg
END:VEVENT
BEGIN:VEVENT
DTSTART;TZID=Europe/Berlin:20240331T111500
DTEND;TZID=Europe/Berlin:20240331T141500
DTSTAMP:20260424T130733
CREATED:20230118T101731Z
LAST-MODIFIED:20260412T204856Z
UID:10001495-1711883700-1711894500@flamingocat.de
SUMMARY:Offener Terrazzo Deko Workshop
DESCRIPTION:Schon die alten Römer liebten Bodenbelege mit farbigen Sprenkeln.\nNun feiert das antike Design ein echtes Revival. Die römische Terrazzo-Optik\nist der Design-Trend des Jahres. Egal ob Schalen\, Blumentöpfe oder Kerzenständer –\nwir streuseln uns die Welt\, wie sie uns gefällt. In unserem 3-stündigen Workshop gestaltest du aus einem umweltfreundlichen\, gips-ähnlichen Verbundwerkstoff deine individuellen Home-Accessoires.
URL:https://flamingocat.de/event/offener-terrazzo-deko-workshop/2024-03-31/
CATEGORIES:Offene Kurse
ATTACH;FMTTYPE=image/jpeg:https://flamingocat.de/wp-content/uploads/2023/01/Terrazzo-Schalen-Workshop-Flamingocat-Leipzig-8-1.jpg
END:VEVENT
BEGIN:VEVENT
DTSTART;TZID=Europe/Berlin:20240414T110000
DTEND;TZID=Europe/Berlin:20240414T140000
DTSTAMP:20260424T130733
CREATED:20230118T101731Z
LAST-MODIFIED:20260412T204856Z
UID:10001487-1713092400-1713103200@flamingocat.de
SUMMARY:Offener Terrazzo Deko Workshop
DESCRIPTION:Schon die alten Römer liebten Bodenbelege mit farbigen Sprenkeln.\nNun feiert das antike Design ein echtes Revival. Die römische Terrazzo-Optik\nist der Design-Trend des Jahres. Egal ob Schalen\, Blumentöpfe oder Kerzenständer –\nwir streuseln uns die Welt\, wie sie uns gefällt. In unserem 3-stündigen Workshop gestaltest du aus einem umweltfreundlichen\, gips-ähnlichen Verbundwerkstoff deine individuellen Home-Accessoires.
URL:https://flamingocat.de/event/offener-terrazzo-deko-workshop/2024-04-14/
CATEGORIES:Offene Kurse
ATTACH;FMTTYPE=image/jpeg:https://flamingocat.de/wp-content/uploads/2023/01/Terrazzo-Schalen-Workshop-Flamingocat-Leipzig-8-1.jpg
END:VEVENT
BEGIN:VEVENT
DTSTART;TZID=Europe/Berlin:20240414T110000
DTEND;TZID=Europe/Berlin:20240414T140000
DTSTAMP:20260424T130733
CREATED:20230501T092756Z
LAST-MODIFIED:20260412T193638Z
UID:10001457-1713092400-1713103200@flamingocat.de
SUMMARY:Punch Needeling
DESCRIPTION:
URL:https://flamingocat.de/event/punch-needeling-2023/2024-04-14/
CATEGORIES:Offene Kurse
ATTACH;FMTTYPE=image/jpeg:https://flamingocat.de/wp-content/uploads/2023/04/Punch-Needling-9-scaled.jpg
END:VEVENT
BEGIN:VEVENT
DTSTART;TZID=Europe/Berlin:20240421T110000
DTEND;TZID=Europe/Berlin:20240421T140000
DTSTAMP:20260424T130733
CREATED:20230128T115718Z
LAST-MODIFIED:20260412T192005Z
UID:10001455-1713697200-1713708000@flamingocat.de
SUMMARY:Offener Naturkosmetik Workshop
DESCRIPTION:Mit diesem Workshop kannst du ab sofort deine Haut zum Strahlen bringen. Gemeinsam kreiren wir glitzernde Badeperlen\, betörende Düfte oder natürliche Peelings\, die man sogar Naschen kann. Yummy! Digitalwaage\, Pipette und Spatel liegen schon bereit. Ab jetzt darf fleissig gerührt werden.Wir erklären dir die Grundlagen und servieren obendrauf praktische Tipps mit denen du auch im Anschluss an unseren Workshops weiterarbeiten kannst.
URL:https://flamingocat.de/event/test-naturkosmetik-workshop/2024-04-21/
CATEGORIES:Offene Kurse
ATTACH;FMTTYPE=image/jpeg:https://flamingocat.de/wp-content/uploads/2022/12/Badewannenkugeln-Badebomben-DIY-Naturkosmetik-Workshop-natuerliche-Beautyprodukte-Zutaten-handmade-FLAMINGOCAT.jpg
END:VEVENT
BEGIN:VEVENT
DTSTART;TZID=Europe/Berlin:20240421T110000
DTEND;TZID=Europe/Berlin:20240421T140000
DTSTAMP:20260424T130733
CREATED:20230128T125044Z
LAST-MODIFIED:20240312T154045Z
UID:10001507-1713697200-1713708000@flamingocat.de
SUMMARY:OFFENER MAKRAMEE WANDTEPPICH  WORKSHOP
DESCRIPTION:Knot up your life! Diese trendigen Knoten lassen Boho-Herzen höher schlagen! Denn dank Pinterest und Co. kommt kein modernes Zuhause mehr ohne die uralte Handarbeitstechnik aus. In unserem 3-stündigen Workshop verpassen wir dem Ganzen einen frischen Anstrich und knüpfen gemeinsam einen angesagten Wandteppich.
URL:https://flamingocat.de/event/offener-makramee-wandteppich-workshop/2024-04-21/
CATEGORIES:Offene Kurse
ATTACH;FMTTYPE=image/jpeg:https://flamingocat.de/wp-content/uploads/2022/12/Makramee-Wandteppich-Workshop.jpg
END:VEVENT
END:VCALENDAR