BEGIN:VCALENDAR
VERSION:2.0
PRODID:-//Flamingocat - ECPv6.15.20//NONSGML v1.0//EN
CALSCALE:GREGORIAN
METHOD:PUBLISH
X-ORIGINAL-URL:https://flamingocat.de
X-WR-CALDESC:Veranstaltungen für Flamingocat
REFRESH-INTERVAL;VALUE=DURATION:PT1H
X-Robots-Tag:noindex
X-PUBLISHED-TTL:PT1H
BEGIN:VTIMEZONE
TZID:Europe/Berlin
BEGIN:DAYLIGHT
TZOFFSETFROM:+0100
TZOFFSETTO:+0200
TZNAME:CEST
DTSTART:20220327T010000
END:DAYLIGHT
BEGIN:STANDARD
TZOFFSETFROM:+0200
TZOFFSETTO:+0100
TZNAME:CET
DTSTART:20221030T010000
END:STANDARD
BEGIN:DAYLIGHT
TZOFFSETFROM:+0100
TZOFFSETTO:+0200
TZNAME:CEST
DTSTART:20230326T010000
END:DAYLIGHT
BEGIN:STANDARD
TZOFFSETFROM:+0200
TZOFFSETTO:+0100
TZNAME:CET
DTSTART:20231029T010000
END:STANDARD
BEGIN:DAYLIGHT
TZOFFSETFROM:+0100
TZOFFSETTO:+0200
TZNAME:CEST
DTSTART:20240331T010000
END:DAYLIGHT
BEGIN:STANDARD
TZOFFSETFROM:+0200
TZOFFSETTO:+0100
TZNAME:CET
DTSTART:20241027T010000
END:STANDARD
END:VTIMEZONE
BEGIN:VEVENT
DTSTART;TZID=Europe/Berlin:20230613T183000
DTEND;TZID=Europe/Berlin:20230613T213000
DTSTAMP:20260422T093811
CREATED:20230128T125044Z
LAST-MODIFIED:20240312T154045Z
UID:10001364-1686681000-1686691800@flamingocat.de
SUMMARY:OFFENER MAKRAMEE WANDTEPPICH  WORKSHOP
DESCRIPTION:Knot up your life! Diese trendigen Knoten lassen Boho-Herzen höher schlagen! Denn dank Pinterest und Co. kommt kein modernes Zuhause mehr ohne die uralte Handarbeitstechnik aus. In unserem 3-stündigen Workshop verpassen wir dem Ganzen einen frischen Anstrich und knüpfen gemeinsam einen angesagten Wandteppich.
URL:https://flamingocat.de/event/offener-makramee-wandteppich-workshop/2023-06-13/
CATEGORIES:Offene Kurse
ATTACH;FMTTYPE=image/jpeg:https://flamingocat.de/wp-content/uploads/2022/12/Makramee-Wandteppich-Workshop.jpg
END:VEVENT
BEGIN:VEVENT
DTSTART;TZID=Europe/Berlin:20230618T110000
DTEND;TZID=Europe/Berlin:20230618T140000
DTSTAMP:20260422T093811
CREATED:20200813T131847Z
LAST-MODIFIED:20260412T084014Z
UID:10001360-1687086000-1687096800@flamingocat.de
SUMMARY:Botanical Printing
DESCRIPTION:You better believe the hype! Dank Pinterest und Co. sind grafische Prints und botanische Drucke ein absolutes Must-Have für deine 4 Wände. Egal ob große Monstera-Blätter oder geometrische Figuren – in unserem Linoldruck-Workshop bringen wir ordentlich Farbe aufs Papier.Gemeinsam erarbeiten wir dein neues Lieblingsmotiv.
URL:https://flamingocat.de/event/botanical-printing-6/2023-06-18/
LOCATION:DIY DEPARTEMENT\, Karl Liebknecht Strasse 13\, 04107
CATEGORIES:Offene Kurse
ATTACH;FMTTYPE=image/jpeg:https://flamingocat.de/wp-content/uploads/2024/01/DSC3393.jpg
END:VEVENT
BEGIN:VEVENT
DTSTART;TZID=Europe/Berlin:20230618T110000
DTEND;TZID=Europe/Berlin:20230618T140000
DTSTAMP:20260422T093811
CREATED:20230118T101731Z
LAST-MODIFIED:20260412T204856Z
UID:10001394-1687086000-1687096800@flamingocat.de
SUMMARY:Offener Terrazzo Deko Workshop
DESCRIPTION:Schon die alten Römer liebten Bodenbelege mit farbigen Sprenkeln.\nNun feiert das antike Design ein echtes Revival. Die römische Terrazzo-Optik\nist der Design-Trend des Jahres. Egal ob Schalen\, Blumentöpfe oder Kerzenständer –\nwir streuseln uns die Welt\, wie sie uns gefällt. In unserem 3-stündigen Workshop gestaltest du aus einem umweltfreundlichen\, gips-ähnlichen Verbundwerkstoff deine individuellen Home-Accessoires.
URL:https://flamingocat.de/event/offener-terrazzo-deko-workshop/2023-06-18/
CATEGORIES:Offene Kurse
ATTACH;FMTTYPE=image/jpeg:https://flamingocat.de/wp-content/uploads/2023/01/Terrazzo-Schalen-Workshop-Flamingocat-Leipzig-8-1.jpg
END:VEVENT
BEGIN:VEVENT
DTSTART;TZID=Europe/Berlin:20230625T110000
DTEND;TZID=Europe/Berlin:20230625T140000
DTSTAMP:20260422T093811
CREATED:20230118T101731Z
LAST-MODIFIED:20260412T204856Z
UID:10001362-1687690800-1687701600@flamingocat.de
SUMMARY:Offener Terrazzo Deko Workshop
DESCRIPTION:Schon die alten Römer liebten Bodenbelege mit farbigen Sprenkeln.\nNun feiert das antike Design ein echtes Revival. Die römische Terrazzo-Optik\nist der Design-Trend des Jahres. Egal ob Schalen\, Blumentöpfe oder Kerzenständer –\nwir streuseln uns die Welt\, wie sie uns gefällt. In unserem 3-stündigen Workshop gestaltest du aus einem umweltfreundlichen\, gips-ähnlichen Verbundwerkstoff deine individuellen Home-Accessoires.
URL:https://flamingocat.de/event/offener-terrazzo-deko-workshop/2023-06-25/
CATEGORIES:Offene Kurse
ATTACH;FMTTYPE=image/jpeg:https://flamingocat.de/wp-content/uploads/2023/01/Terrazzo-Schalen-Workshop-Flamingocat-Leipzig-8-1.jpg
END:VEVENT
BEGIN:VEVENT
DTSTART;TZID=Europe/Berlin:20230702T110000
DTEND;TZID=Europe/Berlin:20230702T140000
DTSTAMP:20260422T093811
CREATED:20230128T115718Z
LAST-MODIFIED:20260412T192005Z
UID:10001368-1688295600-1688306400@flamingocat.de
SUMMARY:Offener Naturkosmetik Workshop
DESCRIPTION:Mit diesem Workshop kannst du ab sofort deine Haut zum Strahlen bringen. Gemeinsam kreiren wir glitzernde Badeperlen\, betörende Düfte oder natürliche Peelings\, die man sogar Naschen kann. Yummy! Digitalwaage\, Pipette und Spatel liegen schon bereit. Ab jetzt darf fleissig gerührt werden.Wir erklären dir die Grundlagen und servieren obendrauf praktische Tipps mit denen du auch im Anschluss an unseren Workshops weiterarbeiten kannst.
URL:https://flamingocat.de/event/test-naturkosmetik-workshop/2023-07-02/
CATEGORIES:Offene Kurse
ATTACH;FMTTYPE=image/jpeg:https://flamingocat.de/wp-content/uploads/2022/12/Badewannenkugeln-Badebomben-DIY-Naturkosmetik-Workshop-natuerliche-Beautyprodukte-Zutaten-handmade-FLAMINGOCAT.jpg
END:VEVENT
BEGIN:VEVENT
DTSTART;TZID=Europe/Berlin:20230709T103000
DTEND;TZID=Europe/Berlin:20230709T133000
DTSTAMP:20260422T093811
CREATED:20210420T142814Z
LAST-MODIFIED:20250206T094100Z
UID:10001384-1688898600-1688909400@flamingocat.de
SUMMARY:Offener Trockenblüten-Stickrahmen Workshop
DESCRIPTION:Dieser neuen DIY-Idee sind wir buchstäblich auf den Leim gegangen – Mit bunten Trockenblüten\, Tüll und einer großen Portion Klebstoff zaubern wir florale Träume zum Anfassen. Unsere stylischen Trockenblüten-Stickrahmen sind nämlich nicht nur die ultimative Geschenkidee für jeden Anlass\, sondern auch das perfekte Interior-It-Piece für deine 4-Wände. In unserem 90-minütigen Workshop zeigen wir dir wie du mit etwas Geschick deinen individuellen Letter-Frame gestaltest.
URL:https://flamingocat.de/event/trockenblueten-stickrahmen/2023-07-09/
CATEGORIES:Offene Kurse
ATTACH;FMTTYPE=:
END:VEVENT
BEGIN:VEVENT
DTSTART;TZID=Europe/Berlin:20230709T110000
DTEND;TZID=Europe/Berlin:20230709T140000
DTSTAMP:20260422T093811
CREATED:20210117T114808Z
LAST-MODIFIED:20260412T202612Z
UID:10001370-1688900400-1688911200@flamingocat.de
SUMMARY:Offener Trockenblumenkranz Workshop
DESCRIPTION:You better watch out! In diesem Jahr begrüßen wir die neue Jahreszeit mit einem selbstgebundenen Blumenkranz. Mit getrockneten Zweigen\, Blüten\, Federn und und allerlei schönen Materialien verpassen wir deinem Türkranz ein skandinavisches Make-Over.
URL:https://flamingocat.de/event/online-workshop-osterkranz/2023-07-09/
CATEGORIES:Offene Kurse
ATTACH;FMTTYPE=image/jpeg:https://flamingocat.de/wp-content/uploads/2023/01/DIY-Trockenblumenkranz-Fruehling-2.jpg
END:VEVENT
BEGIN:VEVENT
DTSTART;TZID=Europe/Berlin:20230716T110000
DTEND;TZID=Europe/Berlin:20230716T140000
DTSTAMP:20260422T093811
CREATED:20220215T152121Z
LAST-MODIFIED:20260412T201331Z
UID:10001366-1689505200-1689516000@flamingocat.de
SUMMARY:Schmuck aus Polymer-Clay
DESCRIPTION:Mit unserem neuen Polymer-Clay-Workshop\, kannst du dir deinen neuen Lieblingsschmuck einfach selber kneten. Du bestimmst Form\, Farbe und Stil selbst und designst die passenden Accessoires für deinen Lieblingslook. Egal ob Statement-Ohrringe\, Ketten oder Ringe : you decide! Obendrauf servieren wir dir noch eine ordentliche Portion Blattgold.
URL:https://flamingocat.de/event/schmuck-aus-polymer-clay/2023-07-16/
CATEGORIES:Offene Kurse
ATTACH;FMTTYPE=image/jpeg:https://flamingocat.de/wp-content/uploads/2022/12/Schmuck-Workshop-Schmuck-aus-Ofen-Clay-Flamingocat-Leipzig-5.jpg
END:VEVENT
BEGIN:VEVENT
DTSTART;TZID=Europe/Berlin:20230716T111500
DTEND;TZID=Europe/Berlin:20230716T141500
DTSTAMP:20260422T093811
CREATED:20230118T101731Z
LAST-MODIFIED:20260412T204856Z
UID:10001396-1689506100-1689516900@flamingocat.de
SUMMARY:Offener Terrazzo Deko Workshop
DESCRIPTION:Schon die alten Römer liebten Bodenbelege mit farbigen Sprenkeln.\nNun feiert das antike Design ein echtes Revival. Die römische Terrazzo-Optik\nist der Design-Trend des Jahres. Egal ob Schalen\, Blumentöpfe oder Kerzenständer –\nwir streuseln uns die Welt\, wie sie uns gefällt. In unserem 3-stündigen Workshop gestaltest du aus einem umweltfreundlichen\, gips-ähnlichen Verbundwerkstoff deine individuellen Home-Accessoires.
URL:https://flamingocat.de/event/offener-terrazzo-deko-workshop/2023-07-16/
CATEGORIES:Offene Kurse
ATTACH;FMTTYPE=image/jpeg:https://flamingocat.de/wp-content/uploads/2023/01/Terrazzo-Schalen-Workshop-Flamingocat-Leipzig-8-1.jpg
END:VEVENT
BEGIN:VEVENT
DTSTART;TZID=Europe/Berlin:20230720T183000
DTEND;TZID=Europe/Berlin:20230720T213000
DTSTAMP:20260422T093811
CREATED:20230128T125044Z
LAST-MODIFIED:20240312T154045Z
UID:10001365-1689877800-1689888600@flamingocat.de
SUMMARY:OFFENER MAKRAMEE WANDTEPPICH  WORKSHOP
DESCRIPTION:Knot up your life! Diese trendigen Knoten lassen Boho-Herzen höher schlagen! Denn dank Pinterest und Co. kommt kein modernes Zuhause mehr ohne die uralte Handarbeitstechnik aus. In unserem 3-stündigen Workshop verpassen wir dem Ganzen einen frischen Anstrich und knüpfen gemeinsam einen angesagten Wandteppich.
URL:https://flamingocat.de/event/offener-makramee-wandteppich-workshop/2023-07-20/
CATEGORIES:Offene Kurse
ATTACH;FMTTYPE=image/jpeg:https://flamingocat.de/wp-content/uploads/2022/12/Makramee-Wandteppich-Workshop.jpg
END:VEVENT
BEGIN:VEVENT
DTSTART;TZID=Europe/Berlin:20230723T113000
DTEND;TZID=Europe/Berlin:20230723T143000
DTSTAMP:20260422T093811
CREATED:20230118T101731Z
LAST-MODIFIED:20260412T204856Z
UID:10001395-1690111800-1690122600@flamingocat.de
SUMMARY:Offener Terrazzo Deko Workshop
DESCRIPTION:Schon die alten Römer liebten Bodenbelege mit farbigen Sprenkeln.\nNun feiert das antike Design ein echtes Revival. Die römische Terrazzo-Optik\nist der Design-Trend des Jahres. Egal ob Schalen\, Blumentöpfe oder Kerzenständer –\nwir streuseln uns die Welt\, wie sie uns gefällt. In unserem 3-stündigen Workshop gestaltest du aus einem umweltfreundlichen\, gips-ähnlichen Verbundwerkstoff deine individuellen Home-Accessoires.
URL:https://flamingocat.de/event/offener-terrazzo-deko-workshop/2023-07-23/
CATEGORIES:Offene Kurse
ATTACH;FMTTYPE=image/jpeg:https://flamingocat.de/wp-content/uploads/2023/01/Terrazzo-Schalen-Workshop-Flamingocat-Leipzig-8-1.jpg
END:VEVENT
BEGIN:VEVENT
DTSTART;TZID=Europe/Berlin:20230806T110000
DTEND;TZID=Europe/Berlin:20230806T140000
DTSTAMP:20260422T093811
CREATED:20230128T115718Z
LAST-MODIFIED:20260412T192005Z
UID:10001369-1691319600-1691330400@flamingocat.de
SUMMARY:Offener Naturkosmetik Workshop
DESCRIPTION:Mit diesem Workshop kannst du ab sofort deine Haut zum Strahlen bringen. Gemeinsam kreiren wir glitzernde Badeperlen\, betörende Düfte oder natürliche Peelings\, die man sogar Naschen kann. Yummy! Digitalwaage\, Pipette und Spatel liegen schon bereit. Ab jetzt darf fleissig gerührt werden.Wir erklären dir die Grundlagen und servieren obendrauf praktische Tipps mit denen du auch im Anschluss an unseren Workshops weiterarbeiten kannst.
URL:https://flamingocat.de/event/test-naturkosmetik-workshop/2023-08-06/
CATEGORIES:Offene Kurse
ATTACH;FMTTYPE=image/jpeg:https://flamingocat.de/wp-content/uploads/2022/12/Badewannenkugeln-Badebomben-DIY-Naturkosmetik-Workshop-natuerliche-Beautyprodukte-Zutaten-handmade-FLAMINGOCAT.jpg
END:VEVENT
BEGIN:VEVENT
DTSTART;TZID=Europe/Berlin:20230813T110000
DTEND;TZID=Europe/Berlin:20230813T140000
DTSTAMP:20260422T093811
CREATED:20220215T151233Z
LAST-MODIFIED:20260413T065423Z
UID:10001385-1691924400-1691935200@flamingocat.de
SUMMARY:Sticken für Einsteiger:innen
DESCRIPTION:In unserem neusten Workshop lassen wir die Nadeln glühen. It´s time for botanical embroidery! Mit leuchtenden Garnen und hübschen Stoffen designen wir ein textiles Must-Have für dein zuhause und sticken Blüten\, Blätter und Botanisches auf deinen Stickrahmen. Alle benötigten Materialien sowie ein Gläschen Sekt\, sind wie immer bereits im Preis enthalten
URL:https://flamingocat.de/event/sticken-fuer-einsteigerinnen-praesenz-veranstaltung/2023-08-13/
CATEGORIES:Offene Kurse
ATTACH;FMTTYPE=image/jpeg:https://flamingocat.de/wp-content/uploads/2023/01/Sticken-lernen-in-Leipzig-Flamingocat-5.jpg
END:VEVENT
BEGIN:VEVENT
DTSTART;TZID=Europe/Berlin:20230815T180000
DTEND;TZID=Europe/Berlin:20230815T210000
DTSTAMP:20260422T093811
CREATED:20201001T172256Z
LAST-MODIFIED:20260412T094946Z
UID:10001392-1692122400-1692133200@flamingocat.de
SUMMARY:Offener Blumenampel Workshop
DESCRIPTION:Auf die Knoten – Fertig – Los! Für Makramee-Einsteiger ist dieser Kurs genau das Richtige.Wir zeigen dir in unserem 3-stündigen Kurs grundlegende Techniken und knüpfen anschließend gemeinsam für deine geliebten Topf-Pflanzen einen angesagten Pflanzenhänger im Vintage-Look. Also sicher dir schnell ein Plätzchen an unserer Knüpfstange!
URL:https://flamingocat.de/event/offener-blumenampel-workshop-9/2023-08-15/
CATEGORIES:Offene Kurse
ATTACH;FMTTYPE=image/jpeg:https://flamingocat.de/wp-content/uploads/2022/12/Blumenampel-Workshop-Leipzig-Makramee-Kurs-DIY-Pflanzenhaenger.jpg
END:VEVENT
BEGIN:VEVENT
DTSTART;TZID=Europe/Berlin:20230820T110000
DTEND;TZID=Europe/Berlin:20230820T140000
DTSTAMP:20260422T093811
CREATED:20230118T101731Z
LAST-MODIFIED:20260412T204856Z
UID:10001402-1692529200-1692540000@flamingocat.de
SUMMARY:Offener Terrazzo Deko Workshop
DESCRIPTION:Schon die alten Römer liebten Bodenbelege mit farbigen Sprenkeln.\nNun feiert das antike Design ein echtes Revival. Die römische Terrazzo-Optik\nist der Design-Trend des Jahres. Egal ob Schalen\, Blumentöpfe oder Kerzenständer –\nwir streuseln uns die Welt\, wie sie uns gefällt. In unserem 3-stündigen Workshop gestaltest du aus einem umweltfreundlichen\, gips-ähnlichen Verbundwerkstoff deine individuellen Home-Accessoires.
URL:https://flamingocat.de/event/offener-terrazzo-deko-workshop/2023-08-20/
CATEGORIES:Offene Kurse
ATTACH;FMTTYPE=image/jpeg:https://flamingocat.de/wp-content/uploads/2023/01/Terrazzo-Schalen-Workshop-Flamingocat-Leipzig-8-1.jpg
END:VEVENT
BEGIN:VEVENT
DTSTART;TZID=Europe/Berlin:20230820T110000
DTEND;TZID=Europe/Berlin:20230820T140000
DTSTAMP:20260422T093811
CREATED:20230501T092756Z
LAST-MODIFIED:20260412T193638Z
UID:10001391-1692529200-1692540000@flamingocat.de
SUMMARY:Punch Needeling
DESCRIPTION:
URL:https://flamingocat.de/event/punch-needeling-2023/2023-08-20/
CATEGORIES:Offene Kurse
ATTACH;FMTTYPE=image/jpeg:https://flamingocat.de/wp-content/uploads/2023/04/Punch-Needling-9-scaled.jpg
END:VEVENT
BEGIN:VEVENT
DTSTART;TZID=Europe/Berlin:20230827T110000
DTEND;TZID=Europe/Berlin:20230827T140000
DTSTAMP:20260422T093811
CREATED:20210117T114808Z
LAST-MODIFIED:20260412T202612Z
UID:10001371-1693134000-1693144800@flamingocat.de
SUMMARY:Offener Trockenblumenkranz Workshop
DESCRIPTION:You better watch out! In diesem Jahr begrüßen wir die neue Jahreszeit mit einem selbstgebundenen Blumenkranz. Mit getrockneten Zweigen\, Blüten\, Federn und und allerlei schönen Materialien verpassen wir deinem Türkranz ein skandinavisches Make-Over.
URL:https://flamingocat.de/event/online-workshop-osterkranz/2023-08-27/
CATEGORIES:Offene Kurse
ATTACH;FMTTYPE=image/jpeg:https://flamingocat.de/wp-content/uploads/2023/01/DIY-Trockenblumenkranz-Fruehling-2.jpg
END:VEVENT
BEGIN:VEVENT
DTSTART;TZID=Europe/Berlin:20230827T110000
DTEND;TZID=Europe/Berlin:20230827T140000
DTSTAMP:20260422T093811
CREATED:20220215T152121Z
LAST-MODIFIED:20260412T201331Z
UID:10001367-1693134000-1693144800@flamingocat.de
SUMMARY:Schmuck aus Polymer-Clay
DESCRIPTION:Mit unserem neuen Polymer-Clay-Workshop\, kannst du dir deinen neuen Lieblingsschmuck einfach selber kneten. Du bestimmst Form\, Farbe und Stil selbst und designst die passenden Accessoires für deinen Lieblingslook. Egal ob Statement-Ohrringe\, Ketten oder Ringe : you decide! Obendrauf servieren wir dir noch eine ordentliche Portion Blattgold.
URL:https://flamingocat.de/event/schmuck-aus-polymer-clay/2023-08-27/
CATEGORIES:Offene Kurse
ATTACH;FMTTYPE=image/jpeg:https://flamingocat.de/wp-content/uploads/2022/12/Schmuck-Workshop-Schmuck-aus-Ofen-Clay-Flamingocat-Leipzig-5.jpg
END:VEVENT
BEGIN:VEVENT
DTSTART;TZID=Europe/Berlin:20230903T110000
DTEND;TZID=Europe/Berlin:20230903T140000
DTSTAMP:20260422T093811
CREATED:20230616T201428Z
LAST-MODIFIED:20260412T081737Z
UID:10001397-1693738800-1693749600@flamingocat.de
SUMMARY:Offener Aquarell Workshop
DESCRIPTION:Ready for some summer vibes? In unserem neusten Workshop wird es jetzt blumig! Gemeinsam schwingen wir die Pinsel und zeigen euch in unserem Aquarell Workshop die wichtigsten Techniken und besten Tricks rund um die beliebten Wasserfarben. Ihr zeichnet Blumen\, Pflanzen und bunte Blüten und nehmt am Ende unseres 3-stündigen Kurses eure eigenen Aquarell-Blumensträuße und Kränze mit nachhause.
URL:https://flamingocat.de/event/offener-aquarell-workshop-13/2023-09-03/
CATEGORIES:Offene Kurse
ATTACH;FMTTYPE=image/jpeg:https://flamingocat.de/wp-content/uploads/2023/08/aquarell-watercoloring-watercolor-workshop-leipzig-wasserfarben-malen-lernen-7-scaled.jpg
END:VEVENT
BEGIN:VEVENT
DTSTART;TZID=Europe/Berlin:20230903T110000
DTEND;TZID=Europe/Berlin:20230903T140000
DTSTAMP:20260422T093811
CREATED:20240822T071933Z
LAST-MODIFIED:20250221T162046Z
UID:10001554-1693738800-1693749600@flamingocat.de
SUMMARY:Offener Workshop - Häkeln lernen
DESCRIPTION:Wir lassen deine Häkelnadeln glühen! In unserem Workshop entdecken wir Omas Lieblingsbeschäftigung nämlich komplett neu! Topflappen und Klopapier-Häubchen – Ade! Wir nutzen die schicken Schlaufen für stylische Accessoires und praktische Alltagshelfer. Egal ob Handtasche oder Sortier-Körbchen. You can do it all! Damit´s bei dir auch wie am Schnürchen läuft starten wir unseren Kurs mit einem Einstieg in die wichtigsten Grundtechniken. Keine Sorge\, die Basics hast du schnell gelernt und kannst mit unsere Hilfe auch direkt in dein erstes eigenes Häkelprojekt starten. Nadeln\, Scheren und Wolle in verschieden Farben halten wir selbstverständlich für dich bereit. Alles was du brauchst sind bunte Ideen für dein erstes Häkel-DIY!
URL:https://flamingocat.de/event/offener-workshop-haekeln-lernen/2023-09-03/
CATEGORIES:Offene Kurse
ATTACH;FMTTYPE=image/jpeg:https://flamingocat.de/wp-content/uploads/2024/08/Kreativ-Workshop-Leipzig-Haekeln-fuer-Einsteiger.jpg
END:VEVENT
BEGIN:VEVENT
DTSTART;TZID=Europe/Berlin:20230903T110000
DTEND;TZID=Europe/Berlin:20230903T140000
DTSTAMP:20260422T093811
CREATED:20250117T213334Z
LAST-MODIFIED:20250117T213334Z
UID:10001656-1693738800-1693749600@flamingocat.de
SUMMARY:Offener Workshop - Haargummi häkeln
DESCRIPTION:Wir lassen deine Häkelnadeln glühen! In unserem Workshop entdecken wir Omas Lieblingsbeschäftigung nämlich komplett neu! Topflappen und Klopapier-Häubchen – Ade! Wir nutzen die schicken Schlaufen für stylische Accessoires und häkeln stylische Scrunchies. Damit´s bei dir auch wie am Schnürchen läuft\,starten wir unseren Kurs mit einem Einstieg in die wichtigsten Grundtechniken. Keine Sorge\, die Basics hast du schnell gelernt und kannst mit unsere Hilfe auch direkt in dein erstes eigenes Häkelprojekt starten. Nadeln\, Scheren und Wolle in verschieden Farben halten wir selbstverständlich für dich bereit. Alles was du brauchst sind bunte Ideen für dein erstes Häkel-DIY!
URL:https://flamingocat.de/event/offener-workshop-haargummi-haekeln/2023-09-03/
CATEGORIES:Offene Kurse
ATTACH;FMTTYPE=image/jpeg:https://flamingocat.de/wp-content/uploads/2025/01/Haargummi-haekeln-lernen-Leipzig-Workshop.jpg
END:VEVENT
BEGIN:VEVENT
DTSTART;TZID=Europe/Berlin:20230903T110000
DTEND;TZID=Europe/Berlin:20230903T140000
DTSTAMP:20260422T093811
CREATED:20260412T095612Z
LAST-MODIFIED:20260412T095827Z
UID:10001728-1693738800-1693749600@flamingocat.de
SUMMARY:Moosbild gestalten - Offener Workshop
DESCRIPTION:Wir holen uns die Natur ins Wohnzimmer. Sag Tschüss zu Poster Einheitsbrei und nackten Wänden\, denn in diesem Workshop zaubern wir deinen ganz persönlichen #urbanjungle. Wir zeigen dir\, wie du verschiedene Hölzer\, Rinde oder Steine zu einem echten Kunstwerk anordnest. Egal ob Bastel-Beginner oder ein Crafting-Profi bist\, dieser Workshop ist für alle geeignet!
URL:https://flamingocat.de/event/moosbild-gestalten-offener-workshop/2023-09-03/
CATEGORIES:Offene Kurse
ATTACH;FMTTYPE=image/jpeg:https://flamingocat.de/wp-content/uploads/2024/12/Kreative-Teamevents-Idee-Leipzig-.jpg
END:VEVENT
BEGIN:VEVENT
DTSTART;TZID=Europe/Berlin:20230910T110000
DTEND;TZID=Europe/Berlin:20230910T140000
DTSTAMP:20260422T093811
CREATED:20230128T115718Z
LAST-MODIFIED:20260412T192005Z
UID:10001404-1694343600-1694354400@flamingocat.de
SUMMARY:Offener Naturkosmetik Workshop
DESCRIPTION:Mit diesem Workshop kannst du ab sofort deine Haut zum Strahlen bringen. Gemeinsam kreiren wir glitzernde Badeperlen\, betörende Düfte oder natürliche Peelings\, die man sogar Naschen kann. Yummy! Digitalwaage\, Pipette und Spatel liegen schon bereit. Ab jetzt darf fleissig gerührt werden.Wir erklären dir die Grundlagen und servieren obendrauf praktische Tipps mit denen du auch im Anschluss an unseren Workshops weiterarbeiten kannst.
URL:https://flamingocat.de/event/test-naturkosmetik-workshop/2023-09-10/
CATEGORIES:Offene Kurse
ATTACH;FMTTYPE=image/jpeg:https://flamingocat.de/wp-content/uploads/2022/12/Badewannenkugeln-Badebomben-DIY-Naturkosmetik-Workshop-natuerliche-Beautyprodukte-Zutaten-handmade-FLAMINGOCAT.jpg
END:VEVENT
BEGIN:VEVENT
DTSTART;TZID=Europe/Berlin:20230917T110000
DTEND;TZID=Europe/Berlin:20230917T140000
DTSTAMP:20260422T093811
CREATED:20210117T114808Z
LAST-MODIFIED:20260412T202612Z
UID:10001401-1694948400-1694959200@flamingocat.de
SUMMARY:Offener Trockenblumenkranz Workshop
DESCRIPTION:You better watch out! In diesem Jahr begrüßen wir die neue Jahreszeit mit einem selbstgebundenen Blumenkranz. Mit getrockneten Zweigen\, Blüten\, Federn und und allerlei schönen Materialien verpassen wir deinem Türkranz ein skandinavisches Make-Over.
URL:https://flamingocat.de/event/online-workshop-osterkranz/2023-09-17/
CATEGORIES:Offene Kurse
ATTACH;FMTTYPE=image/jpeg:https://flamingocat.de/wp-content/uploads/2023/01/DIY-Trockenblumenkranz-Fruehling-2.jpg
END:VEVENT
BEGIN:VEVENT
DTSTART;TZID=Europe/Berlin:20230924T110000
DTEND;TZID=Europe/Berlin:20230924T140000
DTSTAMP:20260422T093811
CREATED:20201001T172256Z
LAST-MODIFIED:20260412T094946Z
UID:10001422-1695553200-1695564000@flamingocat.de
SUMMARY:Offener Blumenampel Workshop
DESCRIPTION:Auf die Knoten – Fertig – Los! Für Makramee-Einsteiger ist dieser Kurs genau das Richtige.Wir zeigen dir in unserem 3-stündigen Kurs grundlegende Techniken und knüpfen anschließend gemeinsam für deine geliebten Topf-Pflanzen einen angesagten Pflanzenhänger im Vintage-Look. Also sicher dir schnell ein Plätzchen an unserer Knüpfstange!
URL:https://flamingocat.de/event/offener-blumenampel-workshop-9/2023-09-24/
CATEGORIES:Offene Kurse
ATTACH;FMTTYPE=image/jpeg:https://flamingocat.de/wp-content/uploads/2022/12/Blumenampel-Workshop-Leipzig-Makramee-Kurs-DIY-Pflanzenhaenger.jpg
END:VEVENT
BEGIN:VEVENT
DTSTART;TZID=Europe/Berlin:20230924T110000
DTEND;TZID=Europe/Berlin:20230924T140000
DTSTAMP:20260422T093811
CREATED:20220215T152121Z
LAST-MODIFIED:20260412T201331Z
UID:10001405-1695553200-1695564000@flamingocat.de
SUMMARY:Schmuck aus Polymer-Clay
DESCRIPTION:Mit unserem neuen Polymer-Clay-Workshop\, kannst du dir deinen neuen Lieblingsschmuck einfach selber kneten. Du bestimmst Form\, Farbe und Stil selbst und designst die passenden Accessoires für deinen Lieblingslook. Egal ob Statement-Ohrringe\, Ketten oder Ringe : you decide! Obendrauf servieren wir dir noch eine ordentliche Portion Blattgold.
URL:https://flamingocat.de/event/schmuck-aus-polymer-clay/2023-09-24/
CATEGORIES:Offene Kurse
ATTACH;FMTTYPE=image/jpeg:https://flamingocat.de/wp-content/uploads/2022/12/Schmuck-Workshop-Schmuck-aus-Ofen-Clay-Flamingocat-Leipzig-5.jpg
END:VEVENT
BEGIN:VEVENT
DTSTART;TZID=Europe/Berlin:20230924T110000
DTEND;TZID=Europe/Berlin:20230924T140000
DTSTAMP:20260422T093811
CREATED:20230118T101731Z
LAST-MODIFIED:20260412T204856Z
UID:10001403-1695553200-1695564000@flamingocat.de
SUMMARY:Offener Terrazzo Deko Workshop
DESCRIPTION:Schon die alten Römer liebten Bodenbelege mit farbigen Sprenkeln.\nNun feiert das antike Design ein echtes Revival. Die römische Terrazzo-Optik\nist der Design-Trend des Jahres. Egal ob Schalen\, Blumentöpfe oder Kerzenständer –\nwir streuseln uns die Welt\, wie sie uns gefällt. In unserem 3-stündigen Workshop gestaltest du aus einem umweltfreundlichen\, gips-ähnlichen Verbundwerkstoff deine individuellen Home-Accessoires.
URL:https://flamingocat.de/event/offener-terrazzo-deko-workshop/2023-09-24/
CATEGORIES:Offene Kurse
ATTACH;FMTTYPE=image/jpeg:https://flamingocat.de/wp-content/uploads/2023/01/Terrazzo-Schalen-Workshop-Flamingocat-Leipzig-8-1.jpg
END:VEVENT
BEGIN:VEVENT
DTSTART;TZID=Europe/Berlin:20231007T150000
DTEND;TZID=Europe/Berlin:20231007T180000
DTSTAMP:20260422T093811
CREATED:20210117T114808Z
LAST-MODIFIED:20260412T202612Z
UID:10001407-1696690800-1696701600@flamingocat.de
SUMMARY:Offener Trockenblumenkranz Workshop
DESCRIPTION:You better watch out! In diesem Jahr begrüßen wir die neue Jahreszeit mit einem selbstgebundenen Blumenkranz. Mit getrockneten Zweigen\, Blüten\, Federn und und allerlei schönen Materialien verpassen wir deinem Türkranz ein skandinavisches Make-Over.
URL:https://flamingocat.de/event/online-workshop-osterkranz/2023-10-07/
CATEGORIES:Offene Kurse
ATTACH;FMTTYPE=image/jpeg:https://flamingocat.de/wp-content/uploads/2023/01/DIY-Trockenblumenkranz-Fruehling-2.jpg
END:VEVENT
BEGIN:VEVENT
DTSTART;TZID=Europe/Berlin:20231008T110000
DTEND;TZID=Europe/Berlin:20231008T140000
DTSTAMP:20260422T093811
CREATED:20230616T201428Z
LAST-MODIFIED:20260412T081737Z
UID:10001400-1696762800-1696773600@flamingocat.de
SUMMARY:Offener Aquarell Workshop
DESCRIPTION:Ready for some summer vibes? In unserem neusten Workshop wird es jetzt blumig! Gemeinsam schwingen wir die Pinsel und zeigen euch in unserem Aquarell Workshop die wichtigsten Techniken und besten Tricks rund um die beliebten Wasserfarben. Ihr zeichnet Blumen\, Pflanzen und bunte Blüten und nehmt am Ende unseres 3-stündigen Kurses eure eigenen Aquarell-Blumensträuße und Kränze mit nachhause.
URL:https://flamingocat.de/event/offener-aquarell-workshop-13/2023-10-08/
CATEGORIES:Offene Kurse
ATTACH;FMTTYPE=image/jpeg:https://flamingocat.de/wp-content/uploads/2023/08/aquarell-watercoloring-watercolor-workshop-leipzig-wasserfarben-malen-lernen-7-scaled.jpg
END:VEVENT
BEGIN:VEVENT
DTSTART;TZID=Europe/Berlin:20231008T110000
DTEND;TZID=Europe/Berlin:20231008T140000
DTSTAMP:20260422T093811
CREATED:20260412T095612Z
LAST-MODIFIED:20260412T095827Z
UID:10001729-1696762800-1696773600@flamingocat.de
SUMMARY:Moosbild gestalten - Offener Workshop
DESCRIPTION:Wir holen uns die Natur ins Wohnzimmer. Sag Tschüss zu Poster Einheitsbrei und nackten Wänden\, denn in diesem Workshop zaubern wir deinen ganz persönlichen #urbanjungle. Wir zeigen dir\, wie du verschiedene Hölzer\, Rinde oder Steine zu einem echten Kunstwerk anordnest. Egal ob Bastel-Beginner oder ein Crafting-Profi bist\, dieser Workshop ist für alle geeignet!
URL:https://flamingocat.de/event/moosbild-gestalten-offener-workshop/2023-10-08/
CATEGORIES:Offene Kurse
ATTACH;FMTTYPE=image/jpeg:https://flamingocat.de/wp-content/uploads/2024/12/Kreative-Teamevents-Idee-Leipzig-.jpg
END:VEVENT
END:VCALENDAR