BEGIN:VCALENDAR
VERSION:2.0
PRODID:-//Flamingocat - ECPv6.15.20//NONSGML v1.0//EN
CALSCALE:GREGORIAN
METHOD:PUBLISH
X-WR-CALNAME:Flamingocat
X-ORIGINAL-URL:https://flamingocat.de
X-WR-CALDESC:Veranstaltungen für Flamingocat
REFRESH-INTERVAL;VALUE=DURATION:PT1H
X-Robots-Tag:noindex
X-PUBLISHED-TTL:PT1H
BEGIN:VTIMEZONE
TZID:Europe/Berlin
BEGIN:DAYLIGHT
TZOFFSETFROM:+0100
TZOFFSETTO:+0200
TZNAME:CEST
DTSTART:20180325T010000
END:DAYLIGHT
BEGIN:STANDARD
TZOFFSETFROM:+0200
TZOFFSETTO:+0100
TZNAME:CET
DTSTART:20181028T010000
END:STANDARD
BEGIN:DAYLIGHT
TZOFFSETFROM:+0100
TZOFFSETTO:+0200
TZNAME:CEST
DTSTART:20190331T010000
END:DAYLIGHT
BEGIN:STANDARD
TZOFFSETFROM:+0200
TZOFFSETTO:+0100
TZNAME:CET
DTSTART:20191027T010000
END:STANDARD
BEGIN:DAYLIGHT
TZOFFSETFROM:+0100
TZOFFSETTO:+0200
TZNAME:CEST
DTSTART:20200329T010000
END:DAYLIGHT
BEGIN:STANDARD
TZOFFSETFROM:+0200
TZOFFSETTO:+0100
TZNAME:CET
DTSTART:20201025T010000
END:STANDARD
BEGIN:DAYLIGHT
TZOFFSETFROM:+0100
TZOFFSETTO:+0200
TZNAME:CEST
DTSTART:20210328T010000
END:DAYLIGHT
BEGIN:STANDARD
TZOFFSETFROM:+0200
TZOFFSETTO:+0100
TZNAME:CET
DTSTART:20211031T010000
END:STANDARD
END:VTIMEZONE
BEGIN:VEVENT
DTSTART;TZID=Europe/Berlin:20200404T103000
DTEND;TZID=Europe/Berlin:20200404T123000
DTSTAMP:20260423T232635
CREATED:20200103T122036Z
LAST-MODIFIED:20200103T122036Z
UID:10001036-1585996200-1586003400@flamingocat.de
SUMMARY:Offener Wallhanging Workshop
DESCRIPTION:It’s spring time! Begrüße den Frühling mit einem Eyecatcher für deine Wohnung. In unserem 2-stündigen Workshop zeigen wir dir\, wie du deine Traumdeko selber machen kannst. Blumen binden\, Bänder knüpfen und perlen aufziehen – deiner Kreativität sind keine Grenzen gesetzt! \n  ab 39\,95 € / Person
URL:https://flamingocat.de/event/offener-wallhanging-workshop-8/
LOCATION:DIY DEPARTEMENT\, Karl Liebknecht Strasse 13\, 04107
ATTACH;FMTTYPE=:
END:VEVENT
BEGIN:VEVENT
DTSTART;TZID=Europe/Berlin:20200403T183000
DTEND;TZID=Europe/Berlin:20200403T213000
DTSTAMP:20260423T232635
CREATED:20200131T175614Z
LAST-MODIFIED:20200131T175614Z
UID:10001063-1585938600-1585949400@flamingocat.de
SUMMARY:Offene Make up School
DESCRIPTION:Beauty – Cuties aufgepasst! In unserer Make up School zeigen wir dir\, wie ein typgerechtes Styling aussieht und bringen deine Wimpern zum klimpern. Vom Grundieren bis zum Contouring – Unsere zertifizierten Make up Artists zeigen dir\, wie du ab jetzt selbst einen richtigen Red Carpet kreierst. Neben allen benötigsten Produkten für einen gelungenen Look\, erhältst du von uns ein Anleitungsheft mit allen Tricks und Kniffen sowie ein Gläschen Sekt und selbstgemachte Limo.
URL:https://flamingocat.de/event/offene-make-up-school-7/
LOCATION:DIY DEPARTEMENT\, Karl Liebknecht Strasse 13\, 04107
CATEGORIES:Offene Kurse
ATTACH;FMTTYPE=:
END:VEVENT
BEGIN:VEVENT
DTSTART;TZID=Europe/Berlin:20200331T183000
DTEND;TZID=Europe/Berlin:20200331T203000
DTSTAMP:20260423T232635
CREATED:20200114T104352Z
LAST-MODIFIED:20200114T104352Z
UID:10001045-1585679400-1585686600@flamingocat.de
SUMMARY:Offener Wallhanging Workshop
DESCRIPTION:Was auf Instagram schon längst zum riesen Hit geworden ist\, das feiert jetzt auch Einzug in unserer Kreativwerkstatt. #floralwallhanging. Kennt ihr nicht? Dann wird`s höchste Zeit! Egal ob in romantisch verspielten Varianten\, als Traumfänger oder mit dekorativen Makramee-Knoten\, diese hängenden Deko-Schönheiten sind ein echtes Must-Have für jedes Zuhause!
URL:https://flamingocat.de/event/offener-wallhanging-workshop-10/
LOCATION:DIY DEPARTEMENT\, Karl Liebknecht Strasse 13\, 04107
CATEGORIES:Offene Kurse
ATTACH;FMTTYPE=:
END:VEVENT
BEGIN:VEVENT
DTSTART;TZID=Europe/Berlin:20200331T183000
DTEND;TZID=Europe/Berlin:20200331T203000
DTSTAMP:20260423T232635
CREATED:20200113T175200Z
LAST-MODIFIED:20200113T175200Z
UID:10001042-1585679400-1585686600@flamingocat.de
SUMMARY:Offener Blumenkranz Workshop
DESCRIPTION:Ready to become the queen of flowers? In unserem beliebten Blumenkranz-Workshop lernst du nicht nur den richtigen Umgang mit Gartenscheren\, Draht und Floristen-Tape. Wir servieren nebenbei hilfreiche Tricks und Kniffe für das kinderleichte Binden deiner individuellen Flowercrown. Außerdem halten wir ein Gläschen eisgekühlten Sekt für dich bereit.
URL:https://flamingocat.de/event/offener-blumenkranz-workshop-10/
LOCATION:DIY DEPARTEMENT\, Karl Liebknecht Strasse 13\, 04107
CATEGORIES:Offene Kurse
ATTACH;FMTTYPE=:
END:VEVENT
BEGIN:VEVENT
DTSTART;TZID=Europe/Berlin:20200329T103000
DTEND;TZID=Europe/Berlin:20200329T153000
DTSTAMP:20260423T232635
CREATED:20200127T154024Z
LAST-MODIFIED:20200127T154024Z
UID:10001054-1585477800-1585495800@flamingocat.de
SUMMARY:Offener Goldschmiede-Workshop
DESCRIPTION:Baby\, bring das Gold zum Schmelzen! Für echte Glamour-Kätzchen bieten wir ab jetzt einen 5-stündigen Goldschmiede-Workshop an\, in dem ihr euren eigenen indiduellen Schmuck herstellen könnt. Gemeinsam mit unserem professionellen Goldschmied sägen\, stanzen und löten wir dein neues Lieblings-Schmuckstück. Im Preis enthalten sind alle benötigten Materialien\, sowie 10g Echtsilber pro Person\, Getränke und Snacks.
URL:https://flamingocat.de/event/offener-goldschmiede-workshop-2/
LOCATION:DIY DEPARTEMENT\, Karl Liebknecht Strasse 13\, 04107
CATEGORIES:Offene Kurse
END:VEVENT
BEGIN:VEVENT
DTSTART;TZID=Europe/Berlin:20200324T183000
DTEND;TZID=Europe/Berlin:20200324T213000
DTSTAMP:20260423T232635
CREATED:20200211T094716Z
LAST-MODIFIED:20200211T094716Z
UID:10001068-1585074600-1585085400@flamingocat.de
SUMMARY:Offener Blumenampel Workshop
DESCRIPTION:Auf die Knoten – Fertig – Los! Für Makramee-Einsteiger ist dieser Kurs genau das Richtige.Wir zeigen dir in unserem 3-stündigen Kurs grundlegende Techniken und knüpfen anschließend gemeinsam für deine geliebten Topf-Pflanzen einen angesagten Pflanzenhänger im Vintage-Look. Also sicher dir schnell ein Plätzchen an unserer Knüpfstange!
URL:https://flamingocat.de/event/offener-blumenampel-workshop/
LOCATION:DIY DEPARTEMENT\, Karl Liebknecht Strasse 13\, 04107
CATEGORIES:Offene Kurse
ATTACH;FMTTYPE=:
END:VEVENT
BEGIN:VEVENT
DTSTART;TZID=Europe/Berlin:20200320T170000
DTEND;TZID=Europe/Berlin:20200320T210000
DTSTAMP:20260423T232635
CREATED:20200223T130329Z
LAST-MODIFIED:20200223T130329Z
UID:10001076-1584723600-1584738000@flamingocat.de
SUMMARY:Offener Acrylmalerei Workshop
DESCRIPTION:Schmeisst die Möbel aus dem Fenster\, wir brauchen Platz zum malen! In unserem Acrylmalerei-Workshop kannst du jetzt\ndeinen inneren Picasso entdecken: Lass dich inspirieren von Farben und Formen und erschaffe dein eigenes\, individuelles Kunstwerk auf Leinwand. Egal ob abstrakt oder figürlich: in unserem 4-stündigen Workshop kannst du dich und deine Kreativität frei entfalten und malen\, was dir gefällt. \n  ab 49\,95 € / Person
URL:https://flamingocat.de/event/offener-acrylmalerei-workshop/
LOCATION:DIY DEPARTEMENT\, Karl Liebknecht Strasse 13\, 04107
CATEGORIES:Offene Kurse
ATTACH;FMTTYPE=:
END:VEVENT
BEGIN:VEVENT
DTSTART;TZID=Europe/Berlin:20200319T183000
DTEND;TZID=Europe/Berlin:20200319T213000
DTSTAMP:20260423T232635
CREATED:20200113T174224Z
LAST-MODIFIED:20200113T174224Z
UID:10001039-1584642600-1584653400@flamingocat.de
SUMMARY:Offener Schmuck Workshop
DESCRIPTION:Bling Bling – Baby! In unserem Schmuck-Workshop zeigen wir dir\, wie du deine eigenen angesagten it-Pieces aus Leder\, Holz oder Acryl herstellst. Such dir aus unseren FLAMINGOCAT-typischen Formen deine Lieblingsteile aus und gestalte 2 Schmuckstücke mit Wow-Effekt. Für besonders geschickte Hände halten wir auch Blatt-Gold bereit und ein Gläschen Sekt geht on top noch auf`s Haus!\n39\,95 € / Person
URL:https://flamingocat.de/event/offener-schmuck-workshop-13/
LOCATION:DIY DEPARTEMENT\, Karl Liebknecht Strasse 13\, 04107
CATEGORIES:Offene Kurse
ATTACH;FMTTYPE=:
END:VEVENT
BEGIN:VEVENT
DTSTART;TZID=Europe/Berlin:20200310T183000
DTEND;TZID=Europe/Berlin:20200310T203000
DTSTAMP:20260423T232635
CREATED:20200114T092246Z
LAST-MODIFIED:20200114T092246Z
UID:10001044-1583865000-1583872200@flamingocat.de
SUMMARY:Offener Wallhanging Workshop
DESCRIPTION:Was auf Instagram schon längst zum riesen Hit geworden ist\, das feiert jetzt auch Einzug in unserer Kreativwerkstatt. #floralwallhanging. Kennt ihr nicht? Dann wird`s höchste Zeit! Egal ob in romantisch verspielten Varianten\, als Traumfänger oder mit dekorativen Makramee-Knoten\, diese hängenden Deko-Schönheiten sind ein echtes Must-Have für jede Wohnung!
URL:https://flamingocat.de/event/offener-wallhanging-workshop-9/
LOCATION:DIY DEPARTEMENT\, Karl Liebknecht Strasse 13\, 04107
CATEGORIES:Offene Kurse
ATTACH;FMTTYPE=:
END:VEVENT
BEGIN:VEVENT
DTSTART;TZID=Europe/Berlin:20200310T183000
DTEND;TZID=Europe/Berlin:20200310T203000
DTSTAMP:20260423T232635
CREATED:20200113T174826Z
LAST-MODIFIED:20200113T174826Z
UID:10001041-1583865000-1583872200@flamingocat.de
SUMMARY:Offener Blumenkranz Workshop
DESCRIPTION:Ready to become the queen of flowers? In unserem beliebten Blumenkranz-Workshop lernst du nicht nur den richtigen Umgang mit Gartenscheren\, Draht und Floristen-Tape. Wir servieren nebenbei hilfreiche Tricks und Kniffe für das kinderleichte Binden deiner individuellen Flowercrown. Außerdem halten wir ein Gläschen eisgekühlten Sekt für dich bereit.\n39\,95 € / Person
URL:https://flamingocat.de/event/offener-blumenkranz-workshop-9/
LOCATION:DIY DEPARTEMENT\, Karl Liebknecht Strasse 13\, 04107
CATEGORIES:Offene Kurse
ATTACH;FMTTYPE=:
END:VEVENT
BEGIN:VEVENT
DTSTART;TZID=Europe/Berlin:20200305T180000
DTEND;TZID=Europe/Berlin:20200305T210000
DTSTAMP:20260423T232635
CREATED:20191107T175434Z
LAST-MODIFIED:20191107T175434Z
UID:10001035-1583431200-1583442000@flamingocat.de
SUMMARY:Offene Make up School
DESCRIPTION:Beauty – Cuties aufgepasst! In unserer Make up School zeigen wir dir\, wie ein typgerechtes Styling aussieht und bringen deine Wimpern zum klimpern. Vom Grundieren bis zum Contouring – Unsere zertifizierten Make up Artists zeigen dir\, wie du ab jetzt selbst einen richtigen Red Carpet Look zauberst und verraten dir ihre Profi-Tricks. Ein Glas Sekt und unser praktisches Arbeitsheft sind im Preis bereits enthalten.
URL:https://flamingocat.de/event/offene-make-up-school-6/
LOCATION:FLAMINGOCAT\, Kurt Eisner Strasse 17\, Leipzig\, 04275
CATEGORIES:Offene Kurse
ATTACH;FMTTYPE=:
END:VEVENT
BEGIN:VEVENT
DTSTART;TZID=Europe/Berlin:20200303T183000
DTEND;TZID=Europe/Berlin:20200303T213000
DTSTAMP:20260423T232635
CREATED:20200113T173830Z
LAST-MODIFIED:20200113T173830Z
UID:10001038-1583260200-1583271000@flamingocat.de
SUMMARY:Offener Schmuck Workshop
DESCRIPTION:Bling Bling – Baby! In unserem Schmuck-Workshop zeigen wir dir\, wie du deine eigenen angesagten it-Pieces aus Leder\, Holz oder Acryl herstellst. Such dir aus unseren FLAMINGOCAT-typischen Formen deine Lieblingsteile aus und gestalte 2 Schmuckstücke mit Wow-Effekt. Für besonders geschickte Hände halten wir auch Blatt-Gold bereit. Ein Gläschen Sekt geht aufs Haus!\n39\,95 € / Person
URL:https://flamingocat.de/event/offener-schmuck-workshop-12/
LOCATION:DIY DEPARTEMENT\, Karl Liebknecht Strasse 13\, 04107
CATEGORIES:Offene Kurse
ATTACH;FMTTYPE=:
END:VEVENT
BEGIN:VEVENT
DTSTART;TZID=Europe/Berlin:20200301T103000
DTEND;TZID=Europe/Berlin:20200301T153000
DTSTAMP:20260423T232635
CREATED:20200127T153720Z
LAST-MODIFIED:20200127T153720Z
UID:10001053-1583058600-1583076600@flamingocat.de
SUMMARY:Offener Goldschmiede-Workshop
DESCRIPTION:Baby\, bring das Gold zum Schmelzen! Für echte Glamour-Kätzchen bieten wir ab jetzt einen 5-stündigen Goldschmiede-Workshop an\, in dem ihr euren eigenen indiduellen Schmuck herstellen könnt. Gemeinsam mit unserem professionellen Goldschmied sägen\, stanzen und löten wir dein neues Lieblings-Schmuckstück. Im Preis enthalten sind alle benötigten Materialien\, sowie 10g Echtsilber pro Person\, Getränke und Snacks.
URL:https://flamingocat.de/event/offener-goldschmiede-workshop/
LOCATION:DIY DEPARTEMENT\, Karl Liebknecht Strasse 13\, 04107
CATEGORIES:Offene Kurse
END:VEVENT
BEGIN:VEVENT
DTSTART;TZID=Europe/Berlin:20200225T183000
DTEND;TZID=Europe/Berlin:20200225T213000
DTSTAMP:20260423T232635
CREATED:20191018T135556Z
LAST-MODIFIED:20191018T135556Z
UID:10001031-1582655400-1582666200@flamingocat.de
SUMMARY:Offener Blumenampel Kurs
DESCRIPTION:Auf die Knoten – Fertig – Los! Für Makramee-Einsteiger ist dieser Kurs genau das Richtige.Wir zeigen dir in unserem 3-stündigen Kurs grundlegende Techniken und knüpfen anschließend gemeinsam für deine geliebten Topf-Pflanzen einen angesagten Pflanzenhänger im Vintage-Look. Also sicher dir schnell ein Plätzchen an unserer Knüpfstange und designe mit Holzperlen und Seilen deine individuelle Blumenampel. Achtung: Suchtgefahr!
URL:https://flamingocat.de/event/offener-blumenampel-kurs/
LOCATION:FLAMINGOCAT\, Kurt Eisner Strasse 17\, Leipzig\, 04275
CATEGORIES:Offene Kurse
ATTACH;FMTTYPE=:
END:VEVENT
BEGIN:VEVENT
DTSTART;TZID=Europe/Berlin:20200220T183000
DTEND;TZID=Europe/Berlin:20200220T213000
DTSTAMP:20260423T232635
CREATED:20191018T125900Z
LAST-MODIFIED:20191018T125900Z
UID:10001022-1582223400-1582234200@flamingocat.de
SUMMARY:Offener Blumenkranz Workshop
DESCRIPTION:Ready to become the queen of flowers? In unserem beliebten Blumenkranz-Workshop lernst du nicht nur den richtigen Umgang mit Gartenscheren\, Draht und Floristen-Tape. Wir servieren nebenbei hilfreiche Tricks und Kniffe für das kinderleichte Binden deiner individuellen Flowercrown. Außerdem halten wir ein Gläschen eisgekühlten Sekt für dich bereit. 39\,95 / Person
URL:https://flamingocat.de/event/offener-blumenkranz-workshop-7/
CATEGORIES:Offene Kurse
ATTACH;FMTTYPE=:
END:VEVENT
BEGIN:VEVENT
DTSTART;TZID=Europe/Berlin:20200220T183000
DTEND;TZID=Europe/Berlin:20200220T203000
DTSTAMP:20260423T232635
CREATED:20200113T174536Z
LAST-MODIFIED:20200113T174536Z
UID:10001040-1582223400-1582230600@flamingocat.de
SUMMARY:Offener Blumenkranz Workshop
DESCRIPTION:Ready to become the queen of flowers? In unserem beliebten Blumenkranz-Workshop lernst du nicht nur den richtigen Umgang mit Gartenscheren\, Draht und Floristen-Tape. Wir servieren nebenbei hilfreiche Tricks und Kniffe für das kinderleichte Binden deiner individuellen Flowercrown. Außerdem halten wir ein Gläschen eisgekühlten Sekt für dich bereit.\n39\,95 € / Person
URL:https://flamingocat.de/event/offener-blumenkranz-workshop-8/
LOCATION:DIY DEPARTEMENT\, Karl Liebknecht Strasse 13\, 04107
CATEGORIES:Offene Kurse
END:VEVENT
BEGIN:VEVENT
DTSTART;TZID=Europe/Berlin:20200218T183000
DTEND;TZID=Europe/Berlin:20200218T213000
DTSTAMP:20260423T232635
CREATED:20200113T173437Z
LAST-MODIFIED:20200113T173437Z
UID:10001037-1582050600-1582061400@flamingocat.de
SUMMARY:Offener Schmuck Workshop
DESCRIPTION:Bling Bling – Baby! In unserem Schmuck-Workshop zeigen wir dir\, wie du deine eigenen angesagten it-Pieces aus Leder\, Holz oder Acryl herstellst. Such dir aus unseren FLAMINGOCAT-typischen Formen deine Lieblingsteile aus und gestalte 2 Schmuckstücke mit Wow-Effekt. Für besonders geschickte Hände halten wir auch Blatt-Gold bereit. Ein Gläschen Sekt geht aufs Haus!\n39\,95 € / Person
URL:https://flamingocat.de/event/offener-schmuck-workshop-11/
LOCATION:DIY DEPARTEMENT\, Karl Liebknecht Strasse 13\, 04107
CATEGORIES:Offene Kurse
ATTACH;FMTTYPE=:
END:VEVENT
BEGIN:VEVENT
DTSTART;TZID=Europe/Berlin:20200206T183000
DTEND;TZID=Europe/Berlin:20200206T213000
DTSTAMP:20260423T232635
CREATED:20191018T125619Z
LAST-MODIFIED:20191018T125619Z
UID:10001021-1581013800-1581024600@flamingocat.de
SUMMARY:Offener Blumenkranz Workshop
DESCRIPTION:Ready to become the queen of flowers? In unserem beliebten Blumenkranz-Workshop lernst du nicht nur den richtigen Umgang mit Gartenscheren\, Draht und Floristen-Tape. Wir servieren nebenbei hilfreiche Tricks und Kniffe für das kinderleichte Binden deiner individuellen flowercrown. Außerdem halten wir ein Gläschen eisgekühlten Sekt für dich bereit. 39\,95 / Person
URL:https://flamingocat.de/event/offener-blumenkranz-workshop-6/
CATEGORIES:Offene Kurse
ATTACH;FMTTYPE=:
END:VEVENT
BEGIN:VEVENT
DTSTART;TZID=Europe/Berlin:20200206T180000
DTEND;TZID=Europe/Berlin:20200206T210000
DTSTAMP:20260423T232635
CREATED:20191107T175117Z
LAST-MODIFIED:20191107T175117Z
UID:10001034-1581012000-1581022800@flamingocat.de
SUMMARY:Offene Make up School
DESCRIPTION:Beauty – Cuties aufgepasst! In unserer Make up School zeigen wir dir\, wie ein typgerechtes Styling aussieht und bringen deine Wimpern zum klimpern. Vom Grundieren bis zum Contouring – Unsere zertifizierten Make up Artists zeigen dir\, wie du ab jetzt selbst einen richtigen Red Carpet Look zauberst und verraten dir ihre Profi-Tricks. Ein Glas Sekt und unser praktisches Arbeitsheft sind im Preis bereits enthalten.
URL:https://flamingocat.de/event/offene-make-up-school-5/
LOCATION:FLAMINGOCAT\, Kurt Eisner Strasse 17\, Leipzig\, 04275
CATEGORIES:Offene Kurse
ATTACH;FMTTYPE=:
END:VEVENT
BEGIN:VEVENT
DTSTART;TZID=Europe/Berlin:20200204T183000
DTEND;TZID=Europe/Berlin:20200204T213000
DTSTAMP:20260423T232635
CREATED:20191018T125233Z
LAST-MODIFIED:20191018T125233Z
UID:10001020-1580841000-1580851800@flamingocat.de
SUMMARY:Offener Schmuck Workshop
DESCRIPTION:Bling Bling – Baby! In unserem Schmuck-Workshop zeigen wir dir\, wie du deine eigenen angesagten it-Pieces aus Leder\, Holz oder Acryl herstellst.  Such dir aus unseren FLAMINGOCAT-typischen Formen deine Lieblingsteile aus und gestalte 2 Schmuckstücke mit Wow-Effekt.  Für besonders geschickte Hände halten wir auch Blatt-Gold bereit.  39\,95€ / Person
URL:https://flamingocat.de/event/offener-schmuck-workshop-10/
LOCATION:FLAMINGOCAT\, Kurt Eisner Strasse 17\, Leipzig\, 04275
CATEGORIES:Offene Kurse
ATTACH;FMTTYPE=:
END:VEVENT
BEGIN:VEVENT
DTSTART;TZID=Europe/Berlin:20200128T183000
DTEND;TZID=Europe/Berlin:20200128T213000
DTSTAMP:20260423T232635
CREATED:20191018T135755Z
LAST-MODIFIED:20191018T135755Z
UID:10001032-1580236200-1580247000@flamingocat.de
SUMMARY:Offener Blumenampel Kurs
DESCRIPTION:Auf die Knoten – Fertig – Los! Für Makramee-Einsteiger ist dieser Kurs genau das Richtige.Wir zeigen dir in unserem 3-stündigen Kurs grundlegende Techniken und knüpfen anschließend gemeinsam für deine geliebten Topf-Pflanzen einen angesagten Pflanzenhänger im Vintage-Look. Also sicher dir schnell ein Plätzchen an unserer Knüpfstange und designe mit Holzperlen und Seilen deine individuelle Blumenampel. Achtung: Suchtgefahr!
URL:https://flamingocat.de/event/offener-blumenampel-kurs-2/
LOCATION:FLAMINGOCAT\, Kurt Eisner Strasse 17\, Leipzig\, 04275
CATEGORIES:Offene Kurse
ATTACH;FMTTYPE=:
END:VEVENT
BEGIN:VEVENT
DTSTART;TZID=Europe/Berlin:20200110T180000
DTEND;TZID=Europe/Berlin:20200110T210000
DTSTAMP:20260423T232635
CREATED:20191107T174345Z
LAST-MODIFIED:20191107T174345Z
UID:10001033-1578679200-1578690000@flamingocat.de
SUMMARY:Offene Make up School
DESCRIPTION:Beauty – Cuties aufgepasst! In unserer Make up School zeigen wir dir\, wie ein typgerechtes Styling aussieht und bringen deine Wimpern zum klimpern. Vom Grundieren bis zum Contouring – Unsere zertifizierten Make up Artists zeigen dir\, wie du an jetzt selbst einen richtiger Red Carpet Look zauberst und verraten dir ihre Profi-Tricks. Ein Glas Sekt und unser praktisches Arbeitsheft sind im Preis bereits enthalten.
URL:https://flamingocat.de/event/offene-make-up-school-4/
LOCATION:FLAMINGOCAT\, Kurt Eisner Strasse 17\, Leipzig\, 04275
CATEGORIES:Offene Kurse
ATTACH;FMTTYPE=:
END:VEVENT
BEGIN:VEVENT
DTSTART;TZID=Europe/Berlin:20200107T183000
DTEND;TZID=Europe/Berlin:20200107T213000
DTSTAMP:20260423T232635
CREATED:20191018T125019Z
LAST-MODIFIED:20191018T125019Z
UID:10001019-1578421800-1578432600@flamingocat.de
SUMMARY:Offener Schmuck Workshop
DESCRIPTION:Bling Bling – Baby! In unserem Schmuck-Workshop zeigen wir dir\, wie du deine eigenen angesagten it-Pieces aus Leder\, Holz oder Acryl herstellst.  Such dir aus unseren FLAMINGOCAT-typischen Formen deine Lieblingsteile aus und gestalte 2 Schmuckstücke mit Wow-Effekt.  Für besonders geschickte Hände halten wir auch Blatt-Gold bereit.  39\,95€ / Person
URL:https://flamingocat.de/event/offener-schmuck-workshop-9/
LOCATION:FLAMINGOCAT\, Kurt Eisner Strasse 17\, Leipzig\, 04275
CATEGORIES:Offene Kurse
ATTACH;FMTTYPE=:
END:VEVENT
BEGIN:VEVENT
DTSTART;TZID=Europe/Berlin:20191219T183000
DTEND;TZID=Europe/Berlin:20191219T203000
DTSTAMP:20260423T232635
CREATED:20191015T203444Z
LAST-MODIFIED:20191015T203444Z
UID:10001016-1576780200-1576787400@flamingocat.de
SUMMARY:Offener Tür-Kranz Workshop
DESCRIPTION:Ho Ho Ho – in unserem Tür-Kranz Workshop wird es jetzt so richtig weihnachtlich! Neben grünen Tannenzweigen\, großen Tannenzapfen und hübschen Beeren\, stehen Lebkuchen und dampfender Glühwein für dich bereit. Sicher dir jetzt dein Plätzchen und verschöner dein Zuhause mit einem angesagten skandinavischen Kranz.
URL:https://flamingocat.de/event/offener-tuer-kranz-workshop-5/
LOCATION:FLAMINGOCAT\, Kurt Eisner Strasse 17\, Leipzig\, 04275
CATEGORIES:Offene Kurse
ATTACH;FMTTYPE=:
END:VEVENT
BEGIN:VEVENT
DTSTART;TZID=Europe/Berlin:20191212T183000
DTEND;TZID=Europe/Berlin:20191212T203000
DTSTAMP:20260423T232635
CREATED:20191015T202824Z
LAST-MODIFIED:20191015T202824Z
UID:10001014-1576175400-1576182600@flamingocat.de
SUMMARY:Offener Tür-Kranz Workshop
DESCRIPTION:Ho Ho Ho – in unserem Tür-Kranz Workshop wird es jetzt so richtig weihnachtlich! Neben grünen Tannenzweigen\, großen Tannenzapfen und\nhübschen Beeren\,  stehen Lebkuchen und dampfender Glühwein für dich bereit. Sicher dir jetzt dein Plätzchen und verschöner dein Zuhause mit einem angesagten skandinavischen Kranz.
URL:https://flamingocat.de/event/offener-tuer-kranz-workshop-3/
LOCATION:FLAMINGOCAT\, Kurt Eisner Strasse 17\, Leipzig\, 04275
CATEGORIES:Offene Kurse
ATTACH;FMTTYPE=:
END:VEVENT
BEGIN:VEVENT
DTSTART;TZID=Europe/Berlin:20191210T183000
DTEND;TZID=Europe/Berlin:20191210T213000
DTSTAMP:20260423T232635
CREATED:20191015T204334Z
LAST-MODIFIED:20191015T204334Z
UID:10001017-1576002600-1576013400@flamingocat.de
SUMMARY:Offener Schmuck Workshop
DESCRIPTION:In unserem 3-stündigen Kurs arbeiten wir mit Holz und Acryl in FLAMINGOCAT-typischen geometrischen Formen. Egal ob Ohrstecker\, Ketten\, Ringe oder Haarspangen – Du schleifst\, lackierst und verzierst deine neuen Lieblings-Accessoires genau nach deinen Wünschen. Am Ende unseres Kurses nimmst du 2 Schmuckstücke mit nachhause.
URL:https://flamingocat.de/event/offener-schmuck-workshop-7/
LOCATION:FLAMINGOCAT\, Kurt Eisner Strasse 17\, Leipzig\, 04275
CATEGORIES:Offene Kurse
ATTACH;FMTTYPE=:
END:VEVENT
BEGIN:VEVENT
DTSTART;TZID=Europe/Berlin:20191207T150000
DTEND;TZID=Europe/Berlin:20191207T173000
DTSTAMP:20260423T232635
CREATED:20191015T202644Z
LAST-MODIFIED:20191015T202644Z
UID:10001013-1575730800-1575739800@flamingocat.de
SUMMARY:Offener Tür-Kranz Workshop
DESCRIPTION:Ho Ho Ho – in unserem Tür-Kranz Workshop wird es jetzt so richtig weihnachtlich! Neben grünen Tannenzweigen\, großen Tannenzapfen und\nhübschen Beeren\,  stehen Lebkuchen und dampfender Glühwein für dich bereit. Sicher dir jetzt dein Plätzchen und verschöner dein Zuhause mit einem angesagten skandinavischen Kranz.
URL:https://flamingocat.de/event/offener-tuer-kranz-workshop-2/
LOCATION:FLAMINGOCAT\, Kurt Eisner Strasse 17\, Leipzig\, 04275
CATEGORIES:Offene Kurse
ATTACH;FMTTYPE=:
END:VEVENT
BEGIN:VEVENT
DTSTART;TZID=Europe/Berlin:20191207T103000
DTEND;TZID=Europe/Berlin:20191207T133000
DTSTAMP:20260423T232635
CREATED:20190821T124208Z
LAST-MODIFIED:20190821T124208Z
UID:10000671-1575714600-1575725400@flamingocat.de
SUMMARY:offener Christbaumschmuck-Workshop
DESCRIPTION:
URL:https://flamingocat.de/event/offener-christbaumschmuck-workshop-4/
LOCATION:FLAMINGOCAT\, Kurt Eisner Strasse 17\, Leipzig\, 04275
CATEGORIES:Offene Kurse
ATTACH;FMTTYPE=:
END:VEVENT
BEGIN:VEVENT
DTSTART;TZID=Europe/Berlin:20191203T183000
DTEND;TZID=Europe/Berlin:20191203T203000
DTSTAMP:20260423T232635
CREATED:20191015T202102Z
LAST-MODIFIED:20191015T202102Z
UID:10001012-1575397800-1575405000@flamingocat.de
SUMMARY:Offener Tür-Kranz Workshop
DESCRIPTION:Welcome to winter wonderland! Wir feiern die schönste Zeit des Jahres mit duftendem Eukalyptus\, grüner Kiefer und große Tannenzapfen. Gemeinsam binden wir in unserem Workshop wunderschöne skandinavische Kränze für dein Zuhause. Alle Materialien sowie Glühwein und Lebkuchen sind im Preis inklusive.
URL:https://flamingocat.de/event/offener-tuer-kranz-workshop/
LOCATION:FLAMINGOCAT\, Kurt Eisner Strasse 17\, Leipzig\, 04275
CATEGORIES:Offene Kurse
ATTACH;FMTTYPE=:
END:VEVENT
BEGIN:VEVENT
DTSTART;TZID=Europe/Berlin:20191130T103000
DTEND;TZID=Europe/Berlin:20191130T133000
DTSTAMP:20260423T232635
CREATED:20190821T123817Z
LAST-MODIFIED:20190821T123817Z
UID:10000670-1575109800-1575120600@flamingocat.de
SUMMARY:offener Christbaumschmuck-Workshop
DESCRIPTION:Sleigh bells ring\, are you listening? Bei Glühwein und Plätzchen zeigen wir euch\, wie ihr euren Baum im skandinavischen Design erstrahlen lasst. Aus unseren coolen geometrischen Weihnachts-Motiven suchst du dir deine Lieblingsmotive aus und gestaltest sie mit Pinsel und Farbe\, Glitzer und Blattgold.
URL:https://flamingocat.de/event/offener-christbaumschmuck-workshop-3/
LOCATION:FLAMINGOCAT\, Kurt Eisner Strasse 17\, Leipzig\, 04275
CATEGORIES:Offene Kurse
ATTACH;FMTTYPE=:
END:VEVENT
END:VCALENDAR