BEGIN:VCALENDAR
VERSION:2.0
PRODID:-//Flamingocat - ECPv6.15.20//NONSGML v1.0//EN
CALSCALE:GREGORIAN
METHOD:PUBLISH
X-WR-CALNAME:Flamingocat
X-ORIGINAL-URL:https://flamingocat.de
X-WR-CALDESC:Veranstaltungen für Flamingocat
REFRESH-INTERVAL;VALUE=DURATION:PT1H
X-Robots-Tag:noindex
X-PUBLISHED-TTL:PT1H
BEGIN:VTIMEZONE
TZID:Europe/Berlin
BEGIN:DAYLIGHT
TZOFFSETFROM:+0100
TZOFFSETTO:+0200
TZNAME:CEST
DTSTART:20190331T010000
END:DAYLIGHT
BEGIN:STANDARD
TZOFFSETFROM:+0200
TZOFFSETTO:+0100
TZNAME:CET
DTSTART:20191027T010000
END:STANDARD
BEGIN:DAYLIGHT
TZOFFSETFROM:+0100
TZOFFSETTO:+0200
TZNAME:CEST
DTSTART:20200329T010000
END:DAYLIGHT
BEGIN:STANDARD
TZOFFSETFROM:+0200
TZOFFSETTO:+0100
TZNAME:CET
DTSTART:20201025T010000
END:STANDARD
BEGIN:DAYLIGHT
TZOFFSETFROM:+0100
TZOFFSETTO:+0200
TZNAME:CEST
DTSTART:20210328T010000
END:DAYLIGHT
BEGIN:STANDARD
TZOFFSETFROM:+0200
TZOFFSETTO:+0100
TZNAME:CET
DTSTART:20211031T010000
END:STANDARD
END:VTIMEZONE
BEGIN:VEVENT
DTSTART;TZID=Europe/Berlin:20200609T183000
DTEND;TZID=Europe/Berlin:20200609T213000
DTSTAMP:20260423T190040
CREATED:20200516T072645Z
LAST-MODIFIED:20200516T072645Z
UID:10001117-1591727400-1591738200@flamingocat.de
SUMMARY:Offener Schmuck Workshop
DESCRIPTION:Bling Bling – Baby! In unserem Schmuck-Workshop zeigen wir dir\, wie du deine eigenen angesagten it-Pieces aus Leder\, Holz oder Acryl herstellst. Such dir aus unseren FLAMINGOCAT-typischen Formen deine Lieblingsteile aus und gestalte 2 Schmuckstücke mit Wow-Effekt. Für besonders geschickte Hände halten wir auch Blatt-Gold bereit.
URL:https://flamingocat.de/event/offener-schmuck-workshop-16/
LOCATION:DIY DEPARTEMENT\, Karl Liebknecht Strasse 13\, 04107
CATEGORIES:Offene Kurse
ATTACH;FMTTYPE=:
END:VEVENT
BEGIN:VEVENT
DTSTART;TZID=Europe/Berlin:20200528T183000
DTEND;TZID=Europe/Berlin:20200528T213000
DTSTAMP:20260423T190040
CREATED:20200222T123959Z
LAST-MODIFIED:20200222T123959Z
UID:10001075-1590690600-1590701400@flamingocat.de
SUMMARY:Offene Make up School
DESCRIPTION:Beauty – Cuties aufgepasst! In unserer Make up School zeigen wir dir\, wie ein typgerechtes Styling aussieht und bringen deine Wimpern zum klimpern. Vom Grundieren bis zum Contouring – Unsere zertifizierten Make up Artists zeigen dir\, wie du ab jetzt selbst einen richtigen Red Carpet ode ein professionelles Tagesmake-up zauberst.
URL:https://flamingocat.de/event/offene-make-up-school-9/
LOCATION:DIY DEPARTEMENT\, Karl Liebknecht Strasse 13\, 04107
CATEGORIES:Offene Kurse
ATTACH;FMTTYPE=:
END:VEVENT
BEGIN:VEVENT
DTSTART;TZID=Europe/Berlin:20200525T183000
DTEND;TZID=Europe/Berlin:20200525T213000
DTSTAMP:20260423T190040
CREATED:20200304T114156Z
LAST-MODIFIED:20200304T114156Z
UID:10001082-1590431400-1590442200@flamingocat.de
SUMMARY:Offener Blumenampel Workshop
DESCRIPTION:Auf die Knoten – Fertig – Los! Für Makramee-Einsteiger ist dieser Kurs genau das Richtige.Wir zeigen dir in unserem 3-stündigen Kurs grundlegende Techniken und knüpfen anschließend gemeinsam für deine geliebten Topf-Pflanzen einen angesagten Pflanzenhänger im Vintage-Look. Also sicher dir schnell ein Plätzchen an unserer Knüpfstange.
URL:https://flamingocat.de/event/offener-blumenampel-workshop-4/
LOCATION:DIY DEPARTEMENT\, Karl Liebknecht Strasse 13\, 04107
CATEGORIES:Offene Kurse
END:VEVENT
BEGIN:VEVENT
DTSTART;TZID=Europe/Berlin:20200525T183000
DTEND;TZID=Europe/Berlin:20200525T203000
DTSTAMP:20260423T190040
CREATED:20200304T113049Z
LAST-MODIFIED:20200304T113049Z
UID:10001081-1590431400-1590438600@flamingocat.de
SUMMARY:Offener Blumenkranz Workshop
DESCRIPTION:Ready to become the queen of flowers? In unserem beliebten Blumenkranz-Workshop lernst du nicht nur den richtigen Umgang mit Gartenscheren\, Draht und Floristen-Tape. Wir servieren nebenbei auch noch hilfreiche Tricks und Kniffe für das kinderleichte Binden deiner individuellen Flowercrown. Außerdem halten wir ein Gläschen eisgekühlten Sekt für dich bereit.
URL:https://flamingocat.de/event/offener-blumenkranz-workshop-13/
LOCATION:DIY DEPARTEMENT\, Karl Liebknecht Strasse 13\, 04107
CATEGORIES:Offene Kurse
ATTACH;FMTTYPE=:
END:VEVENT
BEGIN:VEVENT
DTSTART;TZID=Europe/Berlin:20200522T170000
DTEND;TZID=Europe/Berlin:20200522T210000
DTSTAMP:20260423T190040
CREATED:20200223T130923Z
LAST-MODIFIED:20200223T130923Z
UID:10001079-1590166800-1590181200@flamingocat.de
SUMMARY:Offener Workshop Acryl auf Leinwand
DESCRIPTION:Schmeisst die Möbel aus dem Fenster\, wir brauchen Platz zum malen! In unserem Acrylmalerei-Workshop kannst du jetzt\ndeinen inneren Picasso entdecken: Lass dich inspirieren von Farben und Formen und erschaffe dein eigenes\, individuelles Kunstwerk auf Leinwand. Egal ob abstrakt oder figürlich: in unserem 4-stündigen Workshop kannst du dich und deine Kreativität frei entfalten. \n  ab 49\,95 € / Person
URL:https://flamingocat.de/event/offener-workshop-acryl-auf-leinwand-2/
LOCATION:DIY DEPARTEMENT\, Karl Liebknecht Strasse 13\, 04107
CATEGORIES:Offene Kurse
ATTACH;FMTTYPE=:
END:VEVENT
BEGIN:VEVENT
DTSTART;TZID=Europe/Berlin:20200518T183000
DTEND;TZID=Europe/Berlin:20200518T203000
DTSTAMP:20260423T190040
CREATED:20200304T114555Z
LAST-MODIFIED:20200304T114555Z
UID:10001084-1589826600-1589833800@flamingocat.de
SUMMARY:Offener Wallhanging Workshop
DESCRIPTION:Was auf Instagram schon längst zum riesen Hit geworden ist\, das feiert jetzt auch Einzug in unserer Kreativwerkstatt. #floralwallhanging. Kennt ihr nicht? Dann wird`s höchste Zeit! Egal ob in romantisch verspielten Varianten\, als Traumfänger oder mit dekorativen Makramee-Knoten\, diese hängenden Deko-Schönheiten sind ein echtes Must-Have für dein Zuhause!
URL:https://flamingocat.de/event/offener-wallhanging-workshop-12/
LOCATION:DIY DEPARTEMENT\, Karl Liebknecht Strasse 13\, 04107
ATTACH;FMTTYPE=:
END:VEVENT
BEGIN:VEVENT
DTSTART;TZID=Europe/Berlin:20200505T180000
DTEND;TZID=Europe/Berlin:20200505T220000
DTSTAMP:20260423T190040
CREATED:20200223T130734Z
LAST-MODIFIED:20200223T130734Z
UID:10001078-1588701600-1588716000@flamingocat.de
SUMMARY:Offener Workshop Acryl auf Leinwand
DESCRIPTION:Schmeisst die Möbel aus dem Fenster\, wir brauchen Platz zum malen! In unserem Acrylmalerei-Workshop kannst du jetzt\ndeinen inneren Picasso entdecken: Lass dich inspirieren von Farben und Formen und erschaffe dein eigenes\, individuelles Kunstwerk auf Leinwand. Egal ob abstrakt oder figürlich: in unserem 4-stündigen Workshop kannst du dich und deine Kreativität frei entfalten und malen\, was dir gefällt. \nab 49\,95 € / Person
URL:https://flamingocat.de/event/offener-workshop-acryl-auf-leinwand/
LOCATION:DIY DEPARTEMENT\, Karl Liebknecht Strasse 13\, 04107
CATEGORIES:Offene Kurse
ATTACH;FMTTYPE=:
END:VEVENT
BEGIN:VEVENT
DTSTART;TZID=Europe/Berlin:20200504T183000
DTEND;TZID=Europe/Berlin:20200504T203000
DTSTAMP:20260423T190040
CREATED:20200304T112910Z
LAST-MODIFIED:20200304T112910Z
UID:10001080-1588617000-1588624200@flamingocat.de
SUMMARY:Offener Blumenkranz Workshop
DESCRIPTION:Ready to become the queen of flowers? In unserem beliebten Blumenkranz-Workshop lernst du nicht nur den richtigen Umgang mit Gartenscheren\, Draht und Floristen-Tape. Wir servieren nebenbei auch noch hilfreiche Tricks und Kniffe für das kinderleichte Binden deiner individuellen Flowercrown. Außerdem halten wir ein Gläschen eisgekühlten Sekt für dich bereit.
URL:https://flamingocat.de/event/offener-blumenkranz-workshop-12/
LOCATION:DIY DEPARTEMENT\, Karl Liebknecht Strasse 13\, 04107
CATEGORIES:Offene Kurse
ATTACH;FMTTYPE=:
END:VEVENT
BEGIN:VEVENT
DTSTART;TZID=Europe/Berlin:20200503T103000
DTEND;TZID=Europe/Berlin:20200503T153000
DTSTAMP:20260423T190040
CREATED:20200127T160325Z
LAST-MODIFIED:20200127T160325Z
UID:10001056-1588501800-1588519800@flamingocat.de
SUMMARY:Offener Goldschmiede-Workshop
DESCRIPTION:Baby\, bring das Gold zum Schmelzen! Für echte Glamour-Kätzchen bieten wir ab jetzt einen 5-stündigen Goldschmiede-Workshop an\, in dem ihr euren eigenen indiduellen Schmuck herstellen könnt. Gemeinsam mit unserem professionellen Goldschmied\, sägen\, stanzen und löten wir dein neues Lieblings-Schmuckstück. Im Preis enthalten sind alle benötigten Materialien\, 10g Echtsilber pro Person\, sowie Getränke und Snacks.
URL:https://flamingocat.de/event/offener-goldschmiede-workshop-4/
LOCATION:DIY DEPARTEMENT\, Karl Liebknecht Strasse 13\, 04107
CATEGORIES:Offene Kurse
END:VEVENT
BEGIN:VEVENT
DTSTART;TZID=Europe/Berlin:20200503T103000
DTEND;TZID=Europe/Berlin:20200503T133000
DTSTAMP:20260423T190040
CREATED:20200211T095010Z
LAST-MODIFIED:20200211T095010Z
UID:10001070-1588501800-1588512600@flamingocat.de
SUMMARY:Offener Blumenampel Workshop
DESCRIPTION:Auf die Knoten – Fertig – Los! Für Makramee-Einsteiger ist dieser Kurs genau das Richtige.Wir zeigen dir in unserem 3-stündigen Kurs grundlegende Techniken und knüpfen anschließend gemeinsam für deine geliebten Topf-Pflanzen einen angesagten Pflanzenhänger im Vintage-Look. Also sicher dir schnell ein Plätzchen an unserer Knüpfstange!
URL:https://flamingocat.de/event/offener-blumenampel-workshop-3/
LOCATION:DIY DEPARTEMENT\, Karl Liebknecht Strasse 13\, 04107
CATEGORIES:Offene Kurse
END:VEVENT
BEGIN:VEVENT
DTSTART;TZID=Europe/Berlin:20200430T180000
DTEND;TZID=Europe/Berlin:20200430T210000
DTSTAMP:20260423T190040
CREATED:20200218T162114Z
LAST-MODIFIED:20200218T162114Z
UID:10001073-1588269600-1588280400@flamingocat.de
SUMMARY:Offene Make up School
DESCRIPTION:Beauty – Cuties aufgepasst! In unserer Make up School zeigen wir dir\, wie ein typgerechtes Styling aussieht und bringen deine Wimpern zum klimpern. Vom Grundieren bis zum Contouring – Unsere zertifizierten Make up Artists zeigen dir\, wie du ab jetzt selbst einen richtigen Red Carpet Look zauberst.
URL:https://flamingocat.de/event/offene-make-up-school-8/
LOCATION:DIY DEPARTEMENT\, Karl Liebknecht Strasse 13\, 04107
CATEGORIES:Offene Kurse
ATTACH;FMTTYPE=:
END:VEVENT
BEGIN:VEVENT
DTSTART;VALUE=DATE:20200426
DTEND;VALUE=DATE:20200427
DTSTAMP:20260423T190040
CREATED:20200205T114331Z
LAST-MODIFIED:20200205T114331Z
UID:10001066-1587859200-1587945599@flamingocat.de
SUMMARY:OPENING DIY DEPARTEMENT // FRIENDS & FANS
DESCRIPTION:Als Höhepunkt unseres 3-tägigen Openings\, laden wir heute alle DIY-Fans und Friends zu einem echten Handmade-Highlight ein.\nWerft einen exklusiven Blick in unser neues Atelier und schnappt euch ein Plätzchen für unser Mini DIY Festival.\nDenn mit nur einem Ticket habt ihr heute freien Eintritt zu allen Workshops. Seid gespannt auf unser kunterbuntes Tagesprogramm and\nstay tuned for more informations!
URL:https://flamingocat.de/event/opening-diy-departement-friends-fans/
LOCATION:DIY DEPARTEMENT\, Karl Liebknecht Strasse 13\, 04107
END:VEVENT
BEGIN:VEVENT
DTSTART;VALUE=DATE:20200425
DTEND;VALUE=DATE:20200426
DTSTAMP:20260423T190040
CREATED:20200205T111838Z
LAST-MODIFIED:20200205T111838Z
UID:10001065-1587772800-1587859199@flamingocat.de
SUMMARY:OPENING DIY DEPARTEMENT // BRIDAL SHOWERS
DESCRIPTION:
URL:https://flamingocat.de/event/opening-diy-departement-bridal-showers/
LOCATION:DIY DEPARTEMENT\, Karl Liebknecht Strasse 13\, 04107
ATTACH;FMTTYPE=:
END:VEVENT
BEGIN:VEVENT
DTSTART;VALUE=DATE:20200424
DTEND;VALUE=DATE:20200425
DTSTAMP:20260423T190040
CREATED:20200205T111603Z
LAST-MODIFIED:20200205T111603Z
UID:10001064-1587686400-1587772799@flamingocat.de
SUMMARY:OPENING DIY DEPARTEMENT // BLOGGER & PRESS DAY
DESCRIPTION:Lasst die Korken knallen\, Ladies. Wir haben was zu feiern! \nAb sofort zünden wir unsere Konfetti-Kanonen nämlich in unserem brandneuen DIY Departement auf der Karl Liebknecht Strasse 13.\nMit einem 3-tägigen Mini-DIY-Festival voller Farben\, Handmade-Inspirationen und guter Laune starten wir in die neue\nDIY Saison. Für Blogger und Presse öffnen wir unsere Türen exklusiv schon heute und verraten\, was unsere kreativen Gäste zukünftig\nhier erwartet. \nStay tuned for more informations!
URL:https://flamingocat.de/event/official-opening-blogger-press-day/
LOCATION:DIY DEPARTEMENT\, Karl Liebknecht Strasse 13\, 04107
ATTACH;FMTTYPE=:
END:VEVENT
BEGIN:VEVENT
DTSTART;TZID=Europe/Berlin:20200421T183000
DTEND;TZID=Europe/Berlin:20200421T213000
DTSTAMP:20260423T190040
CREATED:20200218T161455Z
LAST-MODIFIED:20200218T161455Z
UID:10001072-1587493800-1587504600@flamingocat.de
SUMMARY:Offener Schmuck Workshop
DESCRIPTION:Bling Bling – Baby! In unserem Schmuck-Workshop zeigen wir dir\, wie du deine eigenen angesagten it-Pieces aus Leder\, Holz oder Acryl herstellst. Such dir aus unseren FLAMINGOCAT-typischen Formen deine Lieblingsteile aus und gestalte 2 Schmuckstücke mit Wow-Effekt. Für besonders geschickte Hände halten wir auch Blatt-Gold bereit.
URL:https://flamingocat.de/event/offener-schmuck-workshop-15/
LOCATION:FLAMINGOCAT\, Kurt Eisner Strasse 17\, Leipzig\, 04275
CATEGORIES:Offene Kurse
ATTACH;FMTTYPE=:
END:VEVENT
BEGIN:VEVENT
DTSTART;TZID=Europe/Berlin:20200419T103000
DTEND;TZID=Europe/Berlin:20200419T153000
DTSTAMP:20260423T190040
CREATED:20200127T160143Z
LAST-MODIFIED:20200127T160143Z
UID:10001055-1587292200-1587310200@flamingocat.de
SUMMARY:Offener Goldschmiede-Workshop
DESCRIPTION:Baby\, bring das Gold zum Schmelzen! Für echte Glamour-Kätzchen bieten wir ab jetzt einen 5-stündigen Goldschmiede-Workshop an\, in dem ihr euren eigenen indiduellen Schmuck herstellen könnt. Gemeinsam mit unserem professionellen Goldschmied\, sägen\, stanzen und löten wir dein neues Lieblings-Schmuckstück. Im Preis enthalten sind alle benötigten Materialien\, 10g Echtsilber pro Person\, sowie Getränke und Snacks.
URL:https://flamingocat.de/event/offener-goldschmiede-workshop-3/
LOCATION:DIY DEPARTEMENT\, Karl Liebknecht Strasse 13\, 04107
CATEGORIES:Offene Kurse
END:VEVENT
BEGIN:VEVENT
DTSTART;TZID=Europe/Berlin:20200414T183000
DTEND;TZID=Europe/Berlin:20200414T203000
DTSTAMP:20260423T190040
CREATED:20200114T104557Z
LAST-MODIFIED:20200114T104557Z
UID:10001046-1586889000-1586896200@flamingocat.de
SUMMARY:Offener Wallhanging Workshop
DESCRIPTION:Was auf Instagram schon längst zum riesen Hit geworden ist\, das feiert jetzt auch Einzug in unserer Kreativwerkstatt. #floralwallhanging. Kennt ihr nicht? Dann wird`s höchste Zeit! Egal ob in romantisch verspielten Varianten\, als Traumfänger oder mit dekorativen Makramee-Knoten\, diese hängenden Deko-Schönheiten sind ein echtes Must-Have für dein Zuhause!
URL:https://flamingocat.de/event/offener-wallhanging-workshop-11/
LOCATION:DIY DEPARTEMENT\, Karl Liebknecht Strasse 13\, 04107
CATEGORIES:Offene Kurse
ATTACH;FMTTYPE=:
END:VEVENT
BEGIN:VEVENT
DTSTART;TZID=Europe/Berlin:20200414T183000
DTEND;TZID=Europe/Berlin:20200414T203000
DTSTAMP:20260423T190040
CREATED:20200113T175703Z
LAST-MODIFIED:20200113T175703Z
UID:10001043-1586889000-1586896200@flamingocat.de
SUMMARY:Offener Blumenkranz Workshop
DESCRIPTION:Ready to become the queen of flowers? In unserem beliebten Blumenkranz-Workshop lernst du nicht nur den richtigen Umgang mit Gartenscheren\, Draht und Floristen-Tape. Wir servieren nebenbei hilfreiche Tricks und Kniffe für das kinderleichte Binden deiner individuellen Flowercrown. Außerdem halten wir ein Gläschen eisgekühlten Sekt für dich bereit.
URL:https://flamingocat.de/event/offener-blumenkranz-workshop-11/
LOCATION:DIY DEPARTEMENT\, Karl Liebknecht Strasse 13\, 04107
CATEGORIES:Offene Kurse
END:VEVENT
BEGIN:VEVENT
DTSTART;TZID=Europe/Berlin:20200410T170000
DTEND;TZID=Europe/Berlin:20200410T210000
DTSTAMP:20260423T190040
CREATED:20200223T130544Z
LAST-MODIFIED:20200223T130544Z
UID:10001077-1586538000-1586552400@flamingocat.de
SUMMARY:Offener Acrylmalerei Workshop
DESCRIPTION:Schmeisst die Möbel aus dem Fenster\, wir brauchen Platz zum malen! In unserem Acrylmalerei-Workshop kannst du jetzt\ndeinen inneren Picasso entdecken: Lass dich inspirieren von Farben und Formen und erschaffe dein eigenes\, individuelles Kunstwerk auf Leinwand. Egal ob abstrakt oder figürlich: in unserem 4-stündigen Workshop kannst du dich und deine Kreativität frei entfalten und malen\, was dir gefällt. \nab 49\,95 € / Person
URL:https://flamingocat.de/event/offener-acrylmalerei-workshop-2/
LOCATION:DIY DEPARTEMENT\, Karl Liebknecht Strasse 13\, 04107
CATEGORIES:Offene Kurse
ATTACH;FMTTYPE=:
END:VEVENT
BEGIN:VEVENT
DTSTART;TZID=Europe/Berlin:20200409T183000
DTEND;TZID=Europe/Berlin:20200409T213000
DTSTAMP:20260423T190040
CREATED:20200211T094850Z
LAST-MODIFIED:20200211T094850Z
UID:10001069-1586457000-1586467800@flamingocat.de
SUMMARY:Offener Blumenampel Workshop
DESCRIPTION:Auf die Knoten – Fertig – Los! Für Makramee-Einsteiger ist dieser Kurs genau das Richtige.Wir zeigen dir in unserem 3-stündigen Kurs grundlegende Techniken und knüpfen anschließend gemeinsam für deine geliebten Topf-Pflanzen einen angesagten Pflanzenhänger im Vintage-Look. Also sicher dir schnell ein Plätzchen an unserer Knüpfstange!
URL:https://flamingocat.de/event/offener-blumenampel-workshop-2/
LOCATION:DIY DEPARTEMENT\, Karl Liebknecht Strasse 13\, 04107
CATEGORIES:Offene Kurse
ATTACH;FMTTYPE=:
END:VEVENT
BEGIN:VEVENT
DTSTART;TZID=Europe/Berlin:20200407T183000
DTEND;TZID=Europe/Berlin:20200407T213000
DTSTAMP:20260423T190040
CREATED:20200218T161309Z
LAST-MODIFIED:20200218T161309Z
UID:10001071-1586284200-1586295000@flamingocat.de
SUMMARY:Offener Schmuck Workshop
DESCRIPTION:Bling Bling – Baby! In unserem Schmuck-Workshop zeigen wir dir\, wie du deine eigenen angesagten it-Pieces aus Leder\, Holz oder Acryl herstellst. Such dir aus unseren FLAMINGOCAT-typischen Formen deine Lieblingsteile aus und gestalte 2 Schmuckstücke mit Wow-Effekt. Für besonders geschickte Hände halten wir auch Blatt-Gold bereit.
URL:https://flamingocat.de/event/offener-schmuck-workshop-14/
LOCATION:FLAMINGOCAT\, Kurt Eisner Strasse 17\, Leipzig\, 04275
CATEGORIES:Offene Kurse
ATTACH;FMTTYPE=:
END:VEVENT
BEGIN:VEVENT
DTSTART;TZID=Europe/Berlin:20200404T103000
DTEND;TZID=Europe/Berlin:20200404T123000
DTSTAMP:20260423T190040
CREATED:20200103T122036Z
LAST-MODIFIED:20200103T122036Z
UID:10001036-1585996200-1586003400@flamingocat.de
SUMMARY:Offener Wallhanging Workshop
DESCRIPTION:It’s spring time! Begrüße den Frühling mit einem Eyecatcher für deine Wohnung. In unserem 2-stündigen Workshop zeigen wir dir\, wie du deine Traumdeko selber machen kannst. Blumen binden\, Bänder knüpfen und perlen aufziehen – deiner Kreativität sind keine Grenzen gesetzt! \n  ab 39\,95 € / Person
URL:https://flamingocat.de/event/offener-wallhanging-workshop-8/
LOCATION:DIY DEPARTEMENT\, Karl Liebknecht Strasse 13\, 04107
ATTACH;FMTTYPE=:
END:VEVENT
BEGIN:VEVENT
DTSTART;TZID=Europe/Berlin:20200403T183000
DTEND;TZID=Europe/Berlin:20200403T213000
DTSTAMP:20260423T190040
CREATED:20200131T175614Z
LAST-MODIFIED:20200131T175614Z
UID:10001063-1585938600-1585949400@flamingocat.de
SUMMARY:Offene Make up School
DESCRIPTION:Beauty – Cuties aufgepasst! In unserer Make up School zeigen wir dir\, wie ein typgerechtes Styling aussieht und bringen deine Wimpern zum klimpern. Vom Grundieren bis zum Contouring – Unsere zertifizierten Make up Artists zeigen dir\, wie du ab jetzt selbst einen richtigen Red Carpet kreierst. Neben allen benötigsten Produkten für einen gelungenen Look\, erhältst du von uns ein Anleitungsheft mit allen Tricks und Kniffen sowie ein Gläschen Sekt und selbstgemachte Limo.
URL:https://flamingocat.de/event/offene-make-up-school-7/
LOCATION:DIY DEPARTEMENT\, Karl Liebknecht Strasse 13\, 04107
CATEGORIES:Offene Kurse
ATTACH;FMTTYPE=:
END:VEVENT
BEGIN:VEVENT
DTSTART;TZID=Europe/Berlin:20200331T183000
DTEND;TZID=Europe/Berlin:20200331T203000
DTSTAMP:20260423T190040
CREATED:20200114T104352Z
LAST-MODIFIED:20200114T104352Z
UID:10001045-1585679400-1585686600@flamingocat.de
SUMMARY:Offener Wallhanging Workshop
DESCRIPTION:Was auf Instagram schon längst zum riesen Hit geworden ist\, das feiert jetzt auch Einzug in unserer Kreativwerkstatt. #floralwallhanging. Kennt ihr nicht? Dann wird`s höchste Zeit! Egal ob in romantisch verspielten Varianten\, als Traumfänger oder mit dekorativen Makramee-Knoten\, diese hängenden Deko-Schönheiten sind ein echtes Must-Have für jedes Zuhause!
URL:https://flamingocat.de/event/offener-wallhanging-workshop-10/
LOCATION:DIY DEPARTEMENT\, Karl Liebknecht Strasse 13\, 04107
CATEGORIES:Offene Kurse
ATTACH;FMTTYPE=:
END:VEVENT
BEGIN:VEVENT
DTSTART;TZID=Europe/Berlin:20200331T183000
DTEND;TZID=Europe/Berlin:20200331T203000
DTSTAMP:20260423T190040
CREATED:20200113T175200Z
LAST-MODIFIED:20200113T175200Z
UID:10001042-1585679400-1585686600@flamingocat.de
SUMMARY:Offener Blumenkranz Workshop
DESCRIPTION:Ready to become the queen of flowers? In unserem beliebten Blumenkranz-Workshop lernst du nicht nur den richtigen Umgang mit Gartenscheren\, Draht und Floristen-Tape. Wir servieren nebenbei hilfreiche Tricks und Kniffe für das kinderleichte Binden deiner individuellen Flowercrown. Außerdem halten wir ein Gläschen eisgekühlten Sekt für dich bereit.
URL:https://flamingocat.de/event/offener-blumenkranz-workshop-10/
LOCATION:DIY DEPARTEMENT\, Karl Liebknecht Strasse 13\, 04107
CATEGORIES:Offene Kurse
ATTACH;FMTTYPE=:
END:VEVENT
BEGIN:VEVENT
DTSTART;TZID=Europe/Berlin:20200329T103000
DTEND;TZID=Europe/Berlin:20200329T153000
DTSTAMP:20260423T190040
CREATED:20200127T154024Z
LAST-MODIFIED:20200127T154024Z
UID:10001054-1585477800-1585495800@flamingocat.de
SUMMARY:Offener Goldschmiede-Workshop
DESCRIPTION:Baby\, bring das Gold zum Schmelzen! Für echte Glamour-Kätzchen bieten wir ab jetzt einen 5-stündigen Goldschmiede-Workshop an\, in dem ihr euren eigenen indiduellen Schmuck herstellen könnt. Gemeinsam mit unserem professionellen Goldschmied sägen\, stanzen und löten wir dein neues Lieblings-Schmuckstück. Im Preis enthalten sind alle benötigten Materialien\, sowie 10g Echtsilber pro Person\, Getränke und Snacks.
URL:https://flamingocat.de/event/offener-goldschmiede-workshop-2/
LOCATION:DIY DEPARTEMENT\, Karl Liebknecht Strasse 13\, 04107
CATEGORIES:Offene Kurse
END:VEVENT
BEGIN:VEVENT
DTSTART;TZID=Europe/Berlin:20200324T183000
DTEND;TZID=Europe/Berlin:20200324T213000
DTSTAMP:20260423T190040
CREATED:20200211T094716Z
LAST-MODIFIED:20200211T094716Z
UID:10001068-1585074600-1585085400@flamingocat.de
SUMMARY:Offener Blumenampel Workshop
DESCRIPTION:Auf die Knoten – Fertig – Los! Für Makramee-Einsteiger ist dieser Kurs genau das Richtige.Wir zeigen dir in unserem 3-stündigen Kurs grundlegende Techniken und knüpfen anschließend gemeinsam für deine geliebten Topf-Pflanzen einen angesagten Pflanzenhänger im Vintage-Look. Also sicher dir schnell ein Plätzchen an unserer Knüpfstange!
URL:https://flamingocat.de/event/offener-blumenampel-workshop/
LOCATION:DIY DEPARTEMENT\, Karl Liebknecht Strasse 13\, 04107
CATEGORIES:Offene Kurse
ATTACH;FMTTYPE=:
END:VEVENT
BEGIN:VEVENT
DTSTART;TZID=Europe/Berlin:20200320T170000
DTEND;TZID=Europe/Berlin:20200320T210000
DTSTAMP:20260423T190040
CREATED:20200223T130329Z
LAST-MODIFIED:20200223T130329Z
UID:10001076-1584723600-1584738000@flamingocat.de
SUMMARY:Offener Acrylmalerei Workshop
DESCRIPTION:Schmeisst die Möbel aus dem Fenster\, wir brauchen Platz zum malen! In unserem Acrylmalerei-Workshop kannst du jetzt\ndeinen inneren Picasso entdecken: Lass dich inspirieren von Farben und Formen und erschaffe dein eigenes\, individuelles Kunstwerk auf Leinwand. Egal ob abstrakt oder figürlich: in unserem 4-stündigen Workshop kannst du dich und deine Kreativität frei entfalten und malen\, was dir gefällt. \n  ab 49\,95 € / Person
URL:https://flamingocat.de/event/offener-acrylmalerei-workshop/
LOCATION:DIY DEPARTEMENT\, Karl Liebknecht Strasse 13\, 04107
CATEGORIES:Offene Kurse
ATTACH;FMTTYPE=:
END:VEVENT
BEGIN:VEVENT
DTSTART;TZID=Europe/Berlin:20200319T183000
DTEND;TZID=Europe/Berlin:20200319T213000
DTSTAMP:20260423T190040
CREATED:20200113T174224Z
LAST-MODIFIED:20200113T174224Z
UID:10001039-1584642600-1584653400@flamingocat.de
SUMMARY:Offener Schmuck Workshop
DESCRIPTION:Bling Bling – Baby! In unserem Schmuck-Workshop zeigen wir dir\, wie du deine eigenen angesagten it-Pieces aus Leder\, Holz oder Acryl herstellst. Such dir aus unseren FLAMINGOCAT-typischen Formen deine Lieblingsteile aus und gestalte 2 Schmuckstücke mit Wow-Effekt. Für besonders geschickte Hände halten wir auch Blatt-Gold bereit und ein Gläschen Sekt geht on top noch auf`s Haus!\n39\,95 € / Person
URL:https://flamingocat.de/event/offener-schmuck-workshop-13/
LOCATION:DIY DEPARTEMENT\, Karl Liebknecht Strasse 13\, 04107
CATEGORIES:Offene Kurse
ATTACH;FMTTYPE=:
END:VEVENT
BEGIN:VEVENT
DTSTART;TZID=Europe/Berlin:20200310T183000
DTEND;TZID=Europe/Berlin:20200310T203000
DTSTAMP:20260423T190040
CREATED:20200114T092246Z
LAST-MODIFIED:20200114T092246Z
UID:10001044-1583865000-1583872200@flamingocat.de
SUMMARY:Offener Wallhanging Workshop
DESCRIPTION:Was auf Instagram schon längst zum riesen Hit geworden ist\, das feiert jetzt auch Einzug in unserer Kreativwerkstatt. #floralwallhanging. Kennt ihr nicht? Dann wird`s höchste Zeit! Egal ob in romantisch verspielten Varianten\, als Traumfänger oder mit dekorativen Makramee-Knoten\, diese hängenden Deko-Schönheiten sind ein echtes Must-Have für jede Wohnung!
URL:https://flamingocat.de/event/offener-wallhanging-workshop-9/
LOCATION:DIY DEPARTEMENT\, Karl Liebknecht Strasse 13\, 04107
CATEGORIES:Offene Kurse
ATTACH;FMTTYPE=:
END:VEVENT
END:VCALENDAR