BEGIN:VCALENDAR
VERSION:2.0
PRODID:-//Flamingocat - ECPv6.15.20//NONSGML v1.0//EN
CALSCALE:GREGORIAN
METHOD:PUBLISH
X-ORIGINAL-URL:https://flamingocat.de
X-WR-CALDESC:Veranstaltungen für Flamingocat
REFRESH-INTERVAL;VALUE=DURATION:PT1H
X-Robots-Tag:noindex
X-PUBLISHED-TTL:PT1H
BEGIN:VTIMEZONE
TZID:Europe/Berlin
BEGIN:DAYLIGHT
TZOFFSETFROM:+0100
TZOFFSETTO:+0200
TZNAME:CEST
DTSTART:20190331T010000
END:DAYLIGHT
BEGIN:STANDARD
TZOFFSETFROM:+0200
TZOFFSETTO:+0100
TZNAME:CET
DTSTART:20191027T010000
END:STANDARD
BEGIN:DAYLIGHT
TZOFFSETFROM:+0100
TZOFFSETTO:+0200
TZNAME:CEST
DTSTART:20200329T010000
END:DAYLIGHT
BEGIN:STANDARD
TZOFFSETFROM:+0200
TZOFFSETTO:+0100
TZNAME:CET
DTSTART:20201025T010000
END:STANDARD
BEGIN:DAYLIGHT
TZOFFSETFROM:+0100
TZOFFSETTO:+0200
TZNAME:CEST
DTSTART:20210328T010000
END:DAYLIGHT
BEGIN:STANDARD
TZOFFSETFROM:+0200
TZOFFSETTO:+0100
TZNAME:CET
DTSTART:20211031T010000
END:STANDARD
BEGIN:DAYLIGHT
TZOFFSETFROM:+0100
TZOFFSETTO:+0200
TZNAME:CEST
DTSTART:20220327T010000
END:DAYLIGHT
BEGIN:STANDARD
TZOFFSETFROM:+0200
TZOFFSETTO:+0100
TZNAME:CET
DTSTART:20221030T010000
END:STANDARD
END:VTIMEZONE
BEGIN:VEVENT
DTSTART;TZID=Europe/Berlin:20201206T100000
DTEND;TZID=Europe/Berlin:20201206T140000
DTSTAMP:20260423T170740
CREATED:20201020T134019Z
LAST-MODIFIED:20250122T132700Z
UID:10001666-1607248800-1607263200@flamingocat.de
SUMMARY:HANDLETTERING WORKSHOP
DESCRIPTION:Make it better\, letter together! In unserem brandneuen 4-stündigen Intensiv-Workshop stellen wir das Alphabet auf den Kopf. Gemeinsam mit Yara vom Design-Label „Piece of Pie“ bringen wir den No. 1 Pintrerest-Trend in unser Atelier. Mit Brushpens\, Übungsblättern und einer großen Portion Schnickschnack und Schnörkel zeigen wir dir wie du zukünftig Briefe\, Einladungskarten und Co. zu ganz individuellen Design-Highlights machst.
URL:https://flamingocat.de/event/handlettering-workshop/2020-12-06/
LOCATION:DIY DEPARTEMENT\, Karl Liebknecht Strasse 13\, 04107
CATEGORIES:Offene Kurse
ATTACH;FMTTYPE=:
END:VEVENT
BEGIN:VEVENT
DTSTART;TZID=Europe/Berlin:20201208T183000
DTEND;TZID=Europe/Berlin:20201208T203000
DTSTAMP:20260423T170740
CREATED:20200810T141444Z
LAST-MODIFIED:20200810T141444Z
UID:10001255-1607452200-1607459400@flamingocat.de
SUMMARY:Winterliche Wallhangings - Offener Workshop
DESCRIPTION:Was auf Instagram schon längst zum riesen Hit geworden ist\, das feiert jetzt auch Einzug in unserer Kreativwerkstatt. #floralwallhanging. Kennt ihr nicht? Dann wird`s höchste Zeit! Egal ob in romantisch verspielten Varianten\, als Traumfänger oder mit dekorativen Makramee-Knoten\, diese hängenden Deko-Schönheiten sind ein echtes Must-Have. Besonders im Winter!
URL:https://flamingocat.de/event/winterliche-wallhangings-offener-workshop/
LOCATION:DIY DEPARTEMENT\, Karl Liebknecht Strasse 13\, 04107
CATEGORIES:Offene Kurse
ATTACH;FMTTYPE=:
END:VEVENT
BEGIN:VEVENT
DTSTART;TZID=Europe/Berlin:20201209T183000
DTEND;TZID=Europe/Berlin:20201209T213000
DTSTAMP:20260423T170740
CREATED:20200321T163925Z
LAST-MODIFIED:20200321T163925Z
UID:10001114-1607538600-1607549400@flamingocat.de
SUMMARY:Makramee Christmas Edition
DESCRIPTION:Rockin´around the christmas tree and have a Macramee-holiday!\nIn unserer Makramee-Christmas-Edition wird es jetzt wunderbar weihnachtlich. Gemeinsam knüpfen wir nämlich herrlichen Weihnachtsbaum-Schmuck im Boho-Sytle\, individuelle Geschenke für deine Liebsten oder die perfekte Blumenampel für dein Zuhause. Also mach es dir mit uns gemütlich und sicher dir jetzt dein Plätzchen an unserer Knüpfstange
URL:https://flamingocat.de/event/makramee-christmas-edition-3/2020-12-09/
LOCATION:FLAMINGOCAT\, Kurt Eisner Strasse 17\, Leipzig\, 04275
CATEGORIES:Offene Kurse
ATTACH;FMTTYPE=:
END:VEVENT
BEGIN:VEVENT
DTSTART;TZID=Europe/Berlin:20201213T100000
DTEND;TZID=Europe/Berlin:20201213T140000
DTSTAMP:20260423T170740
CREATED:20201020T134019Z
LAST-MODIFIED:20250122T132700Z
UID:10001667-1607853600-1607868000@flamingocat.de
SUMMARY:HANDLETTERING WORKSHOP
DESCRIPTION:Make it better\, letter together! In unserem brandneuen 4-stündigen Intensiv-Workshop stellen wir das Alphabet auf den Kopf. Gemeinsam mit Yara vom Design-Label „Piece of Pie“ bringen wir den No. 1 Pintrerest-Trend in unser Atelier. Mit Brushpens\, Übungsblättern und einer großen Portion Schnickschnack und Schnörkel zeigen wir dir wie du zukünftig Briefe\, Einladungskarten und Co. zu ganz individuellen Design-Highlights machst.
URL:https://flamingocat.de/event/handlettering-workshop/2020-12-13/
LOCATION:DIY DEPARTEMENT\, Karl Liebknecht Strasse 13\, 04107
CATEGORIES:Offene Kurse
ATTACH;FMTTYPE=:
END:VEVENT
BEGIN:VEVENT
DTSTART;TZID=Europe/Berlin:20201220T113000
DTEND;TZID=Europe/Berlin:20201220T143000
DTSTAMP:20260423T170740
CREATED:20200830T103944Z
LAST-MODIFIED:20200830T103944Z
UID:10001284-1608463800-1608474600@flamingocat.de
SUMMARY:Online Blumenampel Workshop
DESCRIPTION:Auf die Knoten – Fertig – Los! Für Makramee-Einsteiger ist dieser Kurs genau das Richtige.Wir zeigen dir in unserem 3-stündigen Kurs grundlegende Techniken und knüpfen anschließend gemeinsam für deine geliebten Topf-Pflanzen einen angesagten Pflanzenhänger im Vintage-Look. Also sicher dir schnell ein Plätzchen an unserer Knüpfstange!
URL:https://flamingocat.de/event/offener-blumenampel-workshop-8/2020-12-20/1/
LOCATION:FLAMINGOCAT\, Kurt Eisner Strasse 17\, Leipzig\, 04275
CATEGORIES:Offene Kurse
ATTACH;FMTTYPE=:
END:VEVENT
BEGIN:VEVENT
DTSTART;TZID=Europe/Berlin:20201220T150000
DTEND;TZID=Europe/Berlin:20201220T180000
DTSTAMP:20260423T170740
CREATED:20200830T103944Z
LAST-MODIFIED:20200830T103944Z
UID:10001285-1608476400-1608487200@flamingocat.de
SUMMARY:Online Blumenampel Workshop
DESCRIPTION:Auf die Knoten – Fertig – Los! Für Makramee-Einsteiger ist dieser Kurs genau das Richtige.Wir zeigen dir in unserem 3-stündigen Kurs grundlegende Techniken und knüpfen anschließend gemeinsam für deine geliebten Topf-Pflanzen einen angesagten Pflanzenhänger im Vintage-Look. Also sicher dir schnell ein Plätzchen an unserer Knüpfstange!
URL:https://flamingocat.de/event/offener-blumenampel-workshop-8/2020-12-20/2/
LOCATION:FLAMINGOCAT\, Kurt Eisner Strasse 17\, Leipzig\, 04275
CATEGORIES:Offene Kurse
ATTACH;FMTTYPE=:
END:VEVENT
BEGIN:VEVENT
DTSTART;TZID=Europe/Berlin:20210327T140000
DTEND;TZID=Europe/Berlin:20210327T160000
DTSTAMP:20260423T170740
CREATED:20210117T114808Z
LAST-MODIFIED:20260412T202612Z
UID:10001328-1616853600-1616860800@flamingocat.de
SUMMARY:Offener Trockenblumenkranz Workshop
DESCRIPTION:You better watch out! In diesem Jahr begrüßen wir die neue Jahreszeit mit einem selbstgebundenen Blumenkranz. Mit getrockneten Zweigen\, Blüten\, Federn und und allerlei schönen Materialien verpassen wir deinem Türkranz ein skandinavisches Make-Over.
URL:https://flamingocat.de/event/online-workshop-osterkranz/2021-03-27/
CATEGORIES:Offene Kurse
ATTACH;FMTTYPE=image/jpeg:https://flamingocat.de/wp-content/uploads/2023/01/DIY-Trockenblumenkranz-Fruehling-2.jpg
END:VEVENT
BEGIN:VEVENT
DTSTART;TZID=Europe/Berlin:20210522T173000
DTEND;TZID=Europe/Berlin:20210522T190000
DTSTAMP:20260423T170740
CREATED:20210420T142814Z
LAST-MODIFIED:20250206T094100Z
UID:10001372-1621704600-1621710000@flamingocat.de
SUMMARY:Offener Trockenblüten-Stickrahmen Workshop
DESCRIPTION:Dieser neuen DIY-Idee sind wir buchstäblich auf den Leim gegangen – Mit bunten Trockenblüten\, Tüll und einer großen Portion Klebstoff zaubern wir florale Träume zum Anfassen. Unsere stylischen Trockenblüten-Stickrahmen sind nämlich nicht nur die ultimative Geschenkidee für jeden Anlass\, sondern auch das perfekte Interior-It-Piece für deine 4-Wände. In unserem 90-minütigen Workshop zeigen wir dir wie du mit etwas Geschick deinen individuellen Letter-Frame gestaltest.
URL:https://flamingocat.de/event/trockenblueten-stickrahmen/2021-05-22/
CATEGORIES:Offene Kurse
ATTACH;FMTTYPE=:
END:VEVENT
BEGIN:VEVENT
DTSTART;TZID=Europe/Berlin:20210613T140000
DTEND;TZID=Europe/Berlin:20210613T153000
DTSTAMP:20260423T170740
CREATED:20210420T142814Z
LAST-MODIFIED:20250206T094100Z
UID:10001373-1623592800-1623598200@flamingocat.de
SUMMARY:Offener Trockenblüten-Stickrahmen Workshop
DESCRIPTION:Dieser neuen DIY-Idee sind wir buchstäblich auf den Leim gegangen – Mit bunten Trockenblüten\, Tüll und einer großen Portion Klebstoff zaubern wir florale Träume zum Anfassen. Unsere stylischen Trockenblüten-Stickrahmen sind nämlich nicht nur die ultimative Geschenkidee für jeden Anlass\, sondern auch das perfekte Interior-It-Piece für deine 4-Wände. In unserem 90-minütigen Workshop zeigen wir dir wie du mit etwas Geschick deinen individuellen Letter-Frame gestaltest.
URL:https://flamingocat.de/event/trockenblueten-stickrahmen/2021-06-13/
CATEGORIES:Offene Kurse
ATTACH;FMTTYPE=:
END:VEVENT
BEGIN:VEVENT
DTSTART;TZID=Europe/Berlin:20210711T130000
DTEND;TZID=Europe/Berlin:20210711T150000
DTSTAMP:20260423T170740
CREATED:20210420T142814Z
LAST-MODIFIED:20250206T094100Z
UID:10001374-1626008400-1626015600@flamingocat.de
SUMMARY:Offener Trockenblüten-Stickrahmen Workshop
DESCRIPTION:Dieser neuen DIY-Idee sind wir buchstäblich auf den Leim gegangen – Mit bunten Trockenblüten\, Tüll und einer großen Portion Klebstoff zaubern wir florale Träume zum Anfassen. Unsere stylischen Trockenblüten-Stickrahmen sind nämlich nicht nur die ultimative Geschenkidee für jeden Anlass\, sondern auch das perfekte Interior-It-Piece für deine 4-Wände. In unserem 90-minütigen Workshop zeigen wir dir wie du mit etwas Geschick deinen individuellen Letter-Frame gestaltest.
URL:https://flamingocat.de/event/trockenblueten-stickrahmen/2021-07-11/
CATEGORIES:Offene Kurse
ATTACH;FMTTYPE=:
END:VEVENT
BEGIN:VEVENT
DTSTART;TZID=Europe/Berlin:20210713T140000
DTEND;TZID=Europe/Berlin:20210713T170000
DTSTAMP:20260423T170740
CREATED:20200709T210715Z
LAST-MODIFIED:20200709T210715Z
UID:10001262-1626184800-1626195600@flamingocat.de
SUMMARY:Offener Blumenampel-Workshop
DESCRIPTION:Auf die Knoten – Fertig – Los! Für Makramee-Einsteiger ist dieser Kurs genau das Richtige.Wir zeigen dir in unserem 3-stündigen Kurs grundlegende Techniken und knüpfen anschließend gemeinsam für deine geliebten Topf-Pflanzen einen angesagten Pflanzenhänger im Vintage-Look. Also sicher dir schnell ein Plätzchen an unserer Knüpfstange!
URL:https://flamingocat.de/event/offener-blumenampel-workshop-7/2021-07-13/
CATEGORIES:Offene Kurse
ATTACH;FMTTYPE=:
END:VEVENT
BEGIN:VEVENT
DTSTART;TZID=Europe/Berlin:20210713T183000
DTEND;TZID=Europe/Berlin:20210713T213000
DTSTAMP:20260423T170740
CREATED:20200709T210715Z
LAST-MODIFIED:20200709T210715Z
UID:10001247-1626201000-1626211800@flamingocat.de
SUMMARY:Offener Blumenampel-Workshop
DESCRIPTION:Auf die Knoten – Fertig – Los! Für Makramee-Einsteiger ist dieser Kurs genau das Richtige.Wir zeigen dir in unserem 3-stündigen Kurs grundlegende Techniken und knüpfen anschließend gemeinsam für deine geliebten Topf-Pflanzen einen angesagten Pflanzenhänger im Vintage-Look. Also sicher dir schnell ein Plätzchen an unserer Knüpfstange!
URL:https://flamingocat.de/event/offener-blumenampel-workshop-7/2021-07-13/
CATEGORIES:Offene Kurse
ATTACH;FMTTYPE=:
END:VEVENT
BEGIN:VEVENT
DTSTART;TZID=Europe/Berlin:20210713T183000
DTEND;TZID=Europe/Berlin:20210713T213000
DTSTAMP:20260423T170740
CREATED:20200709T210715Z
LAST-MODIFIED:20200709T210715Z
UID:10001270-1626201000-1626211800@flamingocat.de
SUMMARY:Offener Blumenampel-Workshop
DESCRIPTION:Auf die Knoten – Fertig – Los! Für Makramee-Einsteiger ist dieser Kurs genau das Richtige.Wir zeigen dir in unserem 3-stündigen Kurs grundlegende Techniken und knüpfen anschließend gemeinsam für deine geliebten Topf-Pflanzen einen angesagten Pflanzenhänger im Vintage-Look. Also sicher dir schnell ein Plätzchen an unserer Knüpfstange!
URL:https://flamingocat.de/event/offener-blumenampel-workshop-7/2021-07-13/
CATEGORIES:Offene Kurse
ATTACH;FMTTYPE=:
END:VEVENT
BEGIN:VEVENT
DTSTART;TZID=Europe/Berlin:20210713T183000
DTEND;TZID=Europe/Berlin:20210713T213000
DTSTAMP:20260423T170740
CREATED:20200709T210715Z
LAST-MODIFIED:20200709T210715Z
UID:10001258-1626201000-1626211800@flamingocat.de
SUMMARY:Offener Blumenampel-Workshop
DESCRIPTION:Auf die Knoten – Fertig – Los! Für Makramee-Einsteiger ist dieser Kurs genau das Richtige.Wir zeigen dir in unserem 3-stündigen Kurs grundlegende Techniken und knüpfen anschließend gemeinsam für deine geliebten Topf-Pflanzen einen angesagten Pflanzenhänger im Vintage-Look. Also sicher dir schnell ein Plätzchen an unserer Knüpfstange!
URL:https://flamingocat.de/event/offener-blumenampel-workshop-7/2021-07-13/
CATEGORIES:Offene Kurse
ATTACH;FMTTYPE=:
END:VEVENT
BEGIN:VEVENT
DTSTART;TZID=Europe/Berlin:20210713T183000
DTEND;TZID=Europe/Berlin:20210713T213000
DTSTAMP:20260423T170740
CREATED:20200709T210715Z
LAST-MODIFIED:20200709T210715Z
UID:10001266-1626201000-1626211800@flamingocat.de
SUMMARY:Offener Blumenampel-Workshop
DESCRIPTION:Auf die Knoten – Fertig – Los! Für Makramee-Einsteiger ist dieser Kurs genau das Richtige.Wir zeigen dir in unserem 3-stündigen Kurs grundlegende Techniken und knüpfen anschließend gemeinsam für deine geliebten Topf-Pflanzen einen angesagten Pflanzenhänger im Vintage-Look. Also sicher dir schnell ein Plätzchen an unserer Knüpfstange!
URL:https://flamingocat.de/event/offener-blumenampel-workshop-7/2021-07-13/
CATEGORIES:Offene Kurse
ATTACH;FMTTYPE=:
END:VEVENT
BEGIN:VEVENT
DTSTART;TZID=Europe/Berlin:20210808T130000
DTEND;TZID=Europe/Berlin:20210808T150000
DTSTAMP:20260423T170740
CREATED:20210420T142814Z
LAST-MODIFIED:20250206T094100Z
UID:10001375-1628427600-1628434800@flamingocat.de
SUMMARY:Offener Trockenblüten-Stickrahmen Workshop
DESCRIPTION:Dieser neuen DIY-Idee sind wir buchstäblich auf den Leim gegangen – Mit bunten Trockenblüten\, Tüll und einer großen Portion Klebstoff zaubern wir florale Träume zum Anfassen. Unsere stylischen Trockenblüten-Stickrahmen sind nämlich nicht nur die ultimative Geschenkidee für jeden Anlass\, sondern auch das perfekte Interior-It-Piece für deine 4-Wände. In unserem 90-minütigen Workshop zeigen wir dir wie du mit etwas Geschick deinen individuellen Letter-Frame gestaltest.
URL:https://flamingocat.de/event/trockenblueten-stickrahmen/2021-08-08/
CATEGORIES:Offene Kurse
ATTACH;FMTTYPE=:
END:VEVENT
BEGIN:VEVENT
DTSTART;TZID=Europe/Berlin:20210815T140000
DTEND;TZID=Europe/Berlin:20210815T170000
DTSTAMP:20260423T170740
CREATED:20200709T210715Z
LAST-MODIFIED:20200709T210715Z
UID:10001248-1629036000-1629046800@flamingocat.de
SUMMARY:Offener Blumenampel-Workshop
DESCRIPTION:Auf die Knoten – Fertig – Los! Für Makramee-Einsteiger ist dieser Kurs genau das Richtige.Wir zeigen dir in unserem 3-stündigen Kurs grundlegende Techniken und knüpfen anschließend gemeinsam für deine geliebten Topf-Pflanzen einen angesagten Pflanzenhänger im Vintage-Look. Also sicher dir schnell ein Plätzchen an unserer Knüpfstange!
URL:https://flamingocat.de/event/offener-blumenampel-workshop-7/2021-08-15/
CATEGORIES:Offene Kurse
ATTACH;FMTTYPE=:
END:VEVENT
BEGIN:VEVENT
DTSTART;TZID=Europe/Berlin:20210815T140000
DTEND;TZID=Europe/Berlin:20210815T170000
DTSTAMP:20260423T170740
CREATED:20200709T210715Z
LAST-MODIFIED:20200709T210715Z
UID:10001263-1629036000-1629046800@flamingocat.de
SUMMARY:Offener Blumenampel-Workshop
DESCRIPTION:Auf die Knoten – Fertig – Los! Für Makramee-Einsteiger ist dieser Kurs genau das Richtige.Wir zeigen dir in unserem 3-stündigen Kurs grundlegende Techniken und knüpfen anschließend gemeinsam für deine geliebten Topf-Pflanzen einen angesagten Pflanzenhänger im Vintage-Look. Also sicher dir schnell ein Plätzchen an unserer Knüpfstange!
URL:https://flamingocat.de/event/offener-blumenampel-workshop-7/2021-08-15/
CATEGORIES:Offene Kurse
ATTACH;FMTTYPE=:
END:VEVENT
BEGIN:VEVENT
DTSTART;TZID=Europe/Berlin:20210815T140000
DTEND;TZID=Europe/Berlin:20210815T170000
DTSTAMP:20260423T170740
CREATED:20200709T210715Z
LAST-MODIFIED:20200709T210715Z
UID:10001271-1629036000-1629046800@flamingocat.de
SUMMARY:Offener Blumenampel-Workshop
DESCRIPTION:Auf die Knoten – Fertig – Los! Für Makramee-Einsteiger ist dieser Kurs genau das Richtige.Wir zeigen dir in unserem 3-stündigen Kurs grundlegende Techniken und knüpfen anschließend gemeinsam für deine geliebten Topf-Pflanzen einen angesagten Pflanzenhänger im Vintage-Look. Also sicher dir schnell ein Plätzchen an unserer Knüpfstange!
URL:https://flamingocat.de/event/offener-blumenampel-workshop-7/2021-08-15/
CATEGORIES:Offene Kurse
ATTACH;FMTTYPE=:
END:VEVENT
BEGIN:VEVENT
DTSTART;TZID=Europe/Berlin:20210815T140000
DTEND;TZID=Europe/Berlin:20210815T170000
DTSTAMP:20260423T170740
CREATED:20200709T210715Z
LAST-MODIFIED:20200709T210715Z
UID:10001259-1629036000-1629046800@flamingocat.de
SUMMARY:Offener Blumenampel-Workshop
DESCRIPTION:Auf die Knoten – Fertig – Los! Für Makramee-Einsteiger ist dieser Kurs genau das Richtige.Wir zeigen dir in unserem 3-stündigen Kurs grundlegende Techniken und knüpfen anschließend gemeinsam für deine geliebten Topf-Pflanzen einen angesagten Pflanzenhänger im Vintage-Look. Also sicher dir schnell ein Plätzchen an unserer Knüpfstange!
URL:https://flamingocat.de/event/offener-blumenampel-workshop-7/2021-08-15/
CATEGORIES:Offene Kurse
ATTACH;FMTTYPE=:
END:VEVENT
BEGIN:VEVENT
DTSTART;TZID=Europe/Berlin:20210815T140000
DTEND;TZID=Europe/Berlin:20210815T170000
DTSTAMP:20260423T170740
CREATED:20200709T210715Z
LAST-MODIFIED:20200709T210715Z
UID:10001267-1629036000-1629046800@flamingocat.de
SUMMARY:Offener Blumenampel-Workshop
DESCRIPTION:Auf die Knoten – Fertig – Los! Für Makramee-Einsteiger ist dieser Kurs genau das Richtige.Wir zeigen dir in unserem 3-stündigen Kurs grundlegende Techniken und knüpfen anschließend gemeinsam für deine geliebten Topf-Pflanzen einen angesagten Pflanzenhänger im Vintage-Look. Also sicher dir schnell ein Plätzchen an unserer Knüpfstange!
URL:https://flamingocat.de/event/offener-blumenampel-workshop-7/2021-08-15/
CATEGORIES:Offene Kurse
ATTACH;FMTTYPE=:
END:VEVENT
BEGIN:VEVENT
DTSTART;TZID=Europe/Berlin:20210826T140000
DTEND;TZID=Europe/Berlin:20210826T170000
DTSTAMP:20260423T170740
CREATED:20200709T210715Z
LAST-MODIFIED:20200709T210715Z
UID:10001264-1629986400-1629997200@flamingocat.de
SUMMARY:Offener Blumenampel-Workshop
DESCRIPTION:Auf die Knoten – Fertig – Los! Für Makramee-Einsteiger ist dieser Kurs genau das Richtige.Wir zeigen dir in unserem 3-stündigen Kurs grundlegende Techniken und knüpfen anschließend gemeinsam für deine geliebten Topf-Pflanzen einen angesagten Pflanzenhänger im Vintage-Look. Also sicher dir schnell ein Plätzchen an unserer Knüpfstange!
URL:https://flamingocat.de/event/offener-blumenampel-workshop-7/2021-08-26/
CATEGORIES:Offene Kurse
ATTACH;FMTTYPE=:
END:VEVENT
BEGIN:VEVENT
DTSTART;TZID=Europe/Berlin:20210826T183000
DTEND;TZID=Europe/Berlin:20210826T213000
DTSTAMP:20260423T170740
CREATED:20200709T210715Z
LAST-MODIFIED:20200709T210715Z
UID:10001249-1630002600-1630013400@flamingocat.de
SUMMARY:Offener Blumenampel-Workshop
DESCRIPTION:Auf die Knoten – Fertig – Los! Für Makramee-Einsteiger ist dieser Kurs genau das Richtige.Wir zeigen dir in unserem 3-stündigen Kurs grundlegende Techniken und knüpfen anschließend gemeinsam für deine geliebten Topf-Pflanzen einen angesagten Pflanzenhänger im Vintage-Look. Also sicher dir schnell ein Plätzchen an unserer Knüpfstange!
URL:https://flamingocat.de/event/offener-blumenampel-workshop-7/2021-08-26/
CATEGORIES:Offene Kurse
ATTACH;FMTTYPE=:
END:VEVENT
BEGIN:VEVENT
DTSTART;TZID=Europe/Berlin:20210826T183000
DTEND;TZID=Europe/Berlin:20210826T213000
DTSTAMP:20260423T170740
CREATED:20200709T210715Z
LAST-MODIFIED:20200709T210715Z
UID:10001272-1630002600-1630013400@flamingocat.de
SUMMARY:Offener Blumenampel-Workshop
DESCRIPTION:Auf die Knoten – Fertig – Los! Für Makramee-Einsteiger ist dieser Kurs genau das Richtige.Wir zeigen dir in unserem 3-stündigen Kurs grundlegende Techniken und knüpfen anschließend gemeinsam für deine geliebten Topf-Pflanzen einen angesagten Pflanzenhänger im Vintage-Look. Also sicher dir schnell ein Plätzchen an unserer Knüpfstange!
URL:https://flamingocat.de/event/offener-blumenampel-workshop-7/2021-08-26/
CATEGORIES:Offene Kurse
ATTACH;FMTTYPE=:
END:VEVENT
BEGIN:VEVENT
DTSTART;TZID=Europe/Berlin:20210826T183000
DTEND;TZID=Europe/Berlin:20210826T213000
DTSTAMP:20260423T170740
CREATED:20200709T210715Z
LAST-MODIFIED:20200709T210715Z
UID:10001260-1630002600-1630013400@flamingocat.de
SUMMARY:Offener Blumenampel-Workshop
DESCRIPTION:Auf die Knoten – Fertig – Los! Für Makramee-Einsteiger ist dieser Kurs genau das Richtige.Wir zeigen dir in unserem 3-stündigen Kurs grundlegende Techniken und knüpfen anschließend gemeinsam für deine geliebten Topf-Pflanzen einen angesagten Pflanzenhänger im Vintage-Look. Also sicher dir schnell ein Plätzchen an unserer Knüpfstange!
URL:https://flamingocat.de/event/offener-blumenampel-workshop-7/2021-08-26/
CATEGORIES:Offene Kurse
ATTACH;FMTTYPE=:
END:VEVENT
BEGIN:VEVENT
DTSTART;TZID=Europe/Berlin:20210826T183000
DTEND;TZID=Europe/Berlin:20210826T213000
DTSTAMP:20260423T170740
CREATED:20200709T210715Z
LAST-MODIFIED:20200709T210715Z
UID:10001268-1630002600-1630013400@flamingocat.de
SUMMARY:Offener Blumenampel-Workshop
DESCRIPTION:Auf die Knoten – Fertig – Los! Für Makramee-Einsteiger ist dieser Kurs genau das Richtige.Wir zeigen dir in unserem 3-stündigen Kurs grundlegende Techniken und knüpfen anschließend gemeinsam für deine geliebten Topf-Pflanzen einen angesagten Pflanzenhänger im Vintage-Look. Also sicher dir schnell ein Plätzchen an unserer Knüpfstange!
URL:https://flamingocat.de/event/offener-blumenampel-workshop-7/2021-08-26/
CATEGORIES:Offene Kurse
ATTACH;FMTTYPE=:
END:VEVENT
BEGIN:VEVENT
DTSTART;TZID=Europe/Berlin:20210914T140000
DTEND;TZID=Europe/Berlin:20210914T170000
DTSTAMP:20260423T170740
CREATED:20200709T210715Z
LAST-MODIFIED:20200709T210715Z
UID:10001265-1631628000-1631638800@flamingocat.de
SUMMARY:Offener Blumenampel-Workshop
DESCRIPTION:Auf die Knoten – Fertig – Los! Für Makramee-Einsteiger ist dieser Kurs genau das Richtige.Wir zeigen dir in unserem 3-stündigen Kurs grundlegende Techniken und knüpfen anschließend gemeinsam für deine geliebten Topf-Pflanzen einen angesagten Pflanzenhänger im Vintage-Look. Also sicher dir schnell ein Plätzchen an unserer Knüpfstange!
URL:https://flamingocat.de/event/offener-blumenampel-workshop-7/2021-09-14/
CATEGORIES:Offene Kurse
ATTACH;FMTTYPE=:
END:VEVENT
BEGIN:VEVENT
DTSTART;TZID=Europe/Berlin:20210914T183000
DTEND;TZID=Europe/Berlin:20210914T213000
DTSTAMP:20260423T170740
CREATED:20200709T210715Z
LAST-MODIFIED:20200709T210715Z
UID:10001261-1631644200-1631655000@flamingocat.de
SUMMARY:Offener Blumenampel-Workshop
DESCRIPTION:Auf die Knoten – Fertig – Los! Für Makramee-Einsteiger ist dieser Kurs genau das Richtige.Wir zeigen dir in unserem 3-stündigen Kurs grundlegende Techniken und knüpfen anschließend gemeinsam für deine geliebten Topf-Pflanzen einen angesagten Pflanzenhänger im Vintage-Look. Also sicher dir schnell ein Plätzchen an unserer Knüpfstange!
URL:https://flamingocat.de/event/offener-blumenampel-workshop-7/2021-09-14/
CATEGORIES:Offene Kurse
ATTACH;FMTTYPE=:
END:VEVENT
BEGIN:VEVENT
DTSTART;TZID=Europe/Berlin:20210914T183000
DTEND;TZID=Europe/Berlin:20210914T213000
DTSTAMP:20260423T170740
CREATED:20200709T210715Z
LAST-MODIFIED:20200709T210715Z
UID:10001269-1631644200-1631655000@flamingocat.de
SUMMARY:Offener Blumenampel-Workshop
DESCRIPTION:Auf die Knoten – Fertig – Los! Für Makramee-Einsteiger ist dieser Kurs genau das Richtige.Wir zeigen dir in unserem 3-stündigen Kurs grundlegende Techniken und knüpfen anschließend gemeinsam für deine geliebten Topf-Pflanzen einen angesagten Pflanzenhänger im Vintage-Look. Also sicher dir schnell ein Plätzchen an unserer Knüpfstange!
URL:https://flamingocat.de/event/offener-blumenampel-workshop-7/2021-09-14/
CATEGORIES:Offene Kurse
ATTACH;FMTTYPE=:
END:VEVENT
BEGIN:VEVENT
DTSTART;TZID=Europe/Berlin:20210914T183000
DTEND;TZID=Europe/Berlin:20210914T213000
DTSTAMP:20260423T170740
CREATED:20200709T210715Z
LAST-MODIFIED:20200709T210715Z
UID:10001250-1631644200-1631655000@flamingocat.de
SUMMARY:Offener Blumenampel-Workshop
DESCRIPTION:Auf die Knoten – Fertig – Los! Für Makramee-Einsteiger ist dieser Kurs genau das Richtige.Wir zeigen dir in unserem 3-stündigen Kurs grundlegende Techniken und knüpfen anschließend gemeinsam für deine geliebten Topf-Pflanzen einen angesagten Pflanzenhänger im Vintage-Look. Also sicher dir schnell ein Plätzchen an unserer Knüpfstange!
URL:https://flamingocat.de/event/offener-blumenampel-workshop-7/2021-09-14/
CATEGORIES:Offene Kurse
ATTACH;FMTTYPE=:
END:VEVENT
END:VCALENDAR