BEGIN:VCALENDAR
VERSION:2.0
PRODID:-//Flamingocat - ECPv6.15.20//NONSGML v1.0//EN
CALSCALE:GREGORIAN
METHOD:PUBLISH
X-WR-CALNAME:Flamingocat
X-ORIGINAL-URL:https://flamingocat.de
X-WR-CALDESC:Veranstaltungen für Flamingocat
REFRESH-INTERVAL;VALUE=DURATION:PT1H
X-Robots-Tag:noindex
X-PUBLISHED-TTL:PT1H
BEGIN:VTIMEZONE
TZID:Europe/Berlin
BEGIN:DAYLIGHT
TZOFFSETFROM:+0100
TZOFFSETTO:+0200
TZNAME:CEST
DTSTART:20210328T010000
END:DAYLIGHT
BEGIN:STANDARD
TZOFFSETFROM:+0200
TZOFFSETTO:+0100
TZNAME:CET
DTSTART:20211031T010000
END:STANDARD
BEGIN:DAYLIGHT
TZOFFSETFROM:+0100
TZOFFSETTO:+0200
TZNAME:CEST
DTSTART:20220327T010000
END:DAYLIGHT
BEGIN:STANDARD
TZOFFSETFROM:+0200
TZOFFSETTO:+0100
TZNAME:CET
DTSTART:20221030T010000
END:STANDARD
BEGIN:DAYLIGHT
TZOFFSETFROM:+0100
TZOFFSETTO:+0200
TZNAME:CEST
DTSTART:20230326T010000
END:DAYLIGHT
BEGIN:STANDARD
TZOFFSETFROM:+0200
TZOFFSETTO:+0100
TZNAME:CET
DTSTART:20231029T010000
END:STANDARD
END:VTIMEZONE
BEGIN:VEVENT
DTSTART;TZID=Europe/Berlin:20220412T183000
DTEND;TZID=Europe/Berlin:20220412T203000
DTSTAMP:20260422T195444
CREATED:20210420T142814Z
LAST-MODIFIED:20250206T094100Z
UID:10001380-1649788200-1649795400@flamingocat.de
SUMMARY:Offener Trockenblüten-Stickrahmen Workshop
DESCRIPTION:Dieser neuen DIY-Idee sind wir buchstäblich auf den Leim gegangen – Mit bunten Trockenblüten\, Tüll und einer großen Portion Klebstoff zaubern wir florale Träume zum Anfassen. Unsere stylischen Trockenblüten-Stickrahmen sind nämlich nicht nur die ultimative Geschenkidee für jeden Anlass\, sondern auch das perfekte Interior-It-Piece für deine 4-Wände. In unserem 90-minütigen Workshop zeigen wir dir wie du mit etwas Geschick deinen individuellen Letter-Frame gestaltest.
URL:https://flamingocat.de/event/trockenblueten-stickrahmen/2022-04-12/
CATEGORIES:Offene Kurse
ATTACH;FMTTYPE=:
END:VEVENT
BEGIN:VEVENT
DTSTART;TZID=Europe/Berlin:20220416T130000
DTEND;TZID=Europe/Berlin:20220416T153000
DTSTAMP:20260422T195444
CREATED:20211217T151626Z
LAST-MODIFIED:20230501T092611Z
UID:10001389-1650114000-1650123000@flamingocat.de
SUMMARY:Punch Needeling
DESCRIPTION:Welcome to our Happy Handarbeits-Happening. In unserem neusten Workshop lassen wir die Nadeln glühen.\nMit leuchtenden Garnen und hübschen Stoffen designen wir ein textiles Must-Have für dein Zuhause und sticken Blüten\, Blätter und Botanisches auf deinen Stickrahmen. Alle benötigten Materialien sind im Kurspreis bereits enthalten. Stick is schick!
URL:https://flamingocat.de/event/punch-needeling/2022-04-16/
CATEGORIES:Offene Kurse
ATTACH;FMTTYPE=:
END:VEVENT
BEGIN:VEVENT
DTSTART;TZID=Europe/Berlin:20220426T080000
DTEND;TZID=Europe/Berlin:20220426T170000
DTSTAMP:20260422T195444
CREATED:20220215T152121Z
LAST-MODIFIED:20260412T201331Z
UID:10001521-1650960000-1650992400@flamingocat.de
SUMMARY:Schmuck aus Polymer-Clay
DESCRIPTION:Mit unserem neuen Polymer-Clay-Workshop\, kannst du dir deinen neuen Lieblingsschmuck einfach selber kneten. Du bestimmst Form\, Farbe und Stil selbst und designst die passenden Accessoires für deinen Lieblingslook. Egal ob Statement-Ohrringe\, Ketten oder Ringe : you decide! Obendrauf servieren wir dir noch eine ordentliche Portion Blattgold.
URL:https://flamingocat.de/event/schmuck-aus-polymer-clay/2022-04-26/1/
CATEGORIES:Offene Kurse
ATTACH;FMTTYPE=image/jpeg:https://flamingocat.de/wp-content/uploads/2022/12/Schmuck-Workshop-Schmuck-aus-Ofen-Clay-Flamingocat-Leipzig-5.jpg
END:VEVENT
BEGIN:VEVENT
DTSTART;TZID=Europe/Berlin:20220426T183000
DTEND;TZID=Europe/Berlin:20220426T213000
DTSTAMP:20260422T195444
CREATED:20220215T152121Z
LAST-MODIFIED:20260412T201331Z
UID:10001318-1650997800-1651008600@flamingocat.de
SUMMARY:Schmuck aus Polymer-Clay
DESCRIPTION:Mit unserem neuen Polymer-Clay-Workshop\, kannst du dir deinen neuen Lieblingsschmuck einfach selber kneten. Du bestimmst Form\, Farbe und Stil selbst und designst die passenden Accessoires für deinen Lieblingslook. Egal ob Statement-Ohrringe\, Ketten oder Ringe : you decide! Obendrauf servieren wir dir noch eine ordentliche Portion Blattgold.
URL:https://flamingocat.de/event/schmuck-aus-polymer-clay/2022-04-26/2/
CATEGORIES:Offene Kurse
ATTACH;FMTTYPE=image/jpeg:https://flamingocat.de/wp-content/uploads/2022/12/Schmuck-Workshop-Schmuck-aus-Ofen-Clay-Flamingocat-Leipzig-5.jpg
END:VEVENT
BEGIN:VEVENT
DTSTART;TZID=Europe/Berlin:20220508T150000
DTEND;TZID=Europe/Berlin:20220508T170000
DTSTAMP:20260422T195444
CREATED:20210420T142814Z
LAST-MODIFIED:20250206T094100Z
UID:10001381-1652022000-1652029200@flamingocat.de
SUMMARY:Offener Trockenblüten-Stickrahmen Workshop
DESCRIPTION:Dieser neuen DIY-Idee sind wir buchstäblich auf den Leim gegangen – Mit bunten Trockenblüten\, Tüll und einer großen Portion Klebstoff zaubern wir florale Träume zum Anfassen. Unsere stylischen Trockenblüten-Stickrahmen sind nämlich nicht nur die ultimative Geschenkidee für jeden Anlass\, sondern auch das perfekte Interior-It-Piece für deine 4-Wände. In unserem 90-minütigen Workshop zeigen wir dir wie du mit etwas Geschick deinen individuellen Letter-Frame gestaltest.
URL:https://flamingocat.de/event/trockenblueten-stickrahmen/2022-05-08/
CATEGORIES:Offene Kurse
ATTACH;FMTTYPE=:
END:VEVENT
BEGIN:VEVENT
DTSTART;TZID=Europe/Berlin:20220621T110000
DTEND;TZID=Europe/Berlin:20220622T050000
DTSTAMP:20260422T195444
CREATED:20211025T070836Z
LAST-MODIFIED:20260413T162837Z
UID:10001852-1655809200-1655874000@flamingocat.de
SUMMARY:Weihnachtlicher Türkranz
DESCRIPTION:You better watch out! In diesem Jahr begrüßen wir die Weihnachtszeit mit einem selbstgebundenen Türkranz. Mit Eukalytus\, bunten Seidenbändern und allerlei schönen Materialien verpassen wir dem Kranz ein angesagtes skandinavisches Make-Over. ! \nBitte beachte: Aufgrund der aktuellen Inzidenzen ist eine Präsenzveranstaltung nicht möglich. Daher findet unser Workshop digital statt. \n  ab 64\,95 € / Person
URL:https://flamingocat.de/event/weihnachtlicher-tuerkranz-2021-12-16/2022-06-21/
CATEGORIES:Offene Kurse
ATTACH;FMTTYPE=:
END:VEVENT
BEGIN:VEVENT
DTSTART;TZID=Europe/Berlin:20220911T150000
DTEND;TZID=Europe/Berlin:20220911T180000
DTSTAMP:20260422T195444
CREATED:20200928T165821Z
LAST-MODIFIED:20241220T111518Z
UID:10001544-1662908400-1662919200@flamingocat.de
SUMMARY:Offener Osterkranz Workshop
DESCRIPTION:Can you feel the autumn-vibes? Wir geniessen die leuchten-bunten Farben des Herbsts und binden angesagte Kränze für dein Zuhause. Zweige\, Blätter und flauschige Gräser sind unsere absoluten all-time-favourites und verpassen auch deinen 4-Wänden eine skandinavische Wohlfühl-Athmosphäre.
URL:https://flamingocat.de/event/offener-herbstkranz-workshop-5/2022-09-11/
LOCATION:DIY DEPARTEMENT\, Karl Liebknecht Strasse 13\, 04107
CATEGORIES:Offene Kurse
ATTACH;FMTTYPE=:
END:VEVENT
BEGIN:VEVENT
DTSTART;TZID=Europe/Berlin:20221004T183000
DTEND;TZID=Europe/Berlin:20221004T203000
DTSTAMP:20260422T195444
CREATED:20200928T165821Z
LAST-MODIFIED:20241220T111518Z
UID:10001545-1664908200-1664915400@flamingocat.de
SUMMARY:Offener Osterkranz Workshop
DESCRIPTION:Can you feel the autumn-vibes? Wir geniessen die leuchten-bunten Farben des Herbsts und binden angesagte Kränze für dein Zuhause. Zweige\, Blätter und flauschige Gräser sind unsere absoluten all-time-favourites und verpassen auch deinen 4-Wänden eine skandinavische Wohlfühl-Athmosphäre.
URL:https://flamingocat.de/event/offener-herbstkranz-workshop-5/2022-10-04/
LOCATION:DIY DEPARTEMENT\, Karl Liebknecht Strasse 13\, 04107
CATEGORIES:Offene Kurse
ATTACH;FMTTYPE=:
END:VEVENT
BEGIN:VEVENT
DTSTART;TZID=Europe/Berlin:20221025T183000
DTEND;TZID=Europe/Berlin:20221025T203000
DTSTAMP:20260422T195444
CREATED:20200928T165821Z
LAST-MODIFIED:20241220T111518Z
UID:10001546-1666722600-1666729800@flamingocat.de
SUMMARY:Offener Osterkranz Workshop
DESCRIPTION:Can you feel the autumn-vibes? Wir geniessen die leuchten-bunten Farben des Herbsts und binden angesagte Kränze für dein Zuhause. Zweige\, Blätter und flauschige Gräser sind unsere absoluten all-time-favourites und verpassen auch deinen 4-Wänden eine skandinavische Wohlfühl-Athmosphäre.
URL:https://flamingocat.de/event/offener-herbstkranz-workshop-5/2022-10-25/
LOCATION:DIY DEPARTEMENT\, Karl Liebknecht Strasse 13\, 04107
CATEGORIES:Offene Kurse
ATTACH;FMTTYPE=:
END:VEVENT
BEGIN:VEVENT
DTSTART;TZID=Europe/Berlin:20221101T183000
DTEND;TZID=Europe/Berlin:20221101T213000
DTSTAMP:20260422T195444
CREATED:20210420T142814Z
LAST-MODIFIED:20250206T094100Z
UID:10001382-1667327400-1667338200@flamingocat.de
SUMMARY:Offener Trockenblüten-Stickrahmen Workshop
DESCRIPTION:Dieser neuen DIY-Idee sind wir buchstäblich auf den Leim gegangen – Mit bunten Trockenblüten\, Tüll und einer großen Portion Klebstoff zaubern wir florale Träume zum Anfassen. Unsere stylischen Trockenblüten-Stickrahmen sind nämlich nicht nur die ultimative Geschenkidee für jeden Anlass\, sondern auch das perfekte Interior-It-Piece für deine 4-Wände. In unserem 90-minütigen Workshop zeigen wir dir wie du mit etwas Geschick deinen individuellen Letter-Frame gestaltest.
URL:https://flamingocat.de/event/trockenblueten-stickrahmen/2022-11-01/
CATEGORIES:Offene Kurse
ATTACH;FMTTYPE=:
END:VEVENT
BEGIN:VEVENT
DTSTART;TZID=Europe/Berlin:20221117T100000
DTEND;TZID=Europe/Berlin:20221117T120000
DTSTAMP:20260422T195444
CREATED:20190821T152824Z
LAST-MODIFIED:20190821T152824Z
UID:10000788-1668679200-1668686400@flamingocat.de
SUMMARY:offener Adventskranz-Workshop
DESCRIPTION:You better watch out! In diesem Jahr begrüßen wir die Weihnachtszeit mit einem selbstgebundenen Adventskranz. Mit Eukalytus\, bunten Seidenbändern und allerlei schönen Materialien verpassen wir dem Kranz ein angesagtes skandinavisches Make-Over. Und damit ihr richtig in Weihnachtsstimmung kommt\, servieren wir euch nebenbei noch dampfenden Glühwein…
URL:https://flamingocat.de/event/offener-adventskranz-workshop-9/2022-11-17/
LOCATION:FLAMINGOCAT\, Kurt Eisner Strasse 17\, Leipzig\, 04275
CATEGORIES:Offene Kurse
ATTACH;FMTTYPE=image/jpeg:https://flamingocat.de/wp-content/uploads/2022/12/DIY-Adventskranz-im-Greenery-Style-Flamingocat-Leipzig-43.jpg
END:VEVENT
BEGIN:VEVENT
DTSTART;TZID=Europe/Berlin:20221117T100000
DTEND;TZID=Europe/Berlin:20221117T120000
DTSTAMP:20260422T195444
CREATED:20190821T152824Z
LAST-MODIFIED:20190821T152824Z
UID:10000931-1668679200-1668686400@flamingocat.de
SUMMARY:offener Adventskranz-Workshop
DESCRIPTION:You better watch out! In diesem Jahr begrüßen wir die Weihnachtszeit mit einem selbstgebundenen Adventskranz. Mit Eukalytus\, bunten Seidenbändern und allerlei schönen Materialien verpassen wir dem Kranz ein angesagtes skandinavisches Make-Over. Und damit ihr richtig in Weihnachtsstimmung kommt\, servieren wir euch nebenbei noch dampfenden Glühwein…
URL:https://flamingocat.de/event/offener-adventskranz-workshop-9/2022-11-17/
LOCATION:FLAMINGOCAT\, Kurt Eisner Strasse 17\, Leipzig\, 04275
CATEGORIES:Offene Kurse
ATTACH;FMTTYPE=image/jpeg:https://flamingocat.de/wp-content/uploads/2022/12/DIY-Adventskranz-im-Greenery-Style-Flamingocat-Leipzig-43.jpg
END:VEVENT
BEGIN:VEVENT
DTSTART;TZID=Europe/Berlin:20221117T100000
DTEND;TZID=Europe/Berlin:20221117T120000
DTSTAMP:20260422T195444
CREATED:20190821T152824Z
LAST-MODIFIED:20190821T152824Z
UID:10000979-1668679200-1668686400@flamingocat.de
SUMMARY:offener Adventskranz-Workshop
DESCRIPTION:You better watch out! In diesem Jahr begrüßen wir die Weihnachtszeit mit einem selbstgebundenen Adventskranz. Mit Eukalytus\, bunten Seidenbändern und allerlei schönen Materialien verpassen wir dem Kranz ein angesagtes skandinavisches Make-Over. Und damit ihr richtig in Weihnachtsstimmung kommt\, servieren wir euch nebenbei noch dampfenden Glühwein…
URL:https://flamingocat.de/event/offener-adventskranz-workshop-9/2022-11-17/
LOCATION:FLAMINGOCAT\, Kurt Eisner Strasse 17\, Leipzig\, 04275
CATEGORIES:Offene Kurse
ATTACH;FMTTYPE=image/jpeg:https://flamingocat.de/wp-content/uploads/2022/12/DIY-Adventskranz-im-Greenery-Style-Flamingocat-Leipzig-43.jpg
END:VEVENT
BEGIN:VEVENT
DTSTART;TZID=Europe/Berlin:20221117T140000
DTEND;TZID=Europe/Berlin:20221117T170000
DTSTAMP:20260422T195444
CREATED:20190821T152824Z
LAST-MODIFIED:20190821T152824Z
UID:10000955-1668693600-1668704400@flamingocat.de
SUMMARY:offener Adventskranz-Workshop
DESCRIPTION:You better watch out! In diesem Jahr begrüßen wir die Weihnachtszeit mit einem selbstgebundenen Adventskranz. Mit Eukalytus\, bunten Seidenbändern und allerlei schönen Materialien verpassen wir dem Kranz ein angesagtes skandinavisches Make-Over. Und damit ihr richtig in Weihnachtsstimmung kommt\, servieren wir euch nebenbei noch dampfenden Glühwein…
URL:https://flamingocat.de/event/offener-adventskranz-workshop-9/2022-11-17/3/
LOCATION:FLAMINGOCAT\, Kurt Eisner Strasse 17\, Leipzig\, 04275
CATEGORIES:Offene Kurse
ATTACH;FMTTYPE=image/jpeg:https://flamingocat.de/wp-content/uploads/2022/12/DIY-Adventskranz-im-Greenery-Style-Flamingocat-Leipzig-43.jpg
END:VEVENT
BEGIN:VEVENT
DTSTART;TZID=Europe/Berlin:20221117T140000
DTEND;TZID=Europe/Berlin:20221117T170000
DTSTAMP:20260422T195444
CREATED:20190821T152824Z
LAST-MODIFIED:20190821T152824Z
UID:10000812-1668693600-1668704400@flamingocat.de
SUMMARY:offener Adventskranz-Workshop
DESCRIPTION:You better watch out! In diesem Jahr begrüßen wir die Weihnachtszeit mit einem selbstgebundenen Adventskranz. Mit Eukalytus\, bunten Seidenbändern und allerlei schönen Materialien verpassen wir dem Kranz ein angesagtes skandinavisches Make-Over. Und damit ihr richtig in Weihnachtsstimmung kommt\, servieren wir euch nebenbei noch dampfenden Glühwein…
URL:https://flamingocat.de/event/offener-adventskranz-workshop-9/2022-11-17/2/
LOCATION:FLAMINGOCAT\, Kurt Eisner Strasse 17\, Leipzig\, 04275
CATEGORIES:Offene Kurse
ATTACH;FMTTYPE=image/jpeg:https://flamingocat.de/wp-content/uploads/2022/12/DIY-Adventskranz-im-Greenery-Style-Flamingocat-Leipzig-43.jpg
END:VEVENT
BEGIN:VEVENT
DTSTART;TZID=Europe/Berlin:20221117T153000
DTEND;TZID=Europe/Berlin:20221117T170000
DTSTAMP:20260422T195444
CREATED:20190821T152824Z
LAST-MODIFIED:20190821T152824Z
UID:10000741-1668699000-1668704400@flamingocat.de
SUMMARY:offener Adventskranz-Workshop
DESCRIPTION:You better watch out! In diesem Jahr begrüßen wir die Weihnachtszeit mit einem selbstgebundenen Adventskranz. Mit Eukalytus\, bunten Seidenbändern und allerlei schönen Materialien verpassen wir dem Kranz ein angesagtes skandinavisches Make-Over. Und damit ihr richtig in Weihnachtsstimmung kommt\, servieren wir euch nebenbei noch dampfenden Glühwein…
URL:https://flamingocat.de/event/offener-adventskranz-workshop-9/2022-11-17/
LOCATION:FLAMINGOCAT\, Kurt Eisner Strasse 17\, Leipzig\, 04275
CATEGORIES:Offene Kurse
ATTACH;FMTTYPE=image/jpeg:https://flamingocat.de/wp-content/uploads/2022/12/DIY-Adventskranz-im-Greenery-Style-Flamingocat-Leipzig-43.jpg
END:VEVENT
BEGIN:VEVENT
DTSTART;TZID=Europe/Berlin:20221117T153000
DTEND;TZID=Europe/Berlin:20221117T173000
DTSTAMP:20260422T195444
CREATED:20190821T152824Z
LAST-MODIFIED:20190821T152824Z
UID:10000884-1668699000-1668706200@flamingocat.de
SUMMARY:offener Adventskranz-Workshop
DESCRIPTION:You better watch out! In diesem Jahr begrüßen wir die Weihnachtszeit mit einem selbstgebundenen Adventskranz. Mit Eukalytus\, bunten Seidenbändern und allerlei schönen Materialien verpassen wir dem Kranz ein angesagtes skandinavisches Make-Over. Und damit ihr richtig in Weihnachtsstimmung kommt\, servieren wir euch nebenbei noch dampfenden Glühwein…
URL:https://flamingocat.de/event/offener-adventskranz-workshop-9/2022-11-17/
LOCATION:FLAMINGOCAT\, Kurt Eisner Strasse 17\, Leipzig\, 04275
CATEGORIES:Offene Kurse
ATTACH;FMTTYPE=image/jpeg:https://flamingocat.de/wp-content/uploads/2022/12/DIY-Adventskranz-im-Greenery-Style-Flamingocat-Leipzig-43.jpg
END:VEVENT
BEGIN:VEVENT
DTSTART;TZID=Europe/Berlin:20221117T183000
DTEND;TZID=Europe/Berlin:20221117T183000
DTSTAMP:20260422T195444
CREATED:20190821T152824Z
LAST-MODIFIED:20190821T152824Z
UID:10000836-1668709800-1668709800@flamingocat.de
SUMMARY:offener Adventskranz-Workshop
DESCRIPTION:You better watch out! In diesem Jahr begrüßen wir die Weihnachtszeit mit einem selbstgebundenen Adventskranz. Mit Eukalytus\, bunten Seidenbändern und allerlei schönen Materialien verpassen wir dem Kranz ein angesagtes skandinavisches Make-Over. Und damit ihr richtig in Weihnachtsstimmung kommt\, servieren wir euch nebenbei noch dampfenden Glühwein…
URL:https://flamingocat.de/event/offener-adventskranz-workshop-9/2022-11-17/
LOCATION:FLAMINGOCAT\, Kurt Eisner Strasse 17\, Leipzig\, 04275
CATEGORIES:Offene Kurse
ATTACH;FMTTYPE=image/jpeg:https://flamingocat.de/wp-content/uploads/2022/12/DIY-Adventskranz-im-Greenery-Style-Flamingocat-Leipzig-43.jpg
END:VEVENT
BEGIN:VEVENT
DTSTART;TZID=Europe/Berlin:20221117T183000
DTEND;TZID=Europe/Berlin:20221117T183000
DTSTAMP:20260422T195444
CREATED:20190821T152824Z
LAST-MODIFIED:20190821T152824Z
UID:10000764-1668709800-1668709800@flamingocat.de
SUMMARY:offener Adventskranz-Workshop
DESCRIPTION:You better watch out! In diesem Jahr begrüßen wir die Weihnachtszeit mit einem selbstgebundenen Adventskranz. Mit Eukalytus\, bunten Seidenbändern und allerlei schönen Materialien verpassen wir dem Kranz ein angesagtes skandinavisches Make-Over. Und damit ihr richtig in Weihnachtsstimmung kommt\, servieren wir euch nebenbei noch dampfenden Glühwein…
URL:https://flamingocat.de/event/offener-adventskranz-workshop-9/2022-11-17/2/
LOCATION:FLAMINGOCAT\, Kurt Eisner Strasse 17\, Leipzig\, 04275
CATEGORIES:Offene Kurse
ATTACH;FMTTYPE=image/jpeg:https://flamingocat.de/wp-content/uploads/2022/12/DIY-Adventskranz-im-Greenery-Style-Flamingocat-Leipzig-43.jpg
END:VEVENT
BEGIN:VEVENT
DTSTART;TZID=Europe/Berlin:20221117T183000
DTEND;TZID=Europe/Berlin:20221117T183000
DTSTAMP:20260422T195444
CREATED:20190821T152824Z
LAST-MODIFIED:20190821T152824Z
UID:10000860-1668709800-1668709800@flamingocat.de
SUMMARY:offener Adventskranz-Workshop
DESCRIPTION:You better watch out! In diesem Jahr begrüßen wir die Weihnachtszeit mit einem selbstgebundenen Adventskranz. Mit Eukalytus\, bunten Seidenbändern und allerlei schönen Materialien verpassen wir dem Kranz ein angesagtes skandinavisches Make-Over. Und damit ihr richtig in Weihnachtsstimmung kommt\, servieren wir euch nebenbei noch dampfenden Glühwein…
URL:https://flamingocat.de/event/offener-adventskranz-workshop-9/2022-11-17/
LOCATION:FLAMINGOCAT\, Kurt Eisner Strasse 17\, Leipzig\, 04275
CATEGORIES:Offene Kurse
ATTACH;FMTTYPE=image/jpeg:https://flamingocat.de/wp-content/uploads/2022/12/DIY-Adventskranz-im-Greenery-Style-Flamingocat-Leipzig-43.jpg
END:VEVENT
BEGIN:VEVENT
DTSTART;TZID=Europe/Berlin:20221117T183000
DTEND;TZID=Europe/Berlin:20221117T183000
DTSTAMP:20260422T195444
CREATED:20190821T152824Z
LAST-MODIFIED:20190821T152824Z
UID:10000717-1668709800-1668709800@flamingocat.de
SUMMARY:offener Adventskranz-Workshop
DESCRIPTION:You better watch out! In diesem Jahr begrüßen wir die Weihnachtszeit mit einem selbstgebundenen Adventskranz. Mit Eukalytus\, bunten Seidenbändern und allerlei schönen Materialien verpassen wir dem Kranz ein angesagtes skandinavisches Make-Over. Und damit ihr richtig in Weihnachtsstimmung kommt\, servieren wir euch nebenbei noch dampfenden Glühwein…
URL:https://flamingocat.de/event/offener-adventskranz-workshop-9/2022-11-17/
LOCATION:FLAMINGOCAT\, Kurt Eisner Strasse 17\, Leipzig\, 04275
CATEGORIES:Offene Kurse
ATTACH;FMTTYPE=image/jpeg:https://flamingocat.de/wp-content/uploads/2022/12/DIY-Adventskranz-im-Greenery-Style-Flamingocat-Leipzig-43.jpg
END:VEVENT
BEGIN:VEVENT
DTSTART;TZID=Europe/Berlin:20221117T183000
DTEND;TZID=Europe/Berlin:20221117T203000
DTSTAMP:20260422T195444
CREATED:20190821T152824Z
LAST-MODIFIED:20190821T152824Z
UID:10000907-1668709800-1668717000@flamingocat.de
SUMMARY:offener Adventskranz-Workshop
DESCRIPTION:You better watch out! In diesem Jahr begrüßen wir die Weihnachtszeit mit einem selbstgebundenen Adventskranz. Mit Eukalytus\, bunten Seidenbändern und allerlei schönen Materialien verpassen wir dem Kranz ein angesagtes skandinavisches Make-Over. Und damit ihr richtig in Weihnachtsstimmung kommt\, servieren wir euch nebenbei noch dampfenden Glühwein…
URL:https://flamingocat.de/event/offener-adventskranz-workshop-9/2022-11-17/3/
LOCATION:FLAMINGOCAT\, Kurt Eisner Strasse 17\, Leipzig\, 04275
CATEGORIES:Offene Kurse
ATTACH;FMTTYPE=image/jpeg:https://flamingocat.de/wp-content/uploads/2022/12/DIY-Adventskranz-im-Greenery-Style-Flamingocat-Leipzig-43.jpg
END:VEVENT
BEGIN:VEVENT
DTSTART;TZID=Europe/Berlin:20221118T100000
DTEND;TZID=Europe/Berlin:20221118T120000
DTSTAMP:20260422T195444
CREATED:20190821T152824Z
LAST-MODIFIED:20190821T152824Z
UID:10000932-1668765600-1668772800@flamingocat.de
SUMMARY:offener Adventskranz-Workshop
DESCRIPTION:You better watch out! In diesem Jahr begrüßen wir die Weihnachtszeit mit einem selbstgebundenen Adventskranz. Mit Eukalytus\, bunten Seidenbändern und allerlei schönen Materialien verpassen wir dem Kranz ein angesagtes skandinavisches Make-Over. Und damit ihr richtig in Weihnachtsstimmung kommt\, servieren wir euch nebenbei noch dampfenden Glühwein…
URL:https://flamingocat.de/event/offener-adventskranz-workshop-9/2022-11-18/1/
LOCATION:FLAMINGOCAT\, Kurt Eisner Strasse 17\, Leipzig\, 04275
CATEGORIES:Offene Kurse
ATTACH;FMTTYPE=image/jpeg:https://flamingocat.de/wp-content/uploads/2022/12/DIY-Adventskranz-im-Greenery-Style-Flamingocat-Leipzig-43.jpg
END:VEVENT
BEGIN:VEVENT
DTSTART;TZID=Europe/Berlin:20221118T100000
DTEND;TZID=Europe/Berlin:20221118T120000
DTSTAMP:20260422T195444
CREATED:20190821T152824Z
LAST-MODIFIED:20190821T152824Z
UID:10000980-1668765600-1668772800@flamingocat.de
SUMMARY:offener Adventskranz-Workshop
DESCRIPTION:You better watch out! In diesem Jahr begrüßen wir die Weihnachtszeit mit einem selbstgebundenen Adventskranz. Mit Eukalytus\, bunten Seidenbändern und allerlei schönen Materialien verpassen wir dem Kranz ein angesagtes skandinavisches Make-Over. Und damit ihr richtig in Weihnachtsstimmung kommt\, servieren wir euch nebenbei noch dampfenden Glühwein…
URL:https://flamingocat.de/event/offener-adventskranz-workshop-9/2022-11-18/1/
LOCATION:FLAMINGOCAT\, Kurt Eisner Strasse 17\, Leipzig\, 04275
CATEGORIES:Offene Kurse
ATTACH;FMTTYPE=image/jpeg:https://flamingocat.de/wp-content/uploads/2022/12/DIY-Adventskranz-im-Greenery-Style-Flamingocat-Leipzig-43.jpg
END:VEVENT
BEGIN:VEVENT
DTSTART;TZID=Europe/Berlin:20221118T100000
DTEND;TZID=Europe/Berlin:20221118T120000
DTSTAMP:20260422T195444
CREATED:20190821T152824Z
LAST-MODIFIED:20190821T152824Z
UID:10000789-1668765600-1668772800@flamingocat.de
SUMMARY:offener Adventskranz-Workshop
DESCRIPTION:You better watch out! In diesem Jahr begrüßen wir die Weihnachtszeit mit einem selbstgebundenen Adventskranz. Mit Eukalytus\, bunten Seidenbändern und allerlei schönen Materialien verpassen wir dem Kranz ein angesagtes skandinavisches Make-Over. Und damit ihr richtig in Weihnachtsstimmung kommt\, servieren wir euch nebenbei noch dampfenden Glühwein…
URL:https://flamingocat.de/event/offener-adventskranz-workshop-9/2022-11-18/1/
LOCATION:FLAMINGOCAT\, Kurt Eisner Strasse 17\, Leipzig\, 04275
CATEGORIES:Offene Kurse
ATTACH;FMTTYPE=image/jpeg:https://flamingocat.de/wp-content/uploads/2022/12/DIY-Adventskranz-im-Greenery-Style-Flamingocat-Leipzig-43.jpg
END:VEVENT
BEGIN:VEVENT
DTSTART;TZID=Europe/Berlin:20221118T140000
DTEND;TZID=Europe/Berlin:20221118T170000
DTSTAMP:20260422T195444
CREATED:20190821T152824Z
LAST-MODIFIED:20190821T152824Z
UID:10000956-1668780000-1668790800@flamingocat.de
SUMMARY:offener Adventskranz-Workshop
DESCRIPTION:You better watch out! In diesem Jahr begrüßen wir die Weihnachtszeit mit einem selbstgebundenen Adventskranz. Mit Eukalytus\, bunten Seidenbändern und allerlei schönen Materialien verpassen wir dem Kranz ein angesagtes skandinavisches Make-Over. Und damit ihr richtig in Weihnachtsstimmung kommt\, servieren wir euch nebenbei noch dampfenden Glühwein…
URL:https://flamingocat.de/event/offener-adventskranz-workshop-9/2022-11-18/1/
LOCATION:FLAMINGOCAT\, Kurt Eisner Strasse 17\, Leipzig\, 04275
CATEGORIES:Offene Kurse
ATTACH;FMTTYPE=image/jpeg:https://flamingocat.de/wp-content/uploads/2022/12/DIY-Adventskranz-im-Greenery-Style-Flamingocat-Leipzig-43.jpg
END:VEVENT
BEGIN:VEVENT
DTSTART;TZID=Europe/Berlin:20221118T140000
DTEND;TZID=Europe/Berlin:20221118T170000
DTSTAMP:20260422T195444
CREATED:20190821T152824Z
LAST-MODIFIED:20190821T152824Z
UID:10000813-1668780000-1668790800@flamingocat.de
SUMMARY:offener Adventskranz-Workshop
DESCRIPTION:You better watch out! In diesem Jahr begrüßen wir die Weihnachtszeit mit einem selbstgebundenen Adventskranz. Mit Eukalytus\, bunten Seidenbändern und allerlei schönen Materialien verpassen wir dem Kranz ein angesagtes skandinavisches Make-Over. Und damit ihr richtig in Weihnachtsstimmung kommt\, servieren wir euch nebenbei noch dampfenden Glühwein…
URL:https://flamingocat.de/event/offener-adventskranz-workshop-9/2022-11-18/1/
LOCATION:FLAMINGOCAT\, Kurt Eisner Strasse 17\, Leipzig\, 04275
CATEGORIES:Offene Kurse
ATTACH;FMTTYPE=image/jpeg:https://flamingocat.de/wp-content/uploads/2022/12/DIY-Adventskranz-im-Greenery-Style-Flamingocat-Leipzig-43.jpg
END:VEVENT
BEGIN:VEVENT
DTSTART;TZID=Europe/Berlin:20221118T153000
DTEND;TZID=Europe/Berlin:20221118T170000
DTSTAMP:20260422T195444
CREATED:20190821T152824Z
LAST-MODIFIED:20190821T152824Z
UID:10000837-1668785400-1668790800@flamingocat.de
SUMMARY:offener Adventskranz-Workshop
DESCRIPTION:You better watch out! In diesem Jahr begrüßen wir die Weihnachtszeit mit einem selbstgebundenen Adventskranz. Mit Eukalytus\, bunten Seidenbändern und allerlei schönen Materialien verpassen wir dem Kranz ein angesagtes skandinavisches Make-Over. Und damit ihr richtig in Weihnachtsstimmung kommt\, servieren wir euch nebenbei noch dampfenden Glühwein…
URL:https://flamingocat.de/event/offener-adventskranz-workshop-9/2022-11-18/1/
LOCATION:FLAMINGOCAT\, Kurt Eisner Strasse 17\, Leipzig\, 04275
CATEGORIES:Offene Kurse
ATTACH;FMTTYPE=image/jpeg:https://flamingocat.de/wp-content/uploads/2022/12/DIY-Adventskranz-im-Greenery-Style-Flamingocat-Leipzig-43.jpg
END:VEVENT
BEGIN:VEVENT
DTSTART;TZID=Europe/Berlin:20221118T153000
DTEND;TZID=Europe/Berlin:20221118T170000
DTSTAMP:20260422T195444
CREATED:20190821T152824Z
LAST-MODIFIED:20190821T152824Z
UID:10000885-1668785400-1668790800@flamingocat.de
SUMMARY:offener Adventskranz-Workshop
DESCRIPTION:You better watch out! In diesem Jahr begrüßen wir die Weihnachtszeit mit einem selbstgebundenen Adventskranz. Mit Eukalytus\, bunten Seidenbändern und allerlei schönen Materialien verpassen wir dem Kranz ein angesagtes skandinavisches Make-Over. Und damit ihr richtig in Weihnachtsstimmung kommt\, servieren wir euch nebenbei noch dampfenden Glühwein…
URL:https://flamingocat.de/event/offener-adventskranz-workshop-9/2022-11-18/
LOCATION:FLAMINGOCAT\, Kurt Eisner Strasse 17\, Leipzig\, 04275
CATEGORIES:Offene Kurse
ATTACH;FMTTYPE=image/jpeg:https://flamingocat.de/wp-content/uploads/2022/12/DIY-Adventskranz-im-Greenery-Style-Flamingocat-Leipzig-43.jpg
END:VEVENT
BEGIN:VEVENT
DTSTART;TZID=Europe/Berlin:20221118T153000
DTEND;TZID=Europe/Berlin:20221118T170000
DTSTAMP:20260422T195444
CREATED:20190821T152824Z
LAST-MODIFIED:20190821T152824Z
UID:10000933-1668785400-1668790800@flamingocat.de
SUMMARY:offener Adventskranz-Workshop
DESCRIPTION:You better watch out! In diesem Jahr begrüßen wir die Weihnachtszeit mit einem selbstgebundenen Adventskranz. Mit Eukalytus\, bunten Seidenbändern und allerlei schönen Materialien verpassen wir dem Kranz ein angesagtes skandinavisches Make-Over. Und damit ihr richtig in Weihnachtsstimmung kommt\, servieren wir euch nebenbei noch dampfenden Glühwein…
URL:https://flamingocat.de/event/offener-adventskranz-workshop-9/2022-11-18/2/
LOCATION:FLAMINGOCAT\, Kurt Eisner Strasse 17\, Leipzig\, 04275
CATEGORIES:Offene Kurse
ATTACH;FMTTYPE=image/jpeg:https://flamingocat.de/wp-content/uploads/2022/12/DIY-Adventskranz-im-Greenery-Style-Flamingocat-Leipzig-43.jpg
END:VEVENT
END:VCALENDAR