BEGIN:VCALENDAR
VERSION:2.0
PRODID:-//Flamingocat - ECPv6.15.20//NONSGML v1.0//EN
CALSCALE:GREGORIAN
METHOD:PUBLISH
X-ORIGINAL-URL:https://flamingocat.de
X-WR-CALDESC:Veranstaltungen für Flamingocat
REFRESH-INTERVAL;VALUE=DURATION:PT1H
X-Robots-Tag:noindex
X-PUBLISHED-TTL:PT1H
BEGIN:VTIMEZONE
TZID:Europe/Berlin
BEGIN:DAYLIGHT
TZOFFSETFROM:+0100
TZOFFSETTO:+0200
TZNAME:CEST
DTSTART:20240331T010000
END:DAYLIGHT
BEGIN:STANDARD
TZOFFSETFROM:+0200
TZOFFSETTO:+0100
TZNAME:CET
DTSTART:20241027T010000
END:STANDARD
BEGIN:DAYLIGHT
TZOFFSETFROM:+0100
TZOFFSETTO:+0200
TZNAME:CEST
DTSTART:20250330T010000
END:DAYLIGHT
BEGIN:STANDARD
TZOFFSETFROM:+0200
TZOFFSETTO:+0100
TZNAME:CET
DTSTART:20251026T010000
END:STANDARD
BEGIN:DAYLIGHT
TZOFFSETFROM:+0100
TZOFFSETTO:+0200
TZNAME:CEST
DTSTART:20260329T010000
END:DAYLIGHT
BEGIN:STANDARD
TZOFFSETFROM:+0200
TZOFFSETTO:+0100
TZNAME:CET
DTSTART:20261025T010000
END:STANDARD
END:VTIMEZONE
BEGIN:VEVENT
DTSTART;TZID=Europe/Berlin:20250706T110000
DTEND;TZID=Europe/Berlin:20250706T140000
DTSTAMP:20260423T025424
CREATED:20260412T095612Z
LAST-MODIFIED:20260412T095827Z
UID:10001748-1751799600-1751810400@flamingocat.de
SUMMARY:Moosbild gestalten - Offener Workshop
DESCRIPTION:Wir holen uns die Natur ins Wohnzimmer. Sag Tschüss zu Poster Einheitsbrei und nackten Wänden\, denn in diesem Workshop zaubern wir deinen ganz persönlichen #urbanjungle. Wir zeigen dir\, wie du verschiedene Hölzer\, Rinde oder Steine zu einem echten Kunstwerk anordnest. Egal ob Bastel-Beginner oder ein Crafting-Profi bist\, dieser Workshop ist für alle geeignet!
URL:https://flamingocat.de/event/moosbild-gestalten-offener-workshop/2025-07-06/
CATEGORIES:Offene Kurse
ATTACH;FMTTYPE=image/jpeg:https://flamingocat.de/wp-content/uploads/2024/12/Kreative-Teamevents-Idee-Leipzig-.jpg
END:VEVENT
BEGIN:VEVENT
DTSTART;TZID=Europe/Berlin:20250720T110000
DTEND;TZID=Europe/Berlin:20250720T140000
DTSTAMP:20260423T025424
CREATED:20201020T134019Z
LAST-MODIFIED:20250122T132700Z
UID:10001670-1753009200-1753020000@flamingocat.de
SUMMARY:HANDLETTERING WORKSHOP
DESCRIPTION:Make it better\, letter together! In unserem brandneuen 4-stündigen Intensiv-Workshop stellen wir das Alphabet auf den Kopf. Gemeinsam mit Yara vom Design-Label „Piece of Pie“ bringen wir den No. 1 Pintrerest-Trend in unser Atelier. Mit Brushpens\, Übungsblättern und einer großen Portion Schnickschnack und Schnörkel zeigen wir dir wie du zukünftig Briefe\, Einladungskarten und Co. zu ganz individuellen Design-Highlights machst.
URL:https://flamingocat.de/event/handlettering-workshop/2025-07-20/
LOCATION:DIY DEPARTEMENT\, Karl Liebknecht Strasse 13\, 04107
CATEGORIES:Offene Kurse
ATTACH;FMTTYPE=:
END:VEVENT
BEGIN:VEVENT
DTSTART;TZID=Europe/Berlin:20250720T110000
DTEND;TZID=Europe/Berlin:20250720T140000
DTSTAMP:20260423T025424
CREATED:20220215T152121Z
LAST-MODIFIED:20260412T201331Z
UID:10001696-1753009200-1753020000@flamingocat.de
SUMMARY:Schmuck aus Polymer-Clay
DESCRIPTION:Mit unserem neuen Polymer-Clay-Workshop\, kannst du dir deinen neuen Lieblingsschmuck einfach selber kneten. Du bestimmst Form\, Farbe und Stil selbst und designst die passenden Accessoires für deinen Lieblingslook. Egal ob Statement-Ohrringe\, Ketten oder Ringe : you decide! Obendrauf servieren wir dir noch eine ordentliche Portion Blattgold.
URL:https://flamingocat.de/event/schmuck-aus-polymer-clay/2025-07-20/
CATEGORIES:Offene Kurse
ATTACH;FMTTYPE=image/jpeg:https://flamingocat.de/wp-content/uploads/2022/12/Schmuck-Workshop-Schmuck-aus-Ofen-Clay-Flamingocat-Leipzig-5.jpg
END:VEVENT
BEGIN:VEVENT
DTSTART;TZID=Europe/Berlin:20250720T110000
DTEND;TZID=Europe/Berlin:20250720T140000
DTSTAMP:20260423T025424
CREATED:20250224T182810Z
LAST-MODIFIED:20250224T183412Z
UID:10001722-1753009200-1753020000@flamingocat.de
SUMMARY:Handlettering Workshop
DESCRIPTION:Let´s letter together! In diesem Workshop dreht sich alles um die Kunst des Schönschreibens. In unserem inspirierenden 3-stündigen-Workshop\nlernst du die Grundlagen des Handletterings kennen. Wir widmen uns essentiellen Materialien und Tools und vertiefen mit kreativen Übungen deine\nFähigkeiten.
URL:https://flamingocat.de/event/handlettering-workshop-2/2025-07-20/
CATEGORIES:Offene Kurse
ATTACH;FMTTYPE=image/jpeg:https://flamingocat.de/wp-content/uploads/2024/12/Anleitung-Handlettering-Workshop-Leipzig-Kurs-scaled.jpg
END:VEVENT
BEGIN:VEVENT
DTSTART;TZID=Europe/Berlin:20250727T110000
DTEND;TZID=Europe/Berlin:20250727T140000
DTSTAMP:20260423T025424
CREATED:20230616T201428Z
LAST-MODIFIED:20260412T081737Z
UID:10001677-1753614000-1753624800@flamingocat.de
SUMMARY:Offener Aquarell Workshop
DESCRIPTION:Ready for some summer vibes? In unserem neusten Workshop wird es jetzt blumig! Gemeinsam schwingen wir die Pinsel und zeigen euch in unserem Aquarell Workshop die wichtigsten Techniken und besten Tricks rund um die beliebten Wasserfarben. Ihr zeichnet Blumen\, Pflanzen und bunte Blüten und nehmt am Ende unseres 3-stündigen Kurses eure eigenen Aquarell-Blumensträuße und Kränze mit nachhause.
URL:https://flamingocat.de/event/offener-aquarell-workshop-13/2025-07-27/
CATEGORIES:Offene Kurse
ATTACH;FMTTYPE=image/jpeg:https://flamingocat.de/wp-content/uploads/2023/08/aquarell-watercoloring-watercolor-workshop-leipzig-wasserfarben-malen-lernen-7-scaled.jpg
END:VEVENT
BEGIN:VEVENT
DTSTART;TZID=Europe/Berlin:20250727T110000
DTEND;TZID=Europe/Berlin:20250727T140000
DTSTAMP:20260423T025424
CREATED:20240803T084052Z
LAST-MODIFIED:20260412T091701Z
UID:10001683-1753614000-1753624800@flamingocat.de
SUMMARY:Offener Workshop Dip Dye Candles
DESCRIPTION:Dip it like ist hot – ab jetzt widmen wir uns einem der heißesten neuen Interior-Trends und\ndippen gemeinsam Kerzen. Denn was in skandinavischen Concept-Stores bereits ein absoluter Design-Dauerbrenner ist\, hält jetzt auch Einzug in unsere Kreativwerkstatt. Wir zeigen dir in unserem Workshop\, wie du die stylischen Must-Haves ganz einfach selber gestaltest. Dafür mischen wir deine individuellen Lieblingsfarben\, experimentieren mit verschiedenen Techniken und vermitteln dir viele nützliche Tipps rund ums Tauchen\, Klecksen und Dekorieren deiner ganz persönlichen Kerzen-Kollektion. Wähle aus Stab- oder Stumpenkerzen deine individuelle Favoriten und designe die passenden Home-Accessoires für dein Zuhause oder zum Verschenken.\nCome on baby\, light my fire!
URL:https://flamingocat.de/event/offener-workshop-dip-dye-candles/2025-07-27/
LOCATION:FLAMINGOCAT\, Kurt Eisner Strasse 17\, Leipzig\, 04275
CATEGORIES:Offene Kurse
ATTACH;FMTTYPE=image/jpeg:https://flamingocat.de/wp-content/uploads/2026/02/DIY-Workshop-Kerzen-giessen-Leipzig.jpg
END:VEVENT
BEGIN:VEVENT
DTSTART;TZID=Europe/Berlin:20250803T110000
DTEND;TZID=Europe/Berlin:20250803T140000
DTSTAMP:20260423T025424
CREATED:20210117T114808Z
LAST-MODIFIED:20260412T202612Z
UID:10001681-1754218800-1754229600@flamingocat.de
SUMMARY:Offener Trockenblumenkranz Workshop
DESCRIPTION:You better watch out! In diesem Jahr begrüßen wir die neue Jahreszeit mit einem selbstgebundenen Blumenkranz. Mit getrockneten Zweigen\, Blüten\, Federn und und allerlei schönen Materialien verpassen wir deinem Türkranz ein skandinavisches Make-Over.
URL:https://flamingocat.de/event/online-workshop-osterkranz/2025-08-03/
CATEGORIES:Offene Kurse
ATTACH;FMTTYPE=image/jpeg:https://flamingocat.de/wp-content/uploads/2023/01/DIY-Trockenblumenkranz-Fruehling-2.jpg
END:VEVENT
BEGIN:VEVENT
DTSTART;TZID=Europe/Berlin:20250803T110000
DTEND;TZID=Europe/Berlin:20250803T140000
DTSTAMP:20260423T025425
CREATED:20230118T101731Z
LAST-MODIFIED:20260412T204856Z
UID:10001689-1754218800-1754229600@flamingocat.de
SUMMARY:Offener Terrazzo Deko Workshop
DESCRIPTION:Schon die alten Römer liebten Bodenbelege mit farbigen Sprenkeln.\nNun feiert das antike Design ein echtes Revival. Die römische Terrazzo-Optik\nist der Design-Trend des Jahres. Egal ob Schalen\, Blumentöpfe oder Kerzenständer –\nwir streuseln uns die Welt\, wie sie uns gefällt. In unserem 3-stündigen Workshop gestaltest du aus einem umweltfreundlichen\, gips-ähnlichen Verbundwerkstoff deine individuellen Home-Accessoires.
URL:https://flamingocat.de/event/offener-terrazzo-deko-workshop/2025-08-03/
CATEGORIES:Offene Kurse
ATTACH;FMTTYPE=image/jpeg:https://flamingocat.de/wp-content/uploads/2023/01/Terrazzo-Schalen-Workshop-Flamingocat-Leipzig-8-1.jpg
END:VEVENT
BEGIN:VEVENT
DTSTART;TZID=Europe/Berlin:20250810T110000
DTEND;TZID=Europe/Berlin:20250810T140000
DTSTAMP:20260423T025425
CREATED:20220215T151233Z
LAST-MODIFIED:20260413T065423Z
UID:10001691-1754823600-1754834400@flamingocat.de
SUMMARY:Sticken für Einsteiger:innen
DESCRIPTION:In unserem neusten Workshop lassen wir die Nadeln glühen. It´s time for botanical embroidery! Mit leuchtenden Garnen und hübschen Stoffen designen wir ein textiles Must-Have für dein zuhause und sticken Blüten\, Blätter und Botanisches auf deinen Stickrahmen. Alle benötigten Materialien sowie ein Gläschen Sekt\, sind wie immer bereits im Preis enthalten
URL:https://flamingocat.de/event/sticken-fuer-einsteigerinnen-praesenz-veranstaltung/2025-08-10/
CATEGORIES:Offene Kurse
ATTACH;FMTTYPE=image/jpeg:https://flamingocat.de/wp-content/uploads/2023/01/Sticken-lernen-in-Leipzig-Flamingocat-5.jpg
END:VEVENT
BEGIN:VEVENT
DTSTART;TZID=Europe/Berlin:20250810T110000
DTEND;TZID=Europe/Berlin:20250810T140000
DTSTAMP:20260423T025425
CREATED:20240207T101617Z
LAST-MODIFIED:20260413T065910Z
UID:10001686-1754823600-1754834400@flamingocat.de
SUMMARY:Textured Art
DESCRIPTION:Mit diesem Workshop bringen wir Struktur in deinen Alltag und hauchen der schnöden Spachtelmasse frischen Wind ein. Wenn du keine Scheu hast dir die Hände schmutzig zu machen und grafische Designs liebst\, bist du hier genau richtig!
URL:https://flamingocat.de/event/textured-art/2025-08-10/
CATEGORIES:Offene Kurse
ATTACH;FMTTYPE=image/jpeg:https://flamingocat.de/wp-content/uploads/2026/02/Spachtelmasse-Workshop-Leipzig-Textured-Art.jpg
ORGANIZER;CN="FLAMINGOCAT":MAILTO:info@flamingocat.de
END:VEVENT
BEGIN:VEVENT
DTSTART;TZID=Europe/Berlin:20250817T110000
DTEND;TZID=Europe/Berlin:20250817T140000
DTSTAMP:20260423T025425
CREATED:20230501T092756Z
LAST-MODIFIED:20260412T193638Z
UID:10001682-1755428400-1755439200@flamingocat.de
SUMMARY:Punch Needeling
DESCRIPTION:
URL:https://flamingocat.de/event/punch-needeling-2023/2025-08-17/
CATEGORIES:Offene Kurse
ATTACH;FMTTYPE=image/jpeg:https://flamingocat.de/wp-content/uploads/2023/04/Punch-Needling-9-scaled.jpg
END:VEVENT
BEGIN:VEVENT
DTSTART;TZID=Europe/Berlin:20250817T110000
DTEND;TZID=Europe/Berlin:20250817T140000
DTSTAMP:20260423T025425
CREATED:20250117T213334Z
LAST-MODIFIED:20250117T213334Z
UID:10001660-1755428400-1755439200@flamingocat.de
SUMMARY:Offener Workshop - Haargummi häkeln
DESCRIPTION:Wir lassen deine Häkelnadeln glühen! In unserem Workshop entdecken wir Omas Lieblingsbeschäftigung nämlich komplett neu! Topflappen und Klopapier-Häubchen – Ade! Wir nutzen die schicken Schlaufen für stylische Accessoires und häkeln stylische Scrunchies. Damit´s bei dir auch wie am Schnürchen läuft\,starten wir unseren Kurs mit einem Einstieg in die wichtigsten Grundtechniken. Keine Sorge\, die Basics hast du schnell gelernt und kannst mit unsere Hilfe auch direkt in dein erstes eigenes Häkelprojekt starten. Nadeln\, Scheren und Wolle in verschieden Farben halten wir selbstverständlich für dich bereit. Alles was du brauchst sind bunte Ideen für dein erstes Häkel-DIY!
URL:https://flamingocat.de/event/offener-workshop-haargummi-haekeln/2025-08-17/
CATEGORIES:Offene Kurse
ATTACH;FMTTYPE=image/jpeg:https://flamingocat.de/wp-content/uploads/2025/01/Haargummi-haekeln-lernen-Leipzig-Workshop.jpg
END:VEVENT
BEGIN:VEVENT
DTSTART;TZID=Europe/Berlin:20250823T110000
DTEND;TZID=Europe/Berlin:20250824T160000
DTSTAMP:20260423T025425
CREATED:20231217T115908Z
LAST-MODIFIED:20260413T094939Z
UID:10001727-1755946800-1756051200@flamingocat.de
SUMMARY:Tufting Workshop
DESCRIPTION:
URL:https://flamingocat.de/event/tufting-workshop/2025-08-23/
CATEGORIES:Offene Kurse
END:VEVENT
BEGIN:VEVENT
DTSTART;TZID=Europe/Berlin:20250823T110000
DTEND;TZID=Europe/Berlin:20250824T160000
DTSTAMP:20260423T025425
CREATED:20250504T074314Z
LAST-MODIFIED:20260413T094337Z
UID:10001755-1755946800-1756051200@flamingocat.de
SUMMARY:Tufting Workshop - Kleiner Teppich
DESCRIPTION:
URL:https://flamingocat.de/event/tufting-workshop-kleiner-teppich/2025-08-23/
CATEGORIES:Offene Kurse
ATTACH;FMTTYPE=image/jpeg:https://flamingocat.de/wp-content/uploads/2025/01/Tufting-Kurs-Leipzig-Flamingocat.jpg
END:VEVENT
BEGIN:VEVENT
DTSTART;TZID=Europe/Berlin:20250824T110000
DTEND;TZID=Europe/Berlin:20250824T140000
DTSTAMP:20260423T025425
CREATED:20210420T142814Z
LAST-MODIFIED:20250206T094100Z
UID:10001699-1756033200-1756044000@flamingocat.de
SUMMARY:Offener Trockenblüten-Stickrahmen Workshop
DESCRIPTION:Dieser neuen DIY-Idee sind wir buchstäblich auf den Leim gegangen – Mit bunten Trockenblüten\, Tüll und einer großen Portion Klebstoff zaubern wir florale Träume zum Anfassen. Unsere stylischen Trockenblüten-Stickrahmen sind nämlich nicht nur die ultimative Geschenkidee für jeden Anlass\, sondern auch das perfekte Interior-It-Piece für deine 4-Wände. In unserem 90-minütigen Workshop zeigen wir dir wie du mit etwas Geschick deinen individuellen Letter-Frame gestaltest.
URL:https://flamingocat.de/event/trockenblueten-stickrahmen/2025-08-24/
CATEGORIES:Offene Kurse
ATTACH;FMTTYPE=:
END:VEVENT
BEGIN:VEVENT
DTSTART;TZID=Europe/Berlin:20250907T110000
DTEND;TZID=Europe/Berlin:20250907T140000
DTSTAMP:20260423T025425
CREATED:20220215T152121Z
LAST-MODIFIED:20260412T201331Z
UID:10001697-1757242800-1757253600@flamingocat.de
SUMMARY:Schmuck aus Polymer-Clay
DESCRIPTION:Mit unserem neuen Polymer-Clay-Workshop\, kannst du dir deinen neuen Lieblingsschmuck einfach selber kneten. Du bestimmst Form\, Farbe und Stil selbst und designst die passenden Accessoires für deinen Lieblingslook. Egal ob Statement-Ohrringe\, Ketten oder Ringe : you decide! Obendrauf servieren wir dir noch eine ordentliche Portion Blattgold.
URL:https://flamingocat.de/event/schmuck-aus-polymer-clay/2025-09-07/
CATEGORIES:Offene Kurse
ATTACH;FMTTYPE=image/jpeg:https://flamingocat.de/wp-content/uploads/2022/12/Schmuck-Workshop-Schmuck-aus-Ofen-Clay-Flamingocat-Leipzig-5.jpg
END:VEVENT
BEGIN:VEVENT
DTSTART;TZID=Europe/Berlin:20250914T110000
DTEND;TZID=Europe/Berlin:20250914T140000
DTSTAMP:20260423T025425
CREATED:20201001T172256Z
LAST-MODIFIED:20260412T094946Z
UID:10001692-1757847600-1757858400@flamingocat.de
SUMMARY:Offener Blumenampel Workshop
DESCRIPTION:Auf die Knoten – Fertig – Los! Für Makramee-Einsteiger ist dieser Kurs genau das Richtige.Wir zeigen dir in unserem 3-stündigen Kurs grundlegende Techniken und knüpfen anschließend gemeinsam für deine geliebten Topf-Pflanzen einen angesagten Pflanzenhänger im Vintage-Look. Also sicher dir schnell ein Plätzchen an unserer Knüpfstange!
URL:https://flamingocat.de/event/offener-blumenampel-workshop-9/2025-09-14/
CATEGORIES:Offene Kurse
ATTACH;FMTTYPE=image/jpeg:https://flamingocat.de/wp-content/uploads/2022/12/Blumenampel-Workshop-Leipzig-Makramee-Kurs-DIY-Pflanzenhaenger.jpg
END:VEVENT
BEGIN:VEVENT
DTSTART;TZID=Europe/Berlin:20250914T110000
DTEND;TZID=Europe/Berlin:20250914T140000
DTSTAMP:20260423T025425
CREATED:20240803T084052Z
LAST-MODIFIED:20260412T091701Z
UID:10001684-1757847600-1757858400@flamingocat.de
SUMMARY:Offener Workshop Dip Dye Candles
DESCRIPTION:Dip it like ist hot – ab jetzt widmen wir uns einem der heißesten neuen Interior-Trends und\ndippen gemeinsam Kerzen. Denn was in skandinavischen Concept-Stores bereits ein absoluter Design-Dauerbrenner ist\, hält jetzt auch Einzug in unsere Kreativwerkstatt. Wir zeigen dir in unserem Workshop\, wie du die stylischen Must-Haves ganz einfach selber gestaltest. Dafür mischen wir deine individuellen Lieblingsfarben\, experimentieren mit verschiedenen Techniken und vermitteln dir viele nützliche Tipps rund ums Tauchen\, Klecksen und Dekorieren deiner ganz persönlichen Kerzen-Kollektion. Wähle aus Stab- oder Stumpenkerzen deine individuelle Favoriten und designe die passenden Home-Accessoires für dein Zuhause oder zum Verschenken.\nCome on baby\, light my fire!
URL:https://flamingocat.de/event/offener-workshop-dip-dye-candles/2025-09-14/
LOCATION:FLAMINGOCAT\, Kurt Eisner Strasse 17\, Leipzig\, 04275
CATEGORIES:Offene Kurse
ATTACH;FMTTYPE=image/jpeg:https://flamingocat.de/wp-content/uploads/2026/02/DIY-Workshop-Kerzen-giessen-Leipzig.jpg
END:VEVENT
BEGIN:VEVENT
DTSTART;TZID=Europe/Berlin:20251120T180000
DTEND;TZID=Europe/Berlin:20251120T203000
DTSTAMP:20260423T025425
CREATED:20190821T152824Z
LAST-MODIFIED:20260413T080710Z
UID:10001592-1763661600-1763670600@flamingocat.de
SUMMARY:offener Adventskranz-Workshop
DESCRIPTION:You better watch out! In diesem Jahr begrüßen wir die Weihnachtszeit mit einem selbstgebundenen Adventskranz. Mit Eukalytus\, bunten Seidenbändern und allerlei schönen Materialien verpassen wir dem Kranz ein angesagtes skandinavisches Make-Over. Und damit ihr richtig in Weihnachtsstimmung kommt\, servieren wir euch nebenbei noch dampfenden Glühwein…
URL:https://flamingocat.de/event/offener-adventskranz-workshop-9/2025-11-20/1/
LOCATION:FLAMINGOCAT\, Kurt Eisner Strasse 17\, Leipzig\, 04275
CATEGORIES:Offene Kurse
ATTACH;FMTTYPE=image/jpeg:https://flamingocat.de/wp-content/uploads/2022/12/DIY-Adventskranz-im-Greenery-Style-Flamingocat-Leipzig-43.jpg
END:VEVENT
BEGIN:VEVENT
DTSTART;TZID=Europe/Berlin:20251120T183000
DTEND;TZID=Europe/Berlin:20251120T210000
DTSTAMP:20260423T025425
CREATED:20190821T152824Z
LAST-MODIFIED:20260413T080710Z
UID:10001593-1763663400-1763672400@flamingocat.de
SUMMARY:offener Adventskranz-Workshop
DESCRIPTION:You better watch out! In diesem Jahr begrüßen wir die Weihnachtszeit mit einem selbstgebundenen Adventskranz. Mit Eukalytus\, bunten Seidenbändern und allerlei schönen Materialien verpassen wir dem Kranz ein angesagtes skandinavisches Make-Over. Und damit ihr richtig in Weihnachtsstimmung kommt\, servieren wir euch nebenbei noch dampfenden Glühwein…
URL:https://flamingocat.de/event/offener-adventskranz-workshop-9/2025-11-20/2/
LOCATION:FLAMINGOCAT\, Kurt Eisner Strasse 17\, Leipzig\, 04275
CATEGORIES:Offene Kurse
ATTACH;FMTTYPE=image/jpeg:https://flamingocat.de/wp-content/uploads/2022/12/DIY-Adventskranz-im-Greenery-Style-Flamingocat-Leipzig-43.jpg
END:VEVENT
BEGIN:VEVENT
DTSTART;TZID=Europe/Berlin:20251121T140000
DTEND;TZID=Europe/Berlin:20251121T163000
DTSTAMP:20260423T025425
CREATED:20190821T152824Z
LAST-MODIFIED:20260413T080710Z
UID:10001594-1763733600-1763742600@flamingocat.de
SUMMARY:offener Adventskranz-Workshop
DESCRIPTION:You better watch out! In diesem Jahr begrüßen wir die Weihnachtszeit mit einem selbstgebundenen Adventskranz. Mit Eukalytus\, bunten Seidenbändern und allerlei schönen Materialien verpassen wir dem Kranz ein angesagtes skandinavisches Make-Over. Und damit ihr richtig in Weihnachtsstimmung kommt\, servieren wir euch nebenbei noch dampfenden Glühwein…
URL:https://flamingocat.de/event/offener-adventskranz-workshop-9/2025-11-21/1/
LOCATION:FLAMINGOCAT\, Kurt Eisner Strasse 17\, Leipzig\, 04275
CATEGORIES:Offene Kurse
ATTACH;FMTTYPE=image/jpeg:https://flamingocat.de/wp-content/uploads/2022/12/DIY-Adventskranz-im-Greenery-Style-Flamingocat-Leipzig-43.jpg
END:VEVENT
BEGIN:VEVENT
DTSTART;TZID=Europe/Berlin:20251121T143000
DTEND;TZID=Europe/Berlin:20251121T170000
DTSTAMP:20260423T025425
CREATED:20190821T152824Z
LAST-MODIFIED:20260413T080710Z
UID:10001595-1763735400-1763744400@flamingocat.de
SUMMARY:offener Adventskranz-Workshop
DESCRIPTION:You better watch out! In diesem Jahr begrüßen wir die Weihnachtszeit mit einem selbstgebundenen Adventskranz. Mit Eukalytus\, bunten Seidenbändern und allerlei schönen Materialien verpassen wir dem Kranz ein angesagtes skandinavisches Make-Over. Und damit ihr richtig in Weihnachtsstimmung kommt\, servieren wir euch nebenbei noch dampfenden Glühwein…
URL:https://flamingocat.de/event/offener-adventskranz-workshop-9/2025-11-21/2/
LOCATION:FLAMINGOCAT\, Kurt Eisner Strasse 17\, Leipzig\, 04275
CATEGORIES:Offene Kurse
ATTACH;FMTTYPE=image/jpeg:https://flamingocat.de/wp-content/uploads/2022/12/DIY-Adventskranz-im-Greenery-Style-Flamingocat-Leipzig-43.jpg
END:VEVENT
BEGIN:VEVENT
DTSTART;TZID=Europe/Berlin:20251121T150000
DTEND;TZID=Europe/Berlin:20251121T173000
DTSTAMP:20260423T025425
CREATED:20190821T152824Z
LAST-MODIFIED:20260413T080710Z
UID:10001596-1763737200-1763746200@flamingocat.de
SUMMARY:offener Adventskranz-Workshop
DESCRIPTION:You better watch out! In diesem Jahr begrüßen wir die Weihnachtszeit mit einem selbstgebundenen Adventskranz. Mit Eukalytus\, bunten Seidenbändern und allerlei schönen Materialien verpassen wir dem Kranz ein angesagtes skandinavisches Make-Over. Und damit ihr richtig in Weihnachtsstimmung kommt\, servieren wir euch nebenbei noch dampfenden Glühwein…
URL:https://flamingocat.de/event/offener-adventskranz-workshop-9/2025-11-21/3/
LOCATION:FLAMINGOCAT\, Kurt Eisner Strasse 17\, Leipzig\, 04275
CATEGORIES:Offene Kurse
ATTACH;FMTTYPE=image/jpeg:https://flamingocat.de/wp-content/uploads/2022/12/DIY-Adventskranz-im-Greenery-Style-Flamingocat-Leipzig-43.jpg
END:VEVENT
BEGIN:VEVENT
DTSTART;TZID=Europe/Berlin:20251121T180000
DTEND;TZID=Europe/Berlin:20251121T203000
DTSTAMP:20260423T025425
CREATED:20190821T152824Z
LAST-MODIFIED:20260413T080710Z
UID:10001597-1763748000-1763757000@flamingocat.de
SUMMARY:offener Adventskranz-Workshop
DESCRIPTION:You better watch out! In diesem Jahr begrüßen wir die Weihnachtszeit mit einem selbstgebundenen Adventskranz. Mit Eukalytus\, bunten Seidenbändern und allerlei schönen Materialien verpassen wir dem Kranz ein angesagtes skandinavisches Make-Over. Und damit ihr richtig in Weihnachtsstimmung kommt\, servieren wir euch nebenbei noch dampfenden Glühwein…
URL:https://flamingocat.de/event/offener-adventskranz-workshop-9/2025-11-21/4/
LOCATION:FLAMINGOCAT\, Kurt Eisner Strasse 17\, Leipzig\, 04275
CATEGORIES:Offene Kurse
ATTACH;FMTTYPE=image/jpeg:https://flamingocat.de/wp-content/uploads/2022/12/DIY-Adventskranz-im-Greenery-Style-Flamingocat-Leipzig-43.jpg
END:VEVENT
BEGIN:VEVENT
DTSTART;TZID=Europe/Berlin:20251121T183000
DTEND;TZID=Europe/Berlin:20251121T210000
DTSTAMP:20260423T025425
CREATED:20190821T152824Z
LAST-MODIFIED:20260413T080710Z
UID:10001598-1763749800-1763758800@flamingocat.de
SUMMARY:offener Adventskranz-Workshop
DESCRIPTION:You better watch out! In diesem Jahr begrüßen wir die Weihnachtszeit mit einem selbstgebundenen Adventskranz. Mit Eukalytus\, bunten Seidenbändern und allerlei schönen Materialien verpassen wir dem Kranz ein angesagtes skandinavisches Make-Over. Und damit ihr richtig in Weihnachtsstimmung kommt\, servieren wir euch nebenbei noch dampfenden Glühwein…
URL:https://flamingocat.de/event/offener-adventskranz-workshop-9/2025-11-21/5/
LOCATION:FLAMINGOCAT\, Kurt Eisner Strasse 17\, Leipzig\, 04275
CATEGORIES:Offene Kurse
ATTACH;FMTTYPE=image/jpeg:https://flamingocat.de/wp-content/uploads/2022/12/DIY-Adventskranz-im-Greenery-Style-Flamingocat-Leipzig-43.jpg
END:VEVENT
BEGIN:VEVENT
DTSTART;TZID=Europe/Berlin:20251122T100000
DTEND;TZID=Europe/Berlin:20251122T123000
DTSTAMP:20260423T025425
CREATED:20190821T152824Z
LAST-MODIFIED:20260413T080710Z
UID:10001599-1763805600-1763814600@flamingocat.de
SUMMARY:offener Adventskranz-Workshop
DESCRIPTION:You better watch out! In diesem Jahr begrüßen wir die Weihnachtszeit mit einem selbstgebundenen Adventskranz. Mit Eukalytus\, bunten Seidenbändern und allerlei schönen Materialien verpassen wir dem Kranz ein angesagtes skandinavisches Make-Over. Und damit ihr richtig in Weihnachtsstimmung kommt\, servieren wir euch nebenbei noch dampfenden Glühwein…
URL:https://flamingocat.de/event/offener-adventskranz-workshop-9/2025-11-22/1/
LOCATION:FLAMINGOCAT\, Kurt Eisner Strasse 17\, Leipzig\, 04275
CATEGORIES:Offene Kurse
ATTACH;FMTTYPE=image/jpeg:https://flamingocat.de/wp-content/uploads/2022/12/DIY-Adventskranz-im-Greenery-Style-Flamingocat-Leipzig-43.jpg
END:VEVENT
BEGIN:VEVENT
DTSTART;TZID=Europe/Berlin:20251122T103000
DTEND;TZID=Europe/Berlin:20251122T130000
DTSTAMP:20260423T025425
CREATED:20190821T152824Z
LAST-MODIFIED:20260413T080710Z
UID:10001600-1763807400-1763816400@flamingocat.de
SUMMARY:offener Adventskranz-Workshop
DESCRIPTION:You better watch out! In diesem Jahr begrüßen wir die Weihnachtszeit mit einem selbstgebundenen Adventskranz. Mit Eukalytus\, bunten Seidenbändern und allerlei schönen Materialien verpassen wir dem Kranz ein angesagtes skandinavisches Make-Over. Und damit ihr richtig in Weihnachtsstimmung kommt\, servieren wir euch nebenbei noch dampfenden Glühwein…
URL:https://flamingocat.de/event/offener-adventskranz-workshop-9/2025-11-22/2/
LOCATION:FLAMINGOCAT\, Kurt Eisner Strasse 17\, Leipzig\, 04275
CATEGORIES:Offene Kurse
ATTACH;FMTTYPE=image/jpeg:https://flamingocat.de/wp-content/uploads/2022/12/DIY-Adventskranz-im-Greenery-Style-Flamingocat-Leipzig-43.jpg
END:VEVENT
BEGIN:VEVENT
DTSTART;TZID=Europe/Berlin:20251122T110000
DTEND;TZID=Europe/Berlin:20251122T133000
DTSTAMP:20260423T025425
CREATED:20190821T152824Z
LAST-MODIFIED:20260413T080710Z
UID:10001601-1763809200-1763818200@flamingocat.de
SUMMARY:offener Adventskranz-Workshop
DESCRIPTION:You better watch out! In diesem Jahr begrüßen wir die Weihnachtszeit mit einem selbstgebundenen Adventskranz. Mit Eukalytus\, bunten Seidenbändern und allerlei schönen Materialien verpassen wir dem Kranz ein angesagtes skandinavisches Make-Over. Und damit ihr richtig in Weihnachtsstimmung kommt\, servieren wir euch nebenbei noch dampfenden Glühwein…
URL:https://flamingocat.de/event/offener-adventskranz-workshop-9/2025-11-22/3/
LOCATION:FLAMINGOCAT\, Kurt Eisner Strasse 17\, Leipzig\, 04275
CATEGORIES:Offene Kurse
ATTACH;FMTTYPE=image/jpeg:https://flamingocat.de/wp-content/uploads/2022/12/DIY-Adventskranz-im-Greenery-Style-Flamingocat-Leipzig-43.jpg
END:VEVENT
BEGIN:VEVENT
DTSTART;TZID=Europe/Berlin:20251122T140000
DTEND;TZID=Europe/Berlin:20251122T163000
DTSTAMP:20260423T025425
CREATED:20190821T152824Z
LAST-MODIFIED:20260413T080710Z
UID:10001602-1763820000-1763829000@flamingocat.de
SUMMARY:offener Adventskranz-Workshop
DESCRIPTION:You better watch out! In diesem Jahr begrüßen wir die Weihnachtszeit mit einem selbstgebundenen Adventskranz. Mit Eukalytus\, bunten Seidenbändern und allerlei schönen Materialien verpassen wir dem Kranz ein angesagtes skandinavisches Make-Over. Und damit ihr richtig in Weihnachtsstimmung kommt\, servieren wir euch nebenbei noch dampfenden Glühwein…
URL:https://flamingocat.de/event/offener-adventskranz-workshop-9/2025-11-22/4/
LOCATION:FLAMINGOCAT\, Kurt Eisner Strasse 17\, Leipzig\, 04275
CATEGORIES:Offene Kurse
ATTACH;FMTTYPE=image/jpeg:https://flamingocat.de/wp-content/uploads/2022/12/DIY-Adventskranz-im-Greenery-Style-Flamingocat-Leipzig-43.jpg
END:VEVENT
BEGIN:VEVENT
DTSTART;TZID=Europe/Berlin:20251122T143000
DTEND;TZID=Europe/Berlin:20251122T170000
DTSTAMP:20260423T025425
CREATED:20190821T152824Z
LAST-MODIFIED:20260413T080710Z
UID:10001603-1763821800-1763830800@flamingocat.de
SUMMARY:offener Adventskranz-Workshop
DESCRIPTION:You better watch out! In diesem Jahr begrüßen wir die Weihnachtszeit mit einem selbstgebundenen Adventskranz. Mit Eukalytus\, bunten Seidenbändern und allerlei schönen Materialien verpassen wir dem Kranz ein angesagtes skandinavisches Make-Over. Und damit ihr richtig in Weihnachtsstimmung kommt\, servieren wir euch nebenbei noch dampfenden Glühwein…
URL:https://flamingocat.de/event/offener-adventskranz-workshop-9/2025-11-22/5/
LOCATION:FLAMINGOCAT\, Kurt Eisner Strasse 17\, Leipzig\, 04275
CATEGORIES:Offene Kurse
ATTACH;FMTTYPE=image/jpeg:https://flamingocat.de/wp-content/uploads/2022/12/DIY-Adventskranz-im-Greenery-Style-Flamingocat-Leipzig-43.jpg
END:VEVENT
END:VCALENDAR