BEGIN:VCALENDAR
VERSION:2.0
PRODID:-//Flamingocat - ECPv6.15.20//NONSGML v1.0//EN
CALSCALE:GREGORIAN
METHOD:PUBLISH
X-WR-CALNAME:Flamingocat
X-ORIGINAL-URL:https://flamingocat.de
X-WR-CALDESC:Veranstaltungen für Flamingocat
REFRESH-INTERVAL;VALUE=DURATION:PT1H
X-Robots-Tag:noindex
X-PUBLISHED-TTL:PT1H
BEGIN:VTIMEZONE
TZID:Europe/Berlin
BEGIN:DAYLIGHT
TZOFFSETFROM:+0100
TZOFFSETTO:+0200
TZNAME:CEST
DTSTART:20240331T010000
END:DAYLIGHT
BEGIN:STANDARD
TZOFFSETFROM:+0200
TZOFFSETTO:+0100
TZNAME:CET
DTSTART:20241027T010000
END:STANDARD
BEGIN:DAYLIGHT
TZOFFSETFROM:+0100
TZOFFSETTO:+0200
TZNAME:CEST
DTSTART:20250330T010000
END:DAYLIGHT
BEGIN:STANDARD
TZOFFSETFROM:+0200
TZOFFSETTO:+0100
TZNAME:CET
DTSTART:20251026T010000
END:STANDARD
BEGIN:DAYLIGHT
TZOFFSETFROM:+0100
TZOFFSETTO:+0200
TZNAME:CEST
DTSTART:20260329T010000
END:DAYLIGHT
BEGIN:STANDARD
TZOFFSETFROM:+0200
TZOFFSETTO:+0100
TZNAME:CET
DTSTART:20261025T010000
END:STANDARD
END:VTIMEZONE
BEGIN:VEVENT
DTSTART;TZID=Europe/Berlin:20250525T110000
DTEND;TZID=Europe/Berlin:20250525T140000
DTSTAMP:20260422T195454
CREATED:20230118T101731Z
LAST-MODIFIED:20260412T204856Z
UID:10001651-1748170800-1748181600@flamingocat.de
SUMMARY:Offener Terrazzo Deko Workshop
DESCRIPTION:Schon die alten Römer liebten Bodenbelege mit farbigen Sprenkeln.\nNun feiert das antike Design ein echtes Revival. Die römische Terrazzo-Optik\nist der Design-Trend des Jahres. Egal ob Schalen\, Blumentöpfe oder Kerzenständer –\nwir streuseln uns die Welt\, wie sie uns gefällt. In unserem 3-stündigen Workshop gestaltest du aus einem umweltfreundlichen\, gips-ähnlichen Verbundwerkstoff deine individuellen Home-Accessoires.
URL:https://flamingocat.de/event/offener-terrazzo-deko-workshop/2025-05-25/
CATEGORIES:Offene Kurse
ATTACH;FMTTYPE=image/jpeg:https://flamingocat.de/wp-content/uploads/2023/01/Terrazzo-Schalen-Workshop-Flamingocat-Leipzig-8-1.jpg
END:VEVENT
BEGIN:VEVENT
DTSTART;TZID=Europe/Berlin:20250518T110000
DTEND;TZID=Europe/Berlin:20250518T140000
DTSTAMP:20260422T195454
CREATED:20210117T114808Z
LAST-MODIFIED:20260412T202612Z
UID:10001648-1747566000-1747576800@flamingocat.de
SUMMARY:Offener Trockenblumenkranz Workshop
DESCRIPTION:You better watch out! In diesem Jahr begrüßen wir die neue Jahreszeit mit einem selbstgebundenen Blumenkranz. Mit getrockneten Zweigen\, Blüten\, Federn und und allerlei schönen Materialien verpassen wir deinem Türkranz ein skandinavisches Make-Over.
URL:https://flamingocat.de/event/online-workshop-osterkranz/2025-05-18/
CATEGORIES:Offene Kurse
ATTACH;FMTTYPE=image/jpeg:https://flamingocat.de/wp-content/uploads/2023/01/DIY-Trockenblumenkranz-Fruehling-2.jpg
END:VEVENT
BEGIN:VEVENT
DTSTART;TZID=Europe/Berlin:20250511T110000
DTEND;TZID=Europe/Berlin:20250511T140000
DTSTAMP:20260422T195454
CREATED:20240803T084052Z
LAST-MODIFIED:20260412T091701Z
UID:10001649-1746961200-1746972000@flamingocat.de
SUMMARY:Offener Workshop Dip Dye Candles
DESCRIPTION:Dip it like ist hot – ab jetzt widmen wir uns einem der heißesten neuen Interior-Trends und\ndippen gemeinsam Kerzen. Denn was in skandinavischen Concept-Stores bereits ein absoluter Design-Dauerbrenner ist\, hält jetzt auch Einzug in unsere Kreativwerkstatt. Wir zeigen dir in unserem Workshop\, wie du die stylischen Must-Haves ganz einfach selber gestaltest. Dafür mischen wir deine individuellen Lieblingsfarben\, experimentieren mit verschiedenen Techniken und vermitteln dir viele nützliche Tipps rund ums Tauchen\, Klecksen und Dekorieren deiner ganz persönlichen Kerzen-Kollektion. Wähle aus Stab- oder Stumpenkerzen deine individuelle Favoriten und designe die passenden Home-Accessoires für dein Zuhause oder zum Verschenken.\nCome on baby\, light my fire!
URL:https://flamingocat.de/event/offener-workshop-dip-dye-candles/2025-05-11/
LOCATION:FLAMINGOCAT\, Kurt Eisner Strasse 17\, Leipzig\, 04275
CATEGORIES:Offene Kurse
ATTACH;FMTTYPE=image/jpeg:https://flamingocat.de/wp-content/uploads/2026/02/DIY-Workshop-Kerzen-giessen-Leipzig.jpg
END:VEVENT
BEGIN:VEVENT
DTSTART;TZID=Europe/Berlin:20250504T110000
DTEND;TZID=Europe/Berlin:20250504T140000
DTSTAMP:20260422T195454
CREATED:20250224T182810Z
LAST-MODIFIED:20250224T183412Z
UID:10001721-1746356400-1746367200@flamingocat.de
SUMMARY:Handlettering Workshop
DESCRIPTION:Let´s letter together! In diesem Workshop dreht sich alles um die Kunst des Schönschreibens. In unserem inspirierenden 3-stündigen-Workshop\nlernst du die Grundlagen des Handletterings kennen. Wir widmen uns essentiellen Materialien und Tools und vertiefen mit kreativen Übungen deine\nFähigkeiten.
URL:https://flamingocat.de/event/handlettering-workshop-2/2025-05-04/
CATEGORIES:Offene Kurse
ATTACH;FMTTYPE=image/jpeg:https://flamingocat.de/wp-content/uploads/2024/12/Anleitung-Handlettering-Workshop-Leipzig-Kurs-scaled.jpg
END:VEVENT
BEGIN:VEVENT
DTSTART;TZID=Europe/Berlin:20250504T110000
DTEND;TZID=Europe/Berlin:20250504T140000
DTSTAMP:20260422T195454
CREATED:20220215T152121Z
LAST-MODIFIED:20260412T201331Z
UID:10001695-1746356400-1746367200@flamingocat.de
SUMMARY:Schmuck aus Polymer-Clay
DESCRIPTION:Mit unserem neuen Polymer-Clay-Workshop\, kannst du dir deinen neuen Lieblingsschmuck einfach selber kneten. Du bestimmst Form\, Farbe und Stil selbst und designst die passenden Accessoires für deinen Lieblingslook. Egal ob Statement-Ohrringe\, Ketten oder Ringe : you decide! Obendrauf servieren wir dir noch eine ordentliche Portion Blattgold.
URL:https://flamingocat.de/event/schmuck-aus-polymer-clay/2025-05-04/
CATEGORIES:Offene Kurse
ATTACH;FMTTYPE=image/jpeg:https://flamingocat.de/wp-content/uploads/2022/12/Schmuck-Workshop-Schmuck-aus-Ofen-Clay-Flamingocat-Leipzig-5.jpg
END:VEVENT
BEGIN:VEVENT
DTSTART;TZID=Europe/Berlin:20250504T110000
DTEND;TZID=Europe/Berlin:20250504T140000
DTSTAMP:20260422T195454
CREATED:20201020T134019Z
LAST-MODIFIED:20250122T132700Z
UID:10001668-1746356400-1746367200@flamingocat.de
SUMMARY:HANDLETTERING WORKSHOP
DESCRIPTION:Make it better\, letter together! In unserem brandneuen 4-stündigen Intensiv-Workshop stellen wir das Alphabet auf den Kopf. Gemeinsam mit Yara vom Design-Label „Piece of Pie“ bringen wir den No. 1 Pintrerest-Trend in unser Atelier. Mit Brushpens\, Übungsblättern und einer großen Portion Schnickschnack und Schnörkel zeigen wir dir wie du zukünftig Briefe\, Einladungskarten und Co. zu ganz individuellen Design-Highlights machst.
URL:https://flamingocat.de/event/handlettering-workshop/2025-05-04/
LOCATION:DIY DEPARTEMENT\, Karl Liebknecht Strasse 13\, 04107
CATEGORIES:Offene Kurse
ATTACH;FMTTYPE=:
END:VEVENT
BEGIN:VEVENT
DTSTART;TZID=Europe/Berlin:20250427T110000
DTEND;TZID=Europe/Berlin:20250427T140000
DTSTAMP:20260422T195454
CREATED:20260412T095612Z
LAST-MODIFIED:20260412T095827Z
UID:10001744-1745751600-1745762400@flamingocat.de
SUMMARY:Moosbild gestalten - Offener Workshop
DESCRIPTION:Wir holen uns die Natur ins Wohnzimmer. Sag Tschüss zu Poster Einheitsbrei und nackten Wänden\, denn in diesem Workshop zaubern wir deinen ganz persönlichen #urbanjungle. Wir zeigen dir\, wie du verschiedene Hölzer\, Rinde oder Steine zu einem echten Kunstwerk anordnest. Egal ob Bastel-Beginner oder ein Crafting-Profi bist\, dieser Workshop ist für alle geeignet!
URL:https://flamingocat.de/event/moosbild-gestalten-offener-workshop/2025-04-27/
CATEGORIES:Offene Kurse
ATTACH;FMTTYPE=image/jpeg:https://flamingocat.de/wp-content/uploads/2024/12/Kreative-Teamevents-Idee-Leipzig-.jpg
END:VEVENT
BEGIN:VEVENT
DTSTART;TZID=Europe/Berlin:20250427T110000
DTEND;TZID=Europe/Berlin:20250427T140000
DTSTAMP:20260422T195454
CREATED:20230616T201428Z
LAST-MODIFIED:20260412T081737Z
UID:10001675-1745751600-1745762400@flamingocat.de
SUMMARY:Offener Aquarell Workshop
DESCRIPTION:Ready for some summer vibes? In unserem neusten Workshop wird es jetzt blumig! Gemeinsam schwingen wir die Pinsel und zeigen euch in unserem Aquarell Workshop die wichtigsten Techniken und besten Tricks rund um die beliebten Wasserfarben. Ihr zeichnet Blumen\, Pflanzen und bunte Blüten und nehmt am Ende unseres 3-stündigen Kurses eure eigenen Aquarell-Blumensträuße und Kränze mit nachhause.
URL:https://flamingocat.de/event/offener-aquarell-workshop-13/2025-04-27/
CATEGORIES:Offene Kurse
ATTACH;FMTTYPE=image/jpeg:https://flamingocat.de/wp-content/uploads/2023/08/aquarell-watercoloring-watercolor-workshop-leipzig-wasserfarben-malen-lernen-7-scaled.jpg
END:VEVENT
BEGIN:VEVENT
DTSTART;TZID=Europe/Berlin:20250427T110000
DTEND;TZID=Europe/Berlin:20250427T140000
DTSTAMP:20260422T195454
CREATED:20230128T115718Z
LAST-MODIFIED:20260412T192005Z
UID:10001652-1745751600-1745762400@flamingocat.de
SUMMARY:Offener Naturkosmetik Workshop
DESCRIPTION:Mit diesem Workshop kannst du ab sofort deine Haut zum Strahlen bringen. Gemeinsam kreiren wir glitzernde Badeperlen\, betörende Düfte oder natürliche Peelings\, die man sogar Naschen kann. Yummy! Digitalwaage\, Pipette und Spatel liegen schon bereit. Ab jetzt darf fleissig gerührt werden.Wir erklären dir die Grundlagen und servieren obendrauf praktische Tipps mit denen du auch im Anschluss an unseren Workshops weiterarbeiten kannst.
URL:https://flamingocat.de/event/test-naturkosmetik-workshop/2025-04-27/
CATEGORIES:Offene Kurse
ATTACH;FMTTYPE=image/jpeg:https://flamingocat.de/wp-content/uploads/2022/12/Badewannenkugeln-Badebomben-DIY-Naturkosmetik-Workshop-natuerliche-Beautyprodukte-Zutaten-handmade-FLAMINGOCAT.jpg
END:VEVENT
BEGIN:VEVENT
DTSTART;TZID=Europe/Berlin:20250420T110000
DTEND;TZID=Europe/Berlin:20250420T140000
DTSTAMP:20260422T195454
CREATED:20230118T101731Z
LAST-MODIFIED:20260412T204856Z
UID:10001650-1745146800-1745157600@flamingocat.de
SUMMARY:Offener Terrazzo Deko Workshop
DESCRIPTION:Schon die alten Römer liebten Bodenbelege mit farbigen Sprenkeln.\nNun feiert das antike Design ein echtes Revival. Die römische Terrazzo-Optik\nist der Design-Trend des Jahres. Egal ob Schalen\, Blumentöpfe oder Kerzenständer –\nwir streuseln uns die Welt\, wie sie uns gefällt. In unserem 3-stündigen Workshop gestaltest du aus einem umweltfreundlichen\, gips-ähnlichen Verbundwerkstoff deine individuellen Home-Accessoires.
URL:https://flamingocat.de/event/offener-terrazzo-deko-workshop/2025-04-20/
CATEGORIES:Offene Kurse
ATTACH;FMTTYPE=image/jpeg:https://flamingocat.de/wp-content/uploads/2023/01/Terrazzo-Schalen-Workshop-Flamingocat-Leipzig-8-1.jpg
END:VEVENT
BEGIN:VEVENT
DTSTART;TZID=Europe/Berlin:20250413T110000
DTEND;TZID=Europe/Berlin:20250413T140000
DTSTAMP:20260422T195454
CREATED:20250117T213334Z
LAST-MODIFIED:20250117T213334Z
UID:10001658-1744542000-1744552800@flamingocat.de
SUMMARY:Offener Workshop - Haargummi häkeln
DESCRIPTION:Wir lassen deine Häkelnadeln glühen! In unserem Workshop entdecken wir Omas Lieblingsbeschäftigung nämlich komplett neu! Topflappen und Klopapier-Häubchen – Ade! Wir nutzen die schicken Schlaufen für stylische Accessoires und häkeln stylische Scrunchies. Damit´s bei dir auch wie am Schnürchen läuft\,starten wir unseren Kurs mit einem Einstieg in die wichtigsten Grundtechniken. Keine Sorge\, die Basics hast du schnell gelernt und kannst mit unsere Hilfe auch direkt in dein erstes eigenes Häkelprojekt starten. Nadeln\, Scheren und Wolle in verschieden Farben halten wir selbstverständlich für dich bereit. Alles was du brauchst sind bunte Ideen für dein erstes Häkel-DIY!
URL:https://flamingocat.de/event/offener-workshop-haargummi-haekeln/2025-04-13/
CATEGORIES:Offene Kurse
ATTACH;FMTTYPE=image/jpeg:https://flamingocat.de/wp-content/uploads/2025/01/Haargummi-haekeln-lernen-Leipzig-Workshop.jpg
END:VEVENT
BEGIN:VEVENT
DTSTART;TZID=Europe/Berlin:20250413T110000
DTEND;TZID=Europe/Berlin:20250413T140000
DTSTAMP:20260422T195454
CREATED:20240207T101617Z
LAST-MODIFIED:20260413T065910Z
UID:10001640-1744542000-1744552800@flamingocat.de
SUMMARY:Textured Art
DESCRIPTION:Mit diesem Workshop bringen wir Struktur in deinen Alltag und hauchen der schnöden Spachtelmasse frischen Wind ein. Wenn du keine Scheu hast dir die Hände schmutzig zu machen und grafische Designs liebst\, bist du hier genau richtig!
URL:https://flamingocat.de/event/textured-art/2025-04-13/
CATEGORIES:Offene Kurse
ATTACH;FMTTYPE=image/jpeg:https://flamingocat.de/wp-content/uploads/2026/02/Spachtelmasse-Workshop-Leipzig-Textured-Art.jpg
ORGANIZER;CN="FLAMINGOCAT":MAILTO:info@flamingocat.de
END:VEVENT
BEGIN:VEVENT
DTSTART;TZID=Europe/Berlin:20250413T110000
DTEND;TZID=Europe/Berlin:20250413T140000
DTSTAMP:20260422T195454
CREATED:20230501T092756Z
LAST-MODIFIED:20260412T193638Z
UID:10001587-1744542000-1744552800@flamingocat.de
SUMMARY:Punch Needeling
DESCRIPTION:
URL:https://flamingocat.de/event/punch-needeling-2023/2025-04-13/
CATEGORIES:Offene Kurse
ATTACH;FMTTYPE=image/jpeg:https://flamingocat.de/wp-content/uploads/2023/04/Punch-Needling-9-scaled.jpg
END:VEVENT
BEGIN:VEVENT
DTSTART;TZID=Europe/Berlin:20250406T110000
DTEND;TZID=Europe/Berlin:20250406T140000
DTSTAMP:20260422T195454
CREATED:20200928T165821Z
LAST-MODIFIED:20241220T111518Z
UID:10001641-1743937200-1743948000@flamingocat.de
SUMMARY:Offener Osterkranz Workshop
DESCRIPTION:Can you feel the autumn-vibes? Wir geniessen die leuchten-bunten Farben des Herbsts und binden angesagte Kränze für dein Zuhause. Zweige\, Blätter und flauschige Gräser sind unsere absoluten all-time-favourites und verpassen auch deinen 4-Wänden eine skandinavische Wohlfühl-Athmosphäre.
URL:https://flamingocat.de/event/offener-herbstkranz-workshop-5/2025-04-06/
LOCATION:DIY DEPARTEMENT\, Karl Liebknecht Strasse 13\, 04107
CATEGORIES:Offene Kurse
ATTACH;FMTTYPE=:
END:VEVENT
BEGIN:VEVENT
DTSTART;TZID=Europe/Berlin:20250406T110000
DTEND;TZID=Europe/Berlin:20250406T140000
DTSTAMP:20260422T195454
CREATED:20200813T131847Z
LAST-MODIFIED:20260412T084014Z
UID:10001634-1743937200-1743948000@flamingocat.de
SUMMARY:Botanical Printing
DESCRIPTION:You better believe the hype! Dank Pinterest und Co. sind grafische Prints und botanische Drucke ein absolutes Must-Have für deine 4 Wände. Egal ob große Monstera-Blätter oder geometrische Figuren – in unserem Linoldruck-Workshop bringen wir ordentlich Farbe aufs Papier.Gemeinsam erarbeiten wir dein neues Lieblingsmotiv.
URL:https://flamingocat.de/event/botanical-printing-6/2025-04-06/
LOCATION:DIY DEPARTEMENT\, Karl Liebknecht Strasse 13\, 04107
CATEGORIES:Offene Kurse
ATTACH;FMTTYPE=image/jpeg:https://flamingocat.de/wp-content/uploads/2024/01/DSC3393.jpg
END:VEVENT
BEGIN:VEVENT
DTSTART;TZID=Europe/Berlin:20250403T100000
DTEND;TZID=Europe/Berlin:20250404T150000
DTSTAMP:20260422T195454
CREATED:20231217T115908Z
LAST-MODIFIED:20260413T094939Z
UID:10001724-1743674400-1743778800@flamingocat.de
SUMMARY:Tufting Workshop
DESCRIPTION:
URL:https://flamingocat.de/event/tufting-workshop/2025-04-03/
CATEGORIES:Offene Kurse
END:VEVENT
BEGIN:VEVENT
DTSTART;TZID=Europe/Berlin:20250330T110000
DTEND;TZID=Europe/Berlin:20250330T140000
DTSTAMP:20260422T195454
CREATED:20220215T152121Z
LAST-MODIFIED:20260412T201331Z
UID:10001694-1743332400-1743343200@flamingocat.de
SUMMARY:Schmuck aus Polymer-Clay
DESCRIPTION:Mit unserem neuen Polymer-Clay-Workshop\, kannst du dir deinen neuen Lieblingsschmuck einfach selber kneten. Du bestimmst Form\, Farbe und Stil selbst und designst die passenden Accessoires für deinen Lieblingslook. Egal ob Statement-Ohrringe\, Ketten oder Ringe : you decide! Obendrauf servieren wir dir noch eine ordentliche Portion Blattgold.
URL:https://flamingocat.de/event/schmuck-aus-polymer-clay/2025-03-30/
CATEGORIES:Offene Kurse
ATTACH;FMTTYPE=image/jpeg:https://flamingocat.de/wp-content/uploads/2022/12/Schmuck-Workshop-Schmuck-aus-Ofen-Clay-Flamingocat-Leipzig-5.jpg
END:VEVENT
BEGIN:VEVENT
DTSTART;TZID=Europe/Berlin:20250330T110000
DTEND;TZID=Europe/Berlin:20250330T140000
DTSTAMP:20260422T195454
CREATED:20201001T172256Z
LAST-MODIFIED:20260412T094946Z
UID:10001654-1743332400-1743343200@flamingocat.de
SUMMARY:Offener Blumenampel Workshop
DESCRIPTION:Auf die Knoten – Fertig – Los! Für Makramee-Einsteiger ist dieser Kurs genau das Richtige.Wir zeigen dir in unserem 3-stündigen Kurs grundlegende Techniken und knüpfen anschließend gemeinsam für deine geliebten Topf-Pflanzen einen angesagten Pflanzenhänger im Vintage-Look. Also sicher dir schnell ein Plätzchen an unserer Knüpfstange!
URL:https://flamingocat.de/event/offener-blumenampel-workshop-9/2025-03-30/
CATEGORIES:Offene Kurse
ATTACH;FMTTYPE=image/jpeg:https://flamingocat.de/wp-content/uploads/2022/12/Blumenampel-Workshop-Leipzig-Makramee-Kurs-DIY-Pflanzenhaenger.jpg
END:VEVENT
BEGIN:VEVENT
DTSTART;TZID=Europe/Berlin:20250323T110000
DTEND;TZID=Europe/Berlin:20250323T140000
DTSTAMP:20260422T195454
CREATED:20240207T101617Z
LAST-MODIFIED:20260413T065910Z
UID:10001679-1742727600-1742738400@flamingocat.de
SUMMARY:Textured Art
DESCRIPTION:Mit diesem Workshop bringen wir Struktur in deinen Alltag und hauchen der schnöden Spachtelmasse frischen Wind ein. Wenn du keine Scheu hast dir die Hände schmutzig zu machen und grafische Designs liebst\, bist du hier genau richtig!
URL:https://flamingocat.de/event/textured-art/2025-03-23/
CATEGORIES:Offene Kurse
ATTACH;FMTTYPE=image/jpeg:https://flamingocat.de/wp-content/uploads/2026/02/Spachtelmasse-Workshop-Leipzig-Textured-Art.jpg
ORGANIZER;CN="FLAMINGOCAT":MAILTO:info@flamingocat.de
END:VEVENT
BEGIN:VEVENT
DTSTART;TZID=Europe/Berlin:20250323T110000
DTEND;TZID=Europe/Berlin:20250323T140000
DTSTAMP:20260422T195454
CREATED:20210117T114808Z
LAST-MODIFIED:20260412T202612Z
UID:10001647-1742727600-1742738400@flamingocat.de
SUMMARY:Offener Trockenblumenkranz Workshop
DESCRIPTION:You better watch out! In diesem Jahr begrüßen wir die neue Jahreszeit mit einem selbstgebundenen Blumenkranz. Mit getrockneten Zweigen\, Blüten\, Federn und und allerlei schönen Materialien verpassen wir deinem Türkranz ein skandinavisches Make-Over.
URL:https://flamingocat.de/event/online-workshop-osterkranz/2025-03-23/
CATEGORIES:Offene Kurse
ATTACH;FMTTYPE=image/jpeg:https://flamingocat.de/wp-content/uploads/2023/01/DIY-Trockenblumenkranz-Fruehling-2.jpg
END:VEVENT
BEGIN:VEVENT
DTSTART;TZID=Europe/Berlin:20250316T110000
DTEND;TZID=Europe/Berlin:20250316T140000
DTSTAMP:20260422T195454
CREATED:20220215T151233Z
LAST-MODIFIED:20260413T065423Z
UID:10001589-1742122800-1742133600@flamingocat.de
SUMMARY:Sticken für Einsteiger:innen
DESCRIPTION:In unserem neusten Workshop lassen wir die Nadeln glühen. It´s time for botanical embroidery! Mit leuchtenden Garnen und hübschen Stoffen designen wir ein textiles Must-Have für dein zuhause und sticken Blüten\, Blätter und Botanisches auf deinen Stickrahmen. Alle benötigten Materialien sowie ein Gläschen Sekt\, sind wie immer bereits im Preis enthalten
URL:https://flamingocat.de/event/sticken-fuer-einsteigerinnen-praesenz-veranstaltung/2025-03-16/
CATEGORIES:Offene Kurse
ATTACH;FMTTYPE=image/jpeg:https://flamingocat.de/wp-content/uploads/2023/01/Sticken-lernen-in-Leipzig-Flamingocat-5.jpg
END:VEVENT
BEGIN:VEVENT
DTSTART;TZID=Europe/Berlin:20250309T110000
DTEND;TZID=Europe/Berlin:20250309T140000
DTSTAMP:20260422T195454
CREATED:20240803T084052Z
LAST-MODIFIED:20260412T091701Z
UID:10001639-1741518000-1741528800@flamingocat.de
SUMMARY:Offener Workshop Dip Dye Candles
DESCRIPTION:Dip it like ist hot – ab jetzt widmen wir uns einem der heißesten neuen Interior-Trends und\ndippen gemeinsam Kerzen. Denn was in skandinavischen Concept-Stores bereits ein absoluter Design-Dauerbrenner ist\, hält jetzt auch Einzug in unsere Kreativwerkstatt. Wir zeigen dir in unserem Workshop\, wie du die stylischen Must-Haves ganz einfach selber gestaltest. Dafür mischen wir deine individuellen Lieblingsfarben\, experimentieren mit verschiedenen Techniken und vermitteln dir viele nützliche Tipps rund ums Tauchen\, Klecksen und Dekorieren deiner ganz persönlichen Kerzen-Kollektion. Wähle aus Stab- oder Stumpenkerzen deine individuelle Favoriten und designe die passenden Home-Accessoires für dein Zuhause oder zum Verschenken.\nCome on baby\, light my fire!
URL:https://flamingocat.de/event/offener-workshop-dip-dye-candles/2025-03-09/
LOCATION:FLAMINGOCAT\, Kurt Eisner Strasse 17\, Leipzig\, 04275
CATEGORIES:Offene Kurse
ATTACH;FMTTYPE=image/jpeg:https://flamingocat.de/wp-content/uploads/2026/02/DIY-Workshop-Kerzen-giessen-Leipzig.jpg
END:VEVENT
BEGIN:VEVENT
DTSTART;TZID=Europe/Berlin:20250302T110000
DTEND;TZID=Europe/Berlin:20250302T140000
DTSTAMP:20260422T195454
CREATED:20250224T182810Z
LAST-MODIFIED:20250224T183412Z
UID:10001720-1740913200-1740924000@flamingocat.de
SUMMARY:Handlettering Workshop
DESCRIPTION:Let´s letter together! In diesem Workshop dreht sich alles um die Kunst des Schönschreibens. In unserem inspirierenden 3-stündigen-Workshop\nlernst du die Grundlagen des Handletterings kennen. Wir widmen uns essentiellen Materialien und Tools und vertiefen mit kreativen Übungen deine\nFähigkeiten.
URL:https://flamingocat.de/event/handlettering-workshop-2/2025-03-02/
CATEGORIES:Offene Kurse
ATTACH;FMTTYPE=image/jpeg:https://flamingocat.de/wp-content/uploads/2024/12/Anleitung-Handlettering-Workshop-Leipzig-Kurs-scaled.jpg
END:VEVENT
BEGIN:VEVENT
DTSTART;TZID=Europe/Berlin:20250302T110000
DTEND;TZID=Europe/Berlin:20250302T140000
DTSTAMP:20260422T195454
CREATED:20230128T115718Z
LAST-MODIFIED:20260412T192005Z
UID:10001576-1740913200-1740924000@flamingocat.de
SUMMARY:Offener Naturkosmetik Workshop
DESCRIPTION:Mit diesem Workshop kannst du ab sofort deine Haut zum Strahlen bringen. Gemeinsam kreiren wir glitzernde Badeperlen\, betörende Düfte oder natürliche Peelings\, die man sogar Naschen kann. Yummy! Digitalwaage\, Pipette und Spatel liegen schon bereit. Ab jetzt darf fleissig gerührt werden.Wir erklären dir die Grundlagen und servieren obendrauf praktische Tipps mit denen du auch im Anschluss an unseren Workshops weiterarbeiten kannst.
URL:https://flamingocat.de/event/test-naturkosmetik-workshop/2025-03-02/
CATEGORIES:Offene Kurse
ATTACH;FMTTYPE=image/jpeg:https://flamingocat.de/wp-content/uploads/2022/12/Badewannenkugeln-Badebomben-DIY-Naturkosmetik-Workshop-natuerliche-Beautyprodukte-Zutaten-handmade-FLAMINGOCAT.jpg
END:VEVENT
BEGIN:VEVENT
DTSTART;TZID=Europe/Berlin:20250302T110000
DTEND;TZID=Europe/Berlin:20250302T140000
DTSTAMP:20260422T195454
CREATED:20230118T101731Z
LAST-MODIFIED:20260412T204856Z
UID:10001586-1740913200-1740924000@flamingocat.de
SUMMARY:Offener Terrazzo Deko Workshop
DESCRIPTION:Schon die alten Römer liebten Bodenbelege mit farbigen Sprenkeln.\nNun feiert das antike Design ein echtes Revival. Die römische Terrazzo-Optik\nist der Design-Trend des Jahres. Egal ob Schalen\, Blumentöpfe oder Kerzenständer –\nwir streuseln uns die Welt\, wie sie uns gefällt. In unserem 3-stündigen Workshop gestaltest du aus einem umweltfreundlichen\, gips-ähnlichen Verbundwerkstoff deine individuellen Home-Accessoires.
URL:https://flamingocat.de/event/offener-terrazzo-deko-workshop/2025-03-02/
CATEGORIES:Offene Kurse
ATTACH;FMTTYPE=image/jpeg:https://flamingocat.de/wp-content/uploads/2023/01/Terrazzo-Schalen-Workshop-Flamingocat-Leipzig-8-1.jpg
END:VEVENT
BEGIN:VEVENT
DTSTART;TZID=Europe/Berlin:20250223T110000
DTEND;TZID=Europe/Berlin:20250223T140000
DTSTAMP:20260422T195454
CREATED:20240822T071933Z
LAST-MODIFIED:20250221T162046Z
UID:10001590-1740308400-1740319200@flamingocat.de
SUMMARY:Offener Workshop - Häkeln lernen
DESCRIPTION:Wir lassen deine Häkelnadeln glühen! In unserem Workshop entdecken wir Omas Lieblingsbeschäftigung nämlich komplett neu! Topflappen und Klopapier-Häubchen – Ade! Wir nutzen die schicken Schlaufen für stylische Accessoires und praktische Alltagshelfer. Egal ob Handtasche oder Sortier-Körbchen. You can do it all! Damit´s bei dir auch wie am Schnürchen läuft starten wir unseren Kurs mit einem Einstieg in die wichtigsten Grundtechniken. Keine Sorge\, die Basics hast du schnell gelernt und kannst mit unsere Hilfe auch direkt in dein erstes eigenes Häkelprojekt starten. Nadeln\, Scheren und Wolle in verschieden Farben halten wir selbstverständlich für dich bereit. Alles was du brauchst sind bunte Ideen für dein erstes Häkel-DIY!
URL:https://flamingocat.de/event/offener-workshop-haekeln-lernen/2025-02-23/
CATEGORIES:Offene Kurse
ATTACH;FMTTYPE=image/jpeg:https://flamingocat.de/wp-content/uploads/2024/08/Kreativ-Workshop-Leipzig-Haekeln-fuer-Einsteiger.jpg
END:VEVENT
BEGIN:VEVENT
DTSTART;TZID=Europe/Berlin:20250223T110000
DTEND;TZID=Europe/Berlin:20250223T140000
DTSTAMP:20260422T195454
CREATED:20200813T131847Z
LAST-MODIFIED:20260412T084014Z
UID:10001584-1740308400-1740319200@flamingocat.de
SUMMARY:Botanical Printing
DESCRIPTION:You better believe the hype! Dank Pinterest und Co. sind grafische Prints und botanische Drucke ein absolutes Must-Have für deine 4 Wände. Egal ob große Monstera-Blätter oder geometrische Figuren – in unserem Linoldruck-Workshop bringen wir ordentlich Farbe aufs Papier.Gemeinsam erarbeiten wir dein neues Lieblingsmotiv.
URL:https://flamingocat.de/event/botanical-printing-6/2025-02-23/
LOCATION:DIY DEPARTEMENT\, Karl Liebknecht Strasse 13\, 04107
CATEGORIES:Offene Kurse
ATTACH;FMTTYPE=image/jpeg:https://flamingocat.de/wp-content/uploads/2024/01/DSC3393.jpg
END:VEVENT
BEGIN:VEVENT
DTSTART;TZID=Europe/Berlin:20250216T110000
DTEND;TZID=Europe/Berlin:20250216T140000
DTSTAMP:20260422T195454
CREATED:20220215T152121Z
LAST-MODIFIED:20260412T201331Z
UID:10001574-1739703600-1739714400@flamingocat.de
SUMMARY:Schmuck aus Polymer-Clay
DESCRIPTION:Mit unserem neuen Polymer-Clay-Workshop\, kannst du dir deinen neuen Lieblingsschmuck einfach selber kneten. Du bestimmst Form\, Farbe und Stil selbst und designst die passenden Accessoires für deinen Lieblingslook. Egal ob Statement-Ohrringe\, Ketten oder Ringe : you decide! Obendrauf servieren wir dir noch eine ordentliche Portion Blattgold.
URL:https://flamingocat.de/event/schmuck-aus-polymer-clay/2025-02-16/
CATEGORIES:Offene Kurse
ATTACH;FMTTYPE=image/jpeg:https://flamingocat.de/wp-content/uploads/2022/12/Schmuck-Workshop-Schmuck-aus-Ofen-Clay-Flamingocat-Leipzig-5.jpg
END:VEVENT
BEGIN:VEVENT
DTSTART;TZID=Europe/Berlin:20250209T110000
DTEND;TZID=Europe/Berlin:20250209T140000
DTSTAMP:20260422T195454
CREATED:20260412T095612Z
LAST-MODIFIED:20260412T095827Z
UID:10001743-1739098800-1739109600@flamingocat.de
SUMMARY:Moosbild gestalten - Offener Workshop
DESCRIPTION:Wir holen uns die Natur ins Wohnzimmer. Sag Tschüss zu Poster Einheitsbrei und nackten Wänden\, denn in diesem Workshop zaubern wir deinen ganz persönlichen #urbanjungle. Wir zeigen dir\, wie du verschiedene Hölzer\, Rinde oder Steine zu einem echten Kunstwerk anordnest. Egal ob Bastel-Beginner oder ein Crafting-Profi bist\, dieser Workshop ist für alle geeignet!
URL:https://flamingocat.de/event/moosbild-gestalten-offener-workshop/2025-02-09/
CATEGORIES:Offene Kurse
ATTACH;FMTTYPE=image/jpeg:https://flamingocat.de/wp-content/uploads/2024/12/Kreative-Teamevents-Idee-Leipzig-.jpg
END:VEVENT
BEGIN:VEVENT
DTSTART;TZID=Europe/Berlin:20250209T110000
DTEND;TZID=Europe/Berlin:20250209T140000
DTSTAMP:20260422T195454
CREATED:20230616T201428Z
LAST-MODIFIED:20260412T081737Z
UID:10001674-1739098800-1739109600@flamingocat.de
SUMMARY:Offener Aquarell Workshop
DESCRIPTION:Ready for some summer vibes? In unserem neusten Workshop wird es jetzt blumig! Gemeinsam schwingen wir die Pinsel und zeigen euch in unserem Aquarell Workshop die wichtigsten Techniken und besten Tricks rund um die beliebten Wasserfarben. Ihr zeichnet Blumen\, Pflanzen und bunte Blüten und nehmt am Ende unseres 3-stündigen Kurses eure eigenen Aquarell-Blumensträuße und Kränze mit nachhause.
URL:https://flamingocat.de/event/offener-aquarell-workshop-13/2025-02-09/
CATEGORIES:Offene Kurse
ATTACH;FMTTYPE=image/jpeg:https://flamingocat.de/wp-content/uploads/2023/08/aquarell-watercoloring-watercolor-workshop-leipzig-wasserfarben-malen-lernen-7-scaled.jpg
END:VEVENT
END:VCALENDAR