BEGIN:VCALENDAR
VERSION:2.0
PRODID:-//Flamingocat - ECPv6.15.20//NONSGML v1.0//EN
CALSCALE:GREGORIAN
METHOD:PUBLISH
X-ORIGINAL-URL:https://flamingocat.de
X-WR-CALDESC:Veranstaltungen für Flamingocat
REFRESH-INTERVAL;VALUE=DURATION:PT1H
X-Robots-Tag:noindex
X-PUBLISHED-TTL:PT1H
BEGIN:VTIMEZONE
TZID:Europe/Berlin
BEGIN:DAYLIGHT
TZOFFSETFROM:+0100
TZOFFSETTO:+0200
TZNAME:CEST
DTSTART:20250330T010000
END:DAYLIGHT
BEGIN:STANDARD
TZOFFSETFROM:+0200
TZOFFSETTO:+0100
TZNAME:CET
DTSTART:20251026T010000
END:STANDARD
BEGIN:DAYLIGHT
TZOFFSETFROM:+0100
TZOFFSETTO:+0200
TZNAME:CEST
DTSTART:20260329T010000
END:DAYLIGHT
BEGIN:STANDARD
TZOFFSETFROM:+0200
TZOFFSETTO:+0100
TZNAME:CET
DTSTART:20261025T010000
END:STANDARD
BEGIN:DAYLIGHT
TZOFFSETFROM:+0100
TZOFFSETTO:+0200
TZNAME:CEST
DTSTART:20270328T010000
END:DAYLIGHT
BEGIN:STANDARD
TZOFFSETFROM:+0200
TZOFFSETTO:+0100
TZNAME:CET
DTSTART:20271031T010000
END:STANDARD
END:VTIMEZONE
BEGIN:VEVENT
DTSTART;TZID=Europe/Berlin:20260704T100000
DTEND;TZID=Europe/Berlin:20260704T140000
DTSTAMP:20260423T093618
CREATED:20250504T074314Z
LAST-MODIFIED:20260413T094337Z
UID:10001836-1783159200-1783173600@flamingocat.de
SUMMARY:Tufting Workshop - Kleiner Teppich
DESCRIPTION:
URL:https://flamingocat.de/event/tufting-workshop-kleiner-teppich/2026-07-04/
CATEGORIES:Offene Kurse
ATTACH;FMTTYPE=image/jpeg:https://flamingocat.de/wp-content/uploads/2025/01/Tufting-Kurs-Leipzig-Flamingocat.jpg
END:VEVENT
BEGIN:VEVENT
DTSTART;TZID=Europe/Berlin:20260704T100000
DTEND;TZID=Europe/Berlin:20260704T150000
DTSTAMP:20260423T093618
CREATED:20231217T115908Z
LAST-MODIFIED:20260413T094939Z
UID:10001847-1783159200-1783177200@flamingocat.de
SUMMARY:Tufting Workshop
DESCRIPTION:
URL:https://flamingocat.de/event/tufting-workshop/2026-07-04/
CATEGORIES:Offene Kurse
END:VEVENT
BEGIN:VEVENT
DTSTART;TZID=Europe/Berlin:20260705T110000
DTEND;TZID=Europe/Berlin:20260705T140000
DTSTAMP:20260423T093618
CREATED:20240207T101617Z
LAST-MODIFIED:20260413T065910Z
UID:10001812-1783249200-1783260000@flamingocat.de
SUMMARY:Textured Art
DESCRIPTION:Mit diesem Workshop bringen wir Struktur in deinen Alltag und hauchen der schnöden Spachtelmasse frischen Wind ein. Wenn du keine Scheu hast dir die Hände schmutzig zu machen und grafische Designs liebst\, bist du hier genau richtig!
URL:https://flamingocat.de/event/textured-art/2026-07-05/
CATEGORIES:Offene Kurse
ATTACH;FMTTYPE=image/jpeg:https://flamingocat.de/wp-content/uploads/2026/02/Spachtelmasse-Workshop-Leipzig-Textured-Art.jpg
ORGANIZER;CN="FLAMINGOCAT":MAILTO:info@flamingocat.de
END:VEVENT
BEGIN:VEVENT
DTSTART;TZID=Europe/Berlin:20260709T183000
DTEND;TZID=Europe/Berlin:20260709T183000
DTSTAMP:20260423T093618
CREATED:20190821T152824Z
LAST-MODIFIED:20260413T080710Z
UID:10001815-1783621800-1783621800@flamingocat.de
SUMMARY:offener Adventskranz-Workshop
DESCRIPTION:You better watch out! In diesem Jahr begrüßen wir die Weihnachtszeit mit einem selbstgebundenen Adventskranz. Mit Eukalytus\, bunten Seidenbändern und allerlei schönen Materialien verpassen wir dem Kranz ein angesagtes skandinavisches Make-Over. Und damit ihr richtig in Weihnachtsstimmung kommt\, servieren wir euch nebenbei noch dampfenden Glühwein…
URL:https://flamingocat.de/event/offener-adventskranz-workshop-9/2026-07-09/
LOCATION:FLAMINGOCAT\, Kurt Eisner Strasse 17\, Leipzig\, 04275
CATEGORIES:Offene Kurse
ATTACH;FMTTYPE=image/jpeg:https://flamingocat.de/wp-content/uploads/2022/12/DIY-Adventskranz-im-Greenery-Style-Flamingocat-Leipzig-43.jpg
END:VEVENT
BEGIN:VEVENT
DTSTART;TZID=Europe/Berlin:20260712T110000
DTEND;TZID=Europe/Berlin:20260712T150000
DTSTAMP:20260423T093618
CREATED:20260412T093344Z
LAST-MODIFIED:20260412T094328Z
UID:10001771-1783854000-1783868400@flamingocat.de
SUMMARY:Handtasche häkeln
DESCRIPTION:Wir lassen deine Häkelnadeln glühen! In unserem Workshop entdecken wir Omas Lieblingsbeschäftigung nämlich komplett neu! Topflappen und Klopapier-Häubchen – Ade! Wir nutzen die schicken Schlaufen für stylische Accessoires und praktische Alltagshelfer. Egal ob Handtasche oder Sortier-Körbchen. You can do it all! Keine Sorge\, die Basics hast du schnell gelernt und kannst mit unsere Hilfe auch direkt in dein erstes eigenes Häkelprojekt starten. Nadeln\, Scheren und Wolle in verschieden Farben halten wir selbstverständlich für dich bereit. Alles was du brauchst sind bunte Ideen für dein erstes Häkel-DIY!
URL:https://flamingocat.de/event/handtasche-haekeln/2026-07-12/
LOCATION:FLAMINGOCAT\, Kurt Eisner Strasse 17\, Leipzig\, 04275
CATEGORIES:Offene Kurse
ATTACH;FMTTYPE=image/jpeg:https://flamingocat.de/wp-content/uploads/2026/03/Haekeln-fuer-Anfaenger-Leipzig-Workshop-1-1.jpg
ORGANIZER;CN="FLAMINGOCAT":MAILTO:info@flamingocat.de
END:VEVENT
BEGIN:VEVENT
DTSTART;TZID=Europe/Berlin:20260716T180000
DTEND;TZID=Europe/Berlin:20260716T200000
DTSTAMP:20260423T093618
CREATED:20260412T192547Z
LAST-MODIFIED:20260412T192547Z
UID:10001786-1784224800-1784232000@flamingocat.de
SUMMARY:Paint your glass
DESCRIPTION:Bring Color to Your Cheers! ✨ \nOb Afterwork-Getaway\, Mädelsabend oder Team-Event – dieser Workshop ist dein kreativer Escape.Wir stellen dir alles bereit\, was du brauchst\, um bis zu zwei Gläser in deinem eigenen Style zu gestalten. \nDein Playground sind flüssige Glasfarben\, Edle Paint Pens & Vorlagen für florale Vibes\, minimalistische Lines oder mutige geometrische Designs.\nTipps & Tricks bekommst du von uns\, aber keine Regeln – your design\, your vibe!
URL:https://flamingocat.de/event/paint-your-glass/2026-07-16/
CATEGORIES:Offene Kurse
ATTACH;FMTTYPE=image/jpeg:https://flamingocat.de/wp-content/uploads/2026/02/Paint-your-glass-Workshop-Glaeser-bemalen-DIY-Kurs-Leipzig.jpg
END:VEVENT
BEGIN:VEVENT
DTSTART;TZID=Europe/Berlin:20260719T110000
DTEND;TZID=Europe/Berlin:20260719T140000
DTSTAMP:20260423T093618
CREATED:20210117T114808Z
LAST-MODIFIED:20260412T202612Z
UID:10001802-1784458800-1784469600@flamingocat.de
SUMMARY:Offener Trockenblumenkranz Workshop
DESCRIPTION:You better watch out! In diesem Jahr begrüßen wir die neue Jahreszeit mit einem selbstgebundenen Blumenkranz. Mit getrockneten Zweigen\, Blüten\, Federn und und allerlei schönen Materialien verpassen wir deinem Türkranz ein skandinavisches Make-Over.
URL:https://flamingocat.de/event/online-workshop-osterkranz/2026-07-19/
CATEGORIES:Offene Kurse
ATTACH;FMTTYPE=image/jpeg:https://flamingocat.de/wp-content/uploads/2023/01/DIY-Trockenblumenkranz-Fruehling-2.jpg
END:VEVENT
BEGIN:VEVENT
DTSTART;TZID=Europe/Berlin:20260719T110000
DTEND;TZID=Europe/Berlin:20260719T143000
DTSTAMP:20260423T093618
CREATED:20260412T095612Z
LAST-MODIFIED:20260412T095827Z
UID:10001777-1784458800-1784471400@flamingocat.de
SUMMARY:Moosbild gestalten - Offener Workshop
DESCRIPTION:Wir holen uns die Natur ins Wohnzimmer. Sag Tschüss zu Poster Einheitsbrei und nackten Wänden\, denn in diesem Workshop zaubern wir deinen ganz persönlichen #urbanjungle. Wir zeigen dir\, wie du verschiedene Hölzer\, Rinde oder Steine zu einem echten Kunstwerk anordnest. Egal ob Bastel-Beginner oder ein Crafting-Profi bist\, dieser Workshop ist für alle geeignet!
URL:https://flamingocat.de/event/moosbild-gestalten-offener-workshop/2026-07-19/
CATEGORIES:Offene Kurse
ATTACH;FMTTYPE=image/jpeg:https://flamingocat.de/wp-content/uploads/2024/12/Kreative-Teamevents-Idee-Leipzig-.jpg
END:VEVENT
BEGIN:VEVENT
DTSTART;TZID=Europe/Berlin:20260726T100000
DTEND;TZID=Europe/Berlin:20260726T130000
DTSTAMP:20260423T093618
CREATED:20220215T152121Z
LAST-MODIFIED:20260412T201331Z
UID:10001798-1785060000-1785070800@flamingocat.de
SUMMARY:Schmuck aus Polymer-Clay
DESCRIPTION:Mit unserem neuen Polymer-Clay-Workshop\, kannst du dir deinen neuen Lieblingsschmuck einfach selber kneten. Du bestimmst Form\, Farbe und Stil selbst und designst die passenden Accessoires für deinen Lieblingslook. Egal ob Statement-Ohrringe\, Ketten oder Ringe : you decide! Obendrauf servieren wir dir noch eine ordentliche Portion Blattgold.
URL:https://flamingocat.de/event/schmuck-aus-polymer-clay/2026-07-26/
CATEGORIES:Offene Kurse
ATTACH;FMTTYPE=image/jpeg:https://flamingocat.de/wp-content/uploads/2022/12/Schmuck-Workshop-Schmuck-aus-Ofen-Clay-Flamingocat-Leipzig-5.jpg
END:VEVENT
BEGIN:VEVENT
DTSTART;TZID=Europe/Berlin:20260726T110000
DTEND;TZID=Europe/Berlin:20260726T140000
DTSTAMP:20260423T093618
CREATED:20230118T101731Z
LAST-MODIFIED:20260412T204856Z
UID:10001806-1785063600-1785074400@flamingocat.de
SUMMARY:Offener Terrazzo Deko Workshop
DESCRIPTION:Schon die alten Römer liebten Bodenbelege mit farbigen Sprenkeln.\nNun feiert das antike Design ein echtes Revival. Die römische Terrazzo-Optik\nist der Design-Trend des Jahres. Egal ob Schalen\, Blumentöpfe oder Kerzenständer –\nwir streuseln uns die Welt\, wie sie uns gefällt. In unserem 3-stündigen Workshop gestaltest du aus einem umweltfreundlichen\, gips-ähnlichen Verbundwerkstoff deine individuellen Home-Accessoires.
URL:https://flamingocat.de/event/offener-terrazzo-deko-workshop/2026-07-26/
CATEGORIES:Offene Kurse
ATTACH;FMTTYPE=image/jpeg:https://flamingocat.de/wp-content/uploads/2023/01/Terrazzo-Schalen-Workshop-Flamingocat-Leipzig-8-1.jpg
END:VEVENT
BEGIN:VEVENT
DTSTART;TZID=Europe/Berlin:20260802T110000
DTEND;TZID=Europe/Berlin:20260802T130000
DTSTAMP:20260423T093618
CREATED:20260412T192547Z
LAST-MODIFIED:20260412T192547Z
UID:10001787-1785668400-1785675600@flamingocat.de
SUMMARY:Paint your glass
DESCRIPTION:Bring Color to Your Cheers! ✨ \nOb Afterwork-Getaway\, Mädelsabend oder Team-Event – dieser Workshop ist dein kreativer Escape.Wir stellen dir alles bereit\, was du brauchst\, um bis zu zwei Gläser in deinem eigenen Style zu gestalten. \nDein Playground sind flüssige Glasfarben\, Edle Paint Pens & Vorlagen für florale Vibes\, minimalistische Lines oder mutige geometrische Designs.\nTipps & Tricks bekommst du von uns\, aber keine Regeln – your design\, your vibe!
URL:https://flamingocat.de/event/paint-your-glass/2026-08-02/
CATEGORIES:Offene Kurse
ATTACH;FMTTYPE=image/jpeg:https://flamingocat.de/wp-content/uploads/2026/02/Paint-your-glass-Workshop-Glaeser-bemalen-DIY-Kurs-Leipzig.jpg
END:VEVENT
BEGIN:VEVENT
DTSTART;TZID=Europe/Berlin:20260802T110000
DTEND;TZID=Europe/Berlin:20260802T140000
DTSTAMP:20260423T093618
CREATED:20200813T131847Z
LAST-MODIFIED:20260412T084014Z
UID:10001764-1785668400-1785679200@flamingocat.de
SUMMARY:Botanical Printing
DESCRIPTION:You better believe the hype! Dank Pinterest und Co. sind grafische Prints und botanische Drucke ein absolutes Must-Have für deine 4 Wände. Egal ob große Monstera-Blätter oder geometrische Figuren – in unserem Linoldruck-Workshop bringen wir ordentlich Farbe aufs Papier.Gemeinsam erarbeiten wir dein neues Lieblingsmotiv.
URL:https://flamingocat.de/event/botanical-printing-6/2026-08-02/
LOCATION:DIY DEPARTEMENT\, Karl Liebknecht Strasse 13\, 04107
CATEGORIES:Offene Kurse
ATTACH;FMTTYPE=image/jpeg:https://flamingocat.de/wp-content/uploads/2024/01/DSC3393.jpg
END:VEVENT
BEGIN:VEVENT
DTSTART;TZID=Europe/Berlin:20260802T110000
DTEND;TZID=Europe/Berlin:20260802T140000
DTSTAMP:20260423T093618
CREATED:20230501T092756Z
LAST-MODIFIED:20260412T193638Z
UID:10001790-1785668400-1785679200@flamingocat.de
SUMMARY:Punch Needeling
DESCRIPTION:
URL:https://flamingocat.de/event/punch-needeling-2023/2026-08-02/
CATEGORIES:Offene Kurse
ATTACH;FMTTYPE=image/jpeg:https://flamingocat.de/wp-content/uploads/2023/04/Punch-Needling-9-scaled.jpg
END:VEVENT
BEGIN:VEVENT
DTSTART;TZID=Europe/Berlin:20260809T110000
DTEND;TZID=Europe/Berlin:20260809T140000
DTSTAMP:20260423T093618
CREATED:20230128T115718Z
LAST-MODIFIED:20260412T192005Z
UID:10001782-1786273200-1786284000@flamingocat.de
SUMMARY:Offener Naturkosmetik Workshop
DESCRIPTION:Mit diesem Workshop kannst du ab sofort deine Haut zum Strahlen bringen. Gemeinsam kreiren wir glitzernde Badeperlen\, betörende Düfte oder natürliche Peelings\, die man sogar Naschen kann. Yummy! Digitalwaage\, Pipette und Spatel liegen schon bereit. Ab jetzt darf fleissig gerührt werden.Wir erklären dir die Grundlagen und servieren obendrauf praktische Tipps mit denen du auch im Anschluss an unseren Workshops weiterarbeiten kannst.
URL:https://flamingocat.de/event/test-naturkosmetik-workshop/2026-08-09/
CATEGORIES:Offene Kurse
ATTACH;FMTTYPE=image/jpeg:https://flamingocat.de/wp-content/uploads/2022/12/Badewannenkugeln-Badebomben-DIY-Naturkosmetik-Workshop-natuerliche-Beautyprodukte-Zutaten-handmade-FLAMINGOCAT.jpg
END:VEVENT
BEGIN:VEVENT
DTSTART;TZID=Europe/Berlin:20260813T180000
DTEND;TZID=Europe/Berlin:20260813T210000
DTSTAMP:20260423T093618
CREATED:20260412T095612Z
LAST-MODIFIED:20260412T095827Z
UID:10001778-1786644000-1786654800@flamingocat.de
SUMMARY:Moosbild gestalten - Offener Workshop
DESCRIPTION:Wir holen uns die Natur ins Wohnzimmer. Sag Tschüss zu Poster Einheitsbrei und nackten Wänden\, denn in diesem Workshop zaubern wir deinen ganz persönlichen #urbanjungle. Wir zeigen dir\, wie du verschiedene Hölzer\, Rinde oder Steine zu einem echten Kunstwerk anordnest. Egal ob Bastel-Beginner oder ein Crafting-Profi bist\, dieser Workshop ist für alle geeignet!
URL:https://flamingocat.de/event/moosbild-gestalten-offener-workshop/2026-08-13/
CATEGORIES:Offene Kurse
ATTACH;FMTTYPE=image/jpeg:https://flamingocat.de/wp-content/uploads/2024/12/Kreative-Teamevents-Idee-Leipzig-.jpg
END:VEVENT
BEGIN:VEVENT
DTSTART;TZID=Europe/Berlin:20260816T100000
DTEND;TZID=Europe/Berlin:20260816T130000
DTSTAMP:20260423T093618
CREATED:20220215T152121Z
LAST-MODIFIED:20260412T201331Z
UID:10001799-1786874400-1786885200@flamingocat.de
SUMMARY:Schmuck aus Polymer-Clay
DESCRIPTION:Mit unserem neuen Polymer-Clay-Workshop\, kannst du dir deinen neuen Lieblingsschmuck einfach selber kneten. Du bestimmst Form\, Farbe und Stil selbst und designst die passenden Accessoires für deinen Lieblingslook. Egal ob Statement-Ohrringe\, Ketten oder Ringe : you decide! Obendrauf servieren wir dir noch eine ordentliche Portion Blattgold.
URL:https://flamingocat.de/event/schmuck-aus-polymer-clay/2026-08-16/
CATEGORIES:Offene Kurse
ATTACH;FMTTYPE=image/jpeg:https://flamingocat.de/wp-content/uploads/2022/12/Schmuck-Workshop-Schmuck-aus-Ofen-Clay-Flamingocat-Leipzig-5.jpg
END:VEVENT
BEGIN:VEVENT
DTSTART;TZID=Europe/Berlin:20260823T100000
DTEND;TZID=Europe/Berlin:20260823T130000
DTSTAMP:20260423T093618
CREATED:20230616T201428Z
LAST-MODIFIED:20260412T081737Z
UID:10001759-1787479200-1787490000@flamingocat.de
SUMMARY:Offener Aquarell Workshop
DESCRIPTION:Ready for some summer vibes? In unserem neusten Workshop wird es jetzt blumig! Gemeinsam schwingen wir die Pinsel und zeigen euch in unserem Aquarell Workshop die wichtigsten Techniken und besten Tricks rund um die beliebten Wasserfarben. Ihr zeichnet Blumen\, Pflanzen und bunte Blüten und nehmt am Ende unseres 3-stündigen Kurses eure eigenen Aquarell-Blumensträuße und Kränze mit nachhause.
URL:https://flamingocat.de/event/offener-aquarell-workshop-13/2026-08-23/
CATEGORIES:Offene Kurse
ATTACH;FMTTYPE=image/jpeg:https://flamingocat.de/wp-content/uploads/2023/08/aquarell-watercoloring-watercolor-workshop-leipzig-wasserfarben-malen-lernen-7-scaled.jpg
END:VEVENT
BEGIN:VEVENT
DTSTART;TZID=Europe/Berlin:20260830T110000
DTEND;TZID=Europe/Berlin:20260830T140000
DTSTAMP:20260423T093618
CREATED:20230118T101731Z
LAST-MODIFIED:20260412T204856Z
UID:10001807-1788087600-1788098400@flamingocat.de
SUMMARY:Offener Terrazzo Deko Workshop
DESCRIPTION:Schon die alten Römer liebten Bodenbelege mit farbigen Sprenkeln.\nNun feiert das antike Design ein echtes Revival. Die römische Terrazzo-Optik\nist der Design-Trend des Jahres. Egal ob Schalen\, Blumentöpfe oder Kerzenständer –\nwir streuseln uns die Welt\, wie sie uns gefällt. In unserem 3-stündigen Workshop gestaltest du aus einem umweltfreundlichen\, gips-ähnlichen Verbundwerkstoff deine individuellen Home-Accessoires.
URL:https://flamingocat.de/event/offener-terrazzo-deko-workshop/2026-08-30/
CATEGORIES:Offene Kurse
ATTACH;FMTTYPE=image/jpeg:https://flamingocat.de/wp-content/uploads/2023/01/Terrazzo-Schalen-Workshop-Flamingocat-Leipzig-8-1.jpg
END:VEVENT
BEGIN:VEVENT
DTSTART;TZID=Europe/Berlin:20260830T110000
DTEND;TZID=Europe/Berlin:20260830T140000
DTSTAMP:20260423T093618
CREATED:20240207T101617Z
LAST-MODIFIED:20260413T065910Z
UID:10001813-1788087600-1788098400@flamingocat.de
SUMMARY:Textured Art
DESCRIPTION:Mit diesem Workshop bringen wir Struktur in deinen Alltag und hauchen der schnöden Spachtelmasse frischen Wind ein. Wenn du keine Scheu hast dir die Hände schmutzig zu machen und grafische Designs liebst\, bist du hier genau richtig!
URL:https://flamingocat.de/event/textured-art/2026-08-30/
CATEGORIES:Offene Kurse
ATTACH;FMTTYPE=image/jpeg:https://flamingocat.de/wp-content/uploads/2026/02/Spachtelmasse-Workshop-Leipzig-Textured-Art.jpg
ORGANIZER;CN="FLAMINGOCAT":MAILTO:info@flamingocat.de
END:VEVENT
BEGIN:VEVENT
DTSTART;TZID=Europe/Berlin:20260830T110000
DTEND;TZID=Europe/Berlin:20260830T150000
DTSTAMP:20260423T093618
CREATED:20260412T093344Z
LAST-MODIFIED:20260412T094328Z
UID:10001772-1788087600-1788102000@flamingocat.de
SUMMARY:Handtasche häkeln
DESCRIPTION:Wir lassen deine Häkelnadeln glühen! In unserem Workshop entdecken wir Omas Lieblingsbeschäftigung nämlich komplett neu! Topflappen und Klopapier-Häubchen – Ade! Wir nutzen die schicken Schlaufen für stylische Accessoires und praktische Alltagshelfer. Egal ob Handtasche oder Sortier-Körbchen. You can do it all! Keine Sorge\, die Basics hast du schnell gelernt und kannst mit unsere Hilfe auch direkt in dein erstes eigenes Häkelprojekt starten. Nadeln\, Scheren und Wolle in verschieden Farben halten wir selbstverständlich für dich bereit. Alles was du brauchst sind bunte Ideen für dein erstes Häkel-DIY!
URL:https://flamingocat.de/event/handtasche-haekeln/2026-08-30/
LOCATION:FLAMINGOCAT\, Kurt Eisner Strasse 17\, Leipzig\, 04275
CATEGORIES:Offene Kurse
ATTACH;FMTTYPE=image/jpeg:https://flamingocat.de/wp-content/uploads/2026/03/Haekeln-fuer-Anfaenger-Leipzig-Workshop-1-1.jpg
ORGANIZER;CN="FLAMINGOCAT":MAILTO:info@flamingocat.de
END:VEVENT
BEGIN:VEVENT
DTSTART;TZID=Europe/Berlin:20260904T160000
DTEND;TZID=Europe/Berlin:20260904T210000
DTSTAMP:20260423T093618
CREATED:20250504T074314Z
LAST-MODIFIED:20260413T094337Z
UID:10001837-1788537600-1788555600@flamingocat.de
SUMMARY:Tufting Workshop - Kleiner Teppich
DESCRIPTION:
URL:https://flamingocat.de/event/tufting-workshop-kleiner-teppich/2026-09-04/
CATEGORIES:Offene Kurse
ATTACH;FMTTYPE=image/jpeg:https://flamingocat.de/wp-content/uploads/2025/01/Tufting-Kurs-Leipzig-Flamingocat.jpg
END:VEVENT
BEGIN:VEVENT
DTSTART;TZID=Europe/Berlin:20260905T100000
DTEND;TZID=Europe/Berlin:20260905T150000
DTSTAMP:20260423T093618
CREATED:20231217T115908Z
LAST-MODIFIED:20260413T094939Z
UID:10001848-1788602400-1788620400@flamingocat.de
SUMMARY:Tufting Workshop
DESCRIPTION:
URL:https://flamingocat.de/event/tufting-workshop/2026-09-05/
CATEGORIES:Offene Kurse
END:VEVENT
BEGIN:VEVENT
DTSTART;TZID=Europe/Berlin:20260905T100000
DTEND;TZID=Europe/Berlin:20260905T150000
DTSTAMP:20260423T093618
CREATED:20250504T074314Z
LAST-MODIFIED:20260413T094337Z
UID:10001838-1788602400-1788620400@flamingocat.de
SUMMARY:Tufting Workshop - Kleiner Teppich
DESCRIPTION:
URL:https://flamingocat.de/event/tufting-workshop-kleiner-teppich/2026-09-05/
CATEGORIES:Offene Kurse
ATTACH;FMTTYPE=image/jpeg:https://flamingocat.de/wp-content/uploads/2025/01/Tufting-Kurs-Leipzig-Flamingocat.jpg
END:VEVENT
BEGIN:VEVENT
DTSTART;TZID=Europe/Berlin:20260906T110000
DTEND;TZID=Europe/Berlin:20260906T140000
DTSTAMP:20260423T093618
CREATED:20201001T172256Z
LAST-MODIFIED:20260412T094946Z
UID:10001773-1788692400-1788703200@flamingocat.de
SUMMARY:Offener Blumenampel Workshop
DESCRIPTION:Auf die Knoten – Fertig – Los! Für Makramee-Einsteiger ist dieser Kurs genau das Richtige.Wir zeigen dir in unserem 3-stündigen Kurs grundlegende Techniken und knüpfen anschließend gemeinsam für deine geliebten Topf-Pflanzen einen angesagten Pflanzenhänger im Vintage-Look. Also sicher dir schnell ein Plätzchen an unserer Knüpfstange!
URL:https://flamingocat.de/event/offener-blumenampel-workshop-9/2026-09-06/
CATEGORIES:Offene Kurse
ATTACH;FMTTYPE=image/jpeg:https://flamingocat.de/wp-content/uploads/2022/12/Blumenampel-Workshop-Leipzig-Makramee-Kurs-DIY-Pflanzenhaenger.jpg
END:VEVENT
BEGIN:VEVENT
DTSTART;TZID=Europe/Berlin:20260913T110000
DTEND;TZID=Europe/Berlin:20260913T140000
DTSTAMP:20260423T093618
CREATED:20230616T201428Z
LAST-MODIFIED:20260412T081737Z
UID:10001760-1789297200-1789308000@flamingocat.de
SUMMARY:Offener Aquarell Workshop
DESCRIPTION:Ready for some summer vibes? In unserem neusten Workshop wird es jetzt blumig! Gemeinsam schwingen wir die Pinsel und zeigen euch in unserem Aquarell Workshop die wichtigsten Techniken und besten Tricks rund um die beliebten Wasserfarben. Ihr zeichnet Blumen\, Pflanzen und bunte Blüten und nehmt am Ende unseres 3-stündigen Kurses eure eigenen Aquarell-Blumensträuße und Kränze mit nachhause.
URL:https://flamingocat.de/event/offener-aquarell-workshop-13/2026-09-13/
CATEGORIES:Offene Kurse
ATTACH;FMTTYPE=image/jpeg:https://flamingocat.de/wp-content/uploads/2023/08/aquarell-watercoloring-watercolor-workshop-leipzig-wasserfarben-malen-lernen-7-scaled.jpg
END:VEVENT
BEGIN:VEVENT
DTSTART;TZID=Europe/Berlin:20260913T110000
DTEND;TZID=Europe/Berlin:20260913T140000
DTSTAMP:20260423T093618
CREATED:20260412T095612Z
LAST-MODIFIED:20260412T095827Z
UID:10001779-1789297200-1789308000@flamingocat.de
SUMMARY:Moosbild gestalten - Offener Workshop
DESCRIPTION:Wir holen uns die Natur ins Wohnzimmer. Sag Tschüss zu Poster Einheitsbrei und nackten Wänden\, denn in diesem Workshop zaubern wir deinen ganz persönlichen #urbanjungle. Wir zeigen dir\, wie du verschiedene Hölzer\, Rinde oder Steine zu einem echten Kunstwerk anordnest. Egal ob Bastel-Beginner oder ein Crafting-Profi bist\, dieser Workshop ist für alle geeignet!
URL:https://flamingocat.de/event/moosbild-gestalten-offener-workshop/2026-09-13/
CATEGORIES:Offene Kurse
ATTACH;FMTTYPE=image/jpeg:https://flamingocat.de/wp-content/uploads/2024/12/Kreative-Teamevents-Idee-Leipzig-.jpg
END:VEVENT
BEGIN:VEVENT
DTSTART;TZID=Europe/Berlin:20260917T183000
DTEND;TZID=Europe/Berlin:20260917T203000
DTSTAMP:20260423T093618
CREATED:20260412T192547Z
LAST-MODIFIED:20260412T192547Z
UID:10001788-1789669800-1789677000@flamingocat.de
SUMMARY:Paint your glass
DESCRIPTION:Bring Color to Your Cheers! ✨ \nOb Afterwork-Getaway\, Mädelsabend oder Team-Event – dieser Workshop ist dein kreativer Escape.Wir stellen dir alles bereit\, was du brauchst\, um bis zu zwei Gläser in deinem eigenen Style zu gestalten. \nDein Playground sind flüssige Glasfarben\, Edle Paint Pens & Vorlagen für florale Vibes\, minimalistische Lines oder mutige geometrische Designs.\nTipps & Tricks bekommst du von uns\, aber keine Regeln – your design\, your vibe!
URL:https://flamingocat.de/event/paint-your-glass/2026-09-17/
CATEGORIES:Offene Kurse
ATTACH;FMTTYPE=image/jpeg:https://flamingocat.de/wp-content/uploads/2026/02/Paint-your-glass-Workshop-Glaeser-bemalen-DIY-Kurs-Leipzig.jpg
END:VEVENT
BEGIN:VEVENT
DTSTART;TZID=Europe/Berlin:20260920T110000
DTEND;TZID=Europe/Berlin:20260920T140000
DTSTAMP:20260423T093618
CREATED:20220215T151233Z
LAST-MODIFIED:20260413T065423Z
UID:10001810-1789902000-1789912800@flamingocat.de
SUMMARY:Sticken für Einsteiger:innen
DESCRIPTION:In unserem neusten Workshop lassen wir die Nadeln glühen. It´s time for botanical embroidery! Mit leuchtenden Garnen und hübschen Stoffen designen wir ein textiles Must-Have für dein zuhause und sticken Blüten\, Blätter und Botanisches auf deinen Stickrahmen. Alle benötigten Materialien sowie ein Gläschen Sekt\, sind wie immer bereits im Preis enthalten
URL:https://flamingocat.de/event/sticken-fuer-einsteigerinnen-praesenz-veranstaltung/2026-09-20/
CATEGORIES:Offene Kurse
ATTACH;FMTTYPE=image/jpeg:https://flamingocat.de/wp-content/uploads/2023/01/Sticken-lernen-in-Leipzig-Flamingocat-5.jpg
END:VEVENT
BEGIN:VEVENT
DTSTART;TZID=Europe/Berlin:20261002T160000
DTEND;TZID=Europe/Berlin:20261002T210000
DTSTAMP:20260423T093618
CREATED:20250504T074314Z
LAST-MODIFIED:20260413T094337Z
UID:10001839-1790956800-1790974800@flamingocat.de
SUMMARY:Tufting Workshop - Kleiner Teppich
DESCRIPTION:
URL:https://flamingocat.de/event/tufting-workshop-kleiner-teppich/2026-10-02/
CATEGORIES:Offene Kurse
ATTACH;FMTTYPE=image/jpeg:https://flamingocat.de/wp-content/uploads/2025/01/Tufting-Kurs-Leipzig-Flamingocat.jpg
END:VEVENT
BEGIN:VEVENT
DTSTART;TZID=Europe/Berlin:20261003T100000
DTEND;TZID=Europe/Berlin:20261003T150000
DTSTAMP:20260423T093618
CREATED:20231217T115908Z
LAST-MODIFIED:20260413T094939Z
UID:10001849-1791021600-1791039600@flamingocat.de
SUMMARY:Tufting Workshop
DESCRIPTION:
URL:https://flamingocat.de/event/tufting-workshop/2026-10-03/
CATEGORIES:Offene Kurse
END:VEVENT
END:VCALENDAR