BEGIN:VCALENDAR
VERSION:2.0
PRODID:-//Flamingocat - ECPv6.15.20//NONSGML v1.0//EN
CALSCALE:GREGORIAN
METHOD:PUBLISH
X-ORIGINAL-URL:https://flamingocat.de
X-WR-CALDESC:Veranstaltungen für Flamingocat
REFRESH-INTERVAL;VALUE=DURATION:PT1H
X-Robots-Tag:noindex
X-PUBLISHED-TTL:PT1H
BEGIN:VTIMEZONE
TZID:Europe/Berlin
BEGIN:DAYLIGHT
TZOFFSETFROM:+0100
TZOFFSETTO:+0200
TZNAME:CEST
DTSTART:20190331T010000
END:DAYLIGHT
BEGIN:STANDARD
TZOFFSETFROM:+0200
TZOFFSETTO:+0100
TZNAME:CET
DTSTART:20191027T010000
END:STANDARD
BEGIN:DAYLIGHT
TZOFFSETFROM:+0100
TZOFFSETTO:+0200
TZNAME:CEST
DTSTART:20200329T010000
END:DAYLIGHT
BEGIN:STANDARD
TZOFFSETFROM:+0200
TZOFFSETTO:+0100
TZNAME:CET
DTSTART:20201025T010000
END:STANDARD
BEGIN:DAYLIGHT
TZOFFSETFROM:+0100
TZOFFSETTO:+0200
TZNAME:CEST
DTSTART:20210328T010000
END:DAYLIGHT
BEGIN:STANDARD
TZOFFSETFROM:+0200
TZOFFSETTO:+0100
TZNAME:CET
DTSTART:20211031T010000
END:STANDARD
END:VTIMEZONE
BEGIN:VEVENT
DTSTART;TZID=Europe/Berlin:20200703T180000
DTEND;TZID=Europe/Berlin:20200703T210000
DTSTAMP:20260423T153651
CREATED:20200521T181724Z
LAST-MODIFIED:20200521T181724Z
UID:10001131-1593799200-1593810000@flamingocat.de
SUMMARY:Offener Acrylmalerei Workshop
DESCRIPTION:Schmeisst die Möbel aus dem Fenster\, wir brauchen Platz zum Malen! In unserem Acrylmalerei-Workshop kannst du jetzt deinen inneren Picasso entdecken: Lass dich inspirieren von Farben und Formen und erschaffe dein eigenes\, individuelles Kunstwerk auf Leinwand.
URL:https://flamingocat.de/event/offener-acrylmalerei-workshop-4/
CATEGORIES:Offene Kurse
ATTACH;FMTTYPE=:
END:VEVENT
BEGIN:VEVENT
DTSTART;TZID=Europe/Berlin:20200707T183000
DTEND;TZID=Europe/Berlin:20200707T203000
DTSTAMP:20260423T153651
CREATED:20200603T121844Z
LAST-MODIFIED:20200603T121844Z
UID:10001142-1594146600-1594153800@flamingocat.de
SUMMARY:Offener Blumenkranz Workshop
DESCRIPTION:Ready to become the queen of flowers? In unserem beliebten Blumenkranz-Workshop lernst du nicht nur den richtigen Umgang mit Gartenscheren\, Draht und Floristen-Tape. Wir servieren nebenbei auch noch hilfreiche Tricks und Kniffe für das kinderleichte Binden deiner individuellen Flowercrown. Außerdem halten wir ein Gläschen eisgekühlten Sekt für euch bereit.
URL:https://flamingocat.de/event/offener-blumenkranz-workshop-15/
LOCATION:DIY DEPARTEMENT\, Karl Liebknecht Strasse 13\, 04107
CATEGORIES:Offene Kurse
ATTACH;FMTTYPE=:
END:VEVENT
BEGIN:VEVENT
DTSTART;TZID=Europe/Berlin:20200709T183000
DTEND;TZID=Europe/Berlin:20200709T213000
DTSTAMP:20260423T153651
CREATED:20200603T122318Z
LAST-MODIFIED:20200603T122318Z
UID:10001144-1594319400-1594330200@flamingocat.de
SUMMARY:Offener Wallhanging Workshop
DESCRIPTION:Was auf Instagram schon längst zum riesen Hit geworden ist\, das feiert jetzt auch Einzug in unserer Kreativwerkstatt. #floralwallhanging. Kennt ihr nicht? Dann wird`s höchste Zeit! Egal ob in romantisch verspielten Varianten\, als Traumfänger oder mit dekorativen Makramee-Knoten\, diese hängenden Deko-Schönheiten sind ein echtes Must-Have.
URL:https://flamingocat.de/event/offener-wallhanging-workshop-14/
LOCATION:DIY DEPARTEMENT\, Karl Liebknecht Strasse 13\, 04107
CATEGORIES:Offene Kurse
ATTACH;FMTTYPE=:
END:VEVENT
BEGIN:VEVENT
DTSTART;TZID=Europe/Berlin:20200714T183000
DTEND;TZID=Europe/Berlin:20200714T213000
DTSTAMP:20260423T153651
CREATED:20200521T181435Z
LAST-MODIFIED:20200521T181435Z
UID:10001130-1594751400-1594762200@flamingocat.de
SUMMARY:Offener Acrylmalerei Workshop
DESCRIPTION:Schmeisst die Möbel aus dem Fenster\, wir brauchen Platz zum Malen! In unserem Acrylmalerei-Workshop kannst du jetzt deinen inneren Picasso entdecken: Lass dich inspirieren von Farben und Formen und erschaffe dein eigenes\, individuelles Kunstwerk auf Leinwand. Egal ob abstrakt oder figürlich: in unserem 4-stündigen Workshop lernst du alles rund um die kreative Gestaltungstechnik.
URL:https://flamingocat.de/event/offener-acrylmalerei-workshop-3/
CATEGORIES:Offene Kurse
ATTACH;FMTTYPE=:
END:VEVENT
BEGIN:VEVENT
DTSTART;TZID=Europe/Berlin:20200721T183000
DTEND;TZID=Europe/Berlin:20200721T213000
DTSTAMP:20260423T153651
CREATED:20200603T120644Z
LAST-MODIFIED:20200603T120644Z
UID:10001132-1595356200-1595367000@flamingocat.de
SUMMARY:Offener Schmuck Workshop
DESCRIPTION:Bling Bling – Baby! In unserem Schmuck-Workshop zeigen wir dir\, wie du deine eigenen angesagten it-Pieces aus Leder\, Holz oder Acryl herstellst. Such dir aus unseren FLAMINGOCAT-typischen Formen deine Lieblingsteile aus und gestalte 2 Schmuckstücke mit Wow-Effekt. Für besonders geschickte Hände halten wir auch Blatt-Gold bereit.
URL:https://flamingocat.de/event/offener-schmuck-workshop-18/
LOCATION:DIY DEPARTEMENT\, Karl Liebknecht Strasse 13\, 04107
CATEGORIES:Offene Kurse
ATTACH;FMTTYPE=:
END:VEVENT
BEGIN:VEVENT
DTSTART;TZID=Europe/Berlin:20200726T130000
DTEND;TZID=Europe/Berlin:20200726T160000
DTSTAMP:20260423T153651
CREATED:20200521T175800Z
LAST-MODIFIED:20200521T175800Z
UID:10001125-1595768400-1595779200@flamingocat.de
SUMMARY:Outdoor Flower Date
DESCRIPTION:Wir packen unsere Bastel-Köfferchen und bringen unseren beliebten Blumenkranz-Workshop in einer limitierten Outdoor-Edition zu euch. Gemeinsam binden wir entweder angesagte Wallhangings für deine 4-Wände oder einen stylischen Blumenkranz für dein Haar. Du entscheidest!
URL:https://flamingocat.de/event/outdoor-flower-date/
ATTACH;FMTTYPE=:
END:VEVENT
BEGIN:VEVENT
DTSTART;TZID=Europe/Berlin:20200728T183000
DTEND;TZID=Europe/Berlin:20200728T213000
DTSTAMP:20260423T153651
CREATED:20200603T121118Z
LAST-MODIFIED:20200603T121118Z
UID:10001138-1595961000-1595971800@flamingocat.de
SUMMARY:Offener Blumenampel Workshop
DESCRIPTION:Auf die Knoten – Fertig – Los! Für Makramee-Einsteiger ist dieser Kurs genau das Richtige.Wir zeigen dir in unserem 3-stündigen Kurs grundlegende Techniken und knüpfen anschließend gemeinsam für deine geliebten Topf-Pflanzen einen angesagten Pflanzenhänger im Vintage-Look. Also sicher dir schnell ein Plätzchen an unserer Knüpfstange!
URL:https://flamingocat.de/event/offener-blumenampel-workshop-5/
LOCATION:DIY DEPARTEMENT\, Karl Liebknecht Strasse 13\, 04107
CATEGORIES:Offene Kurse
ATTACH;FMTTYPE=:
END:VEVENT
END:VCALENDAR