BEGIN:VCALENDAR
VERSION:2.0
PRODID:-//Flamingocat - ECPv6.15.20//NONSGML v1.0//EN
CALSCALE:GREGORIAN
METHOD:PUBLISH
X-WR-CALNAME:Flamingocat
X-ORIGINAL-URL:https://flamingocat.de
X-WR-CALDESC:Veranstaltungen für Flamingocat
REFRESH-INTERVAL;VALUE=DURATION:PT1H
X-Robots-Tag:noindex
X-PUBLISHED-TTL:PT1H
BEGIN:VTIMEZONE
TZID:Europe/Berlin
BEGIN:DAYLIGHT
TZOFFSETFROM:+0100
TZOFFSETTO:+0200
TZNAME:CEST
DTSTART:20190331T010000
END:DAYLIGHT
BEGIN:STANDARD
TZOFFSETFROM:+0200
TZOFFSETTO:+0100
TZNAME:CET
DTSTART:20191027T010000
END:STANDARD
BEGIN:DAYLIGHT
TZOFFSETFROM:+0100
TZOFFSETTO:+0200
TZNAME:CEST
DTSTART:20200329T010000
END:DAYLIGHT
BEGIN:STANDARD
TZOFFSETFROM:+0200
TZOFFSETTO:+0100
TZNAME:CET
DTSTART:20201025T010000
END:STANDARD
BEGIN:DAYLIGHT
TZOFFSETFROM:+0100
TZOFFSETTO:+0200
TZNAME:CEST
DTSTART:20210328T010000
END:DAYLIGHT
BEGIN:STANDARD
TZOFFSETFROM:+0200
TZOFFSETTO:+0100
TZNAME:CET
DTSTART:20211031T010000
END:STANDARD
END:VTIMEZONE
BEGIN:VEVENT
DTSTART;TZID=Europe/Berlin:20200806T183000
DTEND;TZID=Europe/Berlin:20200806T203000
DTSTAMP:20260423T135828
CREATED:20200603T122133Z
LAST-MODIFIED:20200603T122133Z
UID:10001143-1596738600-1596745800@flamingocat.de
SUMMARY:Offener Blumenkranz Workshop
DESCRIPTION:Ready to become the queen of flowers? In unserem beliebten Blumenkranz-Workshop lernst du nicht nur den richtigen Umgang mit Gartenscheren\, Draht und Floristen-Tape. Wir servieren nebenbei auch noch hilfreiche Tricks und Kniffe für das kinderleichte Binden deiner individuellen Flowercrown. Außerdem halten wir ein Gläschen eisgekühlten Sekt bereit.
URL:https://flamingocat.de/event/offener-blumenkranz-workshop-16/
LOCATION:DIY DEPARTEMENT\, Karl Liebknecht Strasse 13\, 04107
CATEGORIES:Offene Kurse
ATTACH;FMTTYPE=:
END:VEVENT
BEGIN:VEVENT
DTSTART;TZID=Europe/Berlin:20200811T183000
DTEND;TZID=Europe/Berlin:20200811T213000
DTSTAMP:20260423T135828
CREATED:20200603T120843Z
LAST-MODIFIED:20200603T120843Z
UID:10001137-1597170600-1597181400@flamingocat.de
SUMMARY:Offener Schmuck Workshop
DESCRIPTION:Bling Bling – Baby! In unserem Schmuck-Workshop zeigen wir dir\, wie du deine eigenen angesagten it-Pieces aus Leder\, Holz oder Acryl herstellst. Such dir aus unseren FLAMINGOCAT-typischen Formen deine Lieblingsteile aus und gestalte 2 Schmuckstücke mit Wow-Effekt. Für besonders geschickte Hände halten wir auch Blatt-Gold bereit.
URL:https://flamingocat.de/event/offener-schmuck-workshop-19/
LOCATION:DIY DEPARTEMENT\, Karl Liebknecht Strasse 13\, 04107
CATEGORIES:Offene Kurse
ATTACH;FMTTYPE=:
END:VEVENT
BEGIN:VEVENT
DTSTART;TZID=Europe/Berlin:20200818T183000
DTEND;TZID=Europe/Berlin:20200818T213000
DTSTAMP:20260423T135828
CREATED:20200603T121253Z
LAST-MODIFIED:20200603T121253Z
UID:10001139-1597775400-1597786200@flamingocat.de
SUMMARY:Offener Blumenampel Workshop
DESCRIPTION:Auf die Knoten – Fertig – Los! Für Makramee-Einsteiger ist dieser Kurs genau das Richtige.Wir zeigen dir in unserem 3-stündigen Kurs grundlegende Techniken und knüpfen anschließend gemeinsam für deine geliebten Topf-Pflanzen einen angesagten Pflanzenhänger im Vintage-Look. Also sicher dir schnell ein Plätzchen an unserer Knüpfstange!
URL:https://flamingocat.de/event/offener-blumenampel-workshop-6/
LOCATION:DIY DEPARTEMENT\, Karl Liebknecht Strasse 13\, 04107
CATEGORIES:Offene Kurse
END:VEVENT
BEGIN:VEVENT
DTSTART;TZID=Europe/Berlin:20200823T103000
DTEND;TZID=Europe/Berlin:20200823T153000
DTSTAMP:20260423T135828
CREATED:20200708T163405Z
LAST-MODIFIED:20200708T163405Z
UID:10001242-1598178600-1598196600@flamingocat.de
SUMMARY:Offener Goldschmiede Workshop
DESCRIPTION:Baby\, bring das Gold zum Schmelzen! Für echte Glamour-Kätzchen bieten wir ab jetzt einen 5-stündigen Goldschmiede-Workshop an\, in dem ihr euren eigenen indiduellen Schmuck herstellen könnt. Gemeinsam mit unserem professionellen Goldschmied\, sägen\, stanzen und löten wir dein neues Lieblings-Schmuckstück. Im Preis enthalten sind alle benötigten Materialien sowie Snacks und Getränke.
URL:https://flamingocat.de/event/offener-goldschmiede-workshop-5/
LOCATION:DIY DEPARTEMENT\, Karl Liebknecht Strasse 13\, 04107
CATEGORIES:Offene Kurse
END:VEVENT
END:VCALENDAR