BEGIN:VCALENDAR
VERSION:2.0
PRODID:-//Flamingocat - ECPv6.15.20//NONSGML v1.0//EN
CALSCALE:GREGORIAN
METHOD:PUBLISH
X-ORIGINAL-URL:https://flamingocat.de
X-WR-CALDESC:Veranstaltungen für Flamingocat
REFRESH-INTERVAL;VALUE=DURATION:PT1H
X-Robots-Tag:noindex
X-PUBLISHED-TTL:PT1H
BEGIN:VTIMEZONE
TZID:Europe/Berlin
BEGIN:DAYLIGHT
TZOFFSETFROM:+0100
TZOFFSETTO:+0200
TZNAME:CEST
DTSTART:20190331T010000
END:DAYLIGHT
BEGIN:STANDARD
TZOFFSETFROM:+0200
TZOFFSETTO:+0100
TZNAME:CET
DTSTART:20191027T010000
END:STANDARD
BEGIN:DAYLIGHT
TZOFFSETFROM:+0100
TZOFFSETTO:+0200
TZNAME:CEST
DTSTART:20200329T010000
END:DAYLIGHT
BEGIN:STANDARD
TZOFFSETFROM:+0200
TZOFFSETTO:+0100
TZNAME:CET
DTSTART:20201025T010000
END:STANDARD
BEGIN:DAYLIGHT
TZOFFSETFROM:+0100
TZOFFSETTO:+0200
TZNAME:CEST
DTSTART:20210328T010000
END:DAYLIGHT
BEGIN:STANDARD
TZOFFSETFROM:+0200
TZOFFSETTO:+0100
TZNAME:CET
DTSTART:20211031T010000
END:STANDARD
END:VTIMEZONE
BEGIN:VEVENT
DTSTART;TZID=Europe/Berlin:20200906T103000
DTEND;TZID=Europe/Berlin:20200906T153000
DTSTAMP:20260423T121301
CREATED:20200708T163522Z
LAST-MODIFIED:20200708T163522Z
UID:10001243-1599388200-1599406200@flamingocat.de
SUMMARY:Offener Goldschmiede Workshop
DESCRIPTION:Baby\, bring das Gold zum Schmelzen! Für echte Glamour-Kätzchen bieten wir ab jetzt einen 5-stündigen Goldschmiede-Workshop an\, in dem ihr euren eigenen indiduellen Schmuck herstellen könnt. Gemeinsam mit unserem professionellen Goldschmied\, sägen\, stanzen und löten wir dein neues Lieblings-Schmuckstück. Im Preis enthalten sind alle benötigten Materialien sowie Snacks und Getränke.
URL:https://flamingocat.de/event/offener-goldschmiede-workshop-6/
LOCATION:DIY DEPARTEMENT\, Karl Liebknecht Strasse 13\, 04107
CATEGORIES:Offene Kurse
END:VEVENT
BEGIN:VEVENT
DTSTART;TZID=Europe/Berlin:20200910T183000
DTEND;TZID=Europe/Berlin:20200910T213000
DTSTAMP:20260423T121301
CREATED:20200709T210715Z
LAST-MODIFIED:20200709T210715Z
UID:10001246-1599762600-1599773400@flamingocat.de
SUMMARY:Offener Blumenampel-Workshop
DESCRIPTION:Auf die Knoten – Fertig – Los! Für Makramee-Einsteiger ist dieser Kurs genau das Richtige.Wir zeigen dir in unserem 3-stündigen Kurs grundlegende Techniken und knüpfen anschließend gemeinsam für deine geliebten Topf-Pflanzen einen angesagten Pflanzenhänger im Vintage-Look. Also sicher dir schnell ein Plätzchen an unserer Knüpfstange!
URL:https://flamingocat.de/event/offener-blumenampel-workshop-7/2020-09-10/
CATEGORIES:Offene Kurse
ATTACH;FMTTYPE=:
END:VEVENT
BEGIN:VEVENT
DTSTART;TZID=Europe/Berlin:20200915T183000
DTEND;TZID=Europe/Berlin:20200915T203000
DTSTAMP:20260423T121301
CREATED:20200321T145349Z
LAST-MODIFIED:20200321T145349Z
UID:10001100-1600194600-1600201800@flamingocat.de
SUMMARY:Offener Herbstkranz Workshop
DESCRIPTION:Can you feel the autumn-vibes? Wir geniessen die leuchten-bunten Farben des Herbsts und binden angesagte Kränze für dein Zuhause. Zweige\, Blätter und flauschige Gräser sind unsere absoluten all-time-favourites und verpassen auch deinen 4-Wänden eine skandinavische Wohlfühl-Athmosphäre.
URL:https://flamingocat.de/event/offener-herbstkranz-workshop/
LOCATION:DIY DEPARTEMENT\, Karl Liebknecht Strasse 13\, 04107
CATEGORIES:Offene Kurse
ATTACH;FMTTYPE=:
END:VEVENT
BEGIN:VEVENT
DTSTART;TZID=Europe/Berlin:20200917T183000
DTEND;TZID=Europe/Berlin:20200917T213000
DTSTAMP:20260423T121301
CREATED:20200709T210239Z
LAST-MODIFIED:20200709T210239Z
UID:10001245-1600367400-1600378200@flamingocat.de
SUMMARY:Offener Schmuck Workshop
DESCRIPTION:Bling Bling – Baby! In unserem Schmuck-Workshop zeigen wir dir\, wie du deine eigenen angesagten it-Pieces aus Leder\, Holz oder Acryl herstellst. Such dir aus unseren FLAMINGOCAT-typischen Formen deine Lieblingsteile aus und gestalte 2 Schmuckstücke mit Wow-Effekt.
URL:https://flamingocat.de/event/offener-schmuck-workshop-20/
LOCATION:DIY DEPARTEMENT\, Karl Liebknecht Strasse 13\, 04107
CATEGORIES:Offene Kurse
ATTACH;FMTTYPE=:
END:VEVENT
BEGIN:VEVENT
DTSTART;TZID=Europe/Berlin:20200920T103000
DTEND;TZID=Europe/Berlin:20200920T153000
DTSTAMP:20260423T121301
CREATED:20200708T163715Z
LAST-MODIFIED:20200708T163715Z
UID:10001244-1600597800-1600615800@flamingocat.de
SUMMARY:Offener Goldschmiede Workshop
DESCRIPTION:Baby\, bring das Gold zum Schmelzen! Für echte Glamour-Kätzchen bieten wir ab jetzt einen 5-stündigen Goldschmiede-Workshop an\, in dem ihr euren eigenen indiduellen Schmuck herstellen könnt. Gemeinsam mit unserem professionellen Goldschmied\, sägen\, stanzen und löten wir dein neues Lieblings-Schmuckstück. Im Preis enthalten sind alle benötigten Materialien sowie Snacks und Getränke.
URL:https://flamingocat.de/event/offener-goldschmiede-workshop-7/
CATEGORIES:Offene Kurse
END:VEVENT
BEGIN:VEVENT
DTSTART;TZID=Europe/Berlin:20200922T183000
DTEND;TZID=Europe/Berlin:20200922T203000
DTSTAMP:20260423T121301
CREATED:20200810T140957Z
LAST-MODIFIED:20200810T140957Z
UID:10001253-1600799400-1600806600@flamingocat.de
SUMMARY:Wallhanging Workshop
DESCRIPTION:Was auf Instagram schon längst zum riesen Hit geworden ist\, das feiert jetzt auch Einzug in unserer Kreativwerkstatt. #floralwallhanging. Kennt ihr nicht? Dann wird`s höchste Zeit! Egal ob in romantisch verspielten Varianten\, als Traumfänger oder mit dekorativen Makramee-Knoten\, diese hängenden Deko-Schönheiten sind ein echtes Must-Have.
URL:https://flamingocat.de/event/wallhanging-workshop/
LOCATION:DIY DEPARTEMENT\, Karl Liebknecht Strasse 13\, 04107
END:VEVENT
BEGIN:VEVENT
DTSTART;TZID=Europe/Berlin:20200924T183000
DTEND;TZID=Europe/Berlin:20200924T203000
DTSTAMP:20260423T121301
CREATED:20200321T145652Z
LAST-MODIFIED:20200321T145652Z
UID:10001101-1600972200-1600979400@flamingocat.de
SUMMARY:Offener Herbstkranz Workshop
DESCRIPTION:Can you feel the autumn-vibes? Wir geniessen die leuchten-bunten Farben des Herbsts und binden angesagte Kränze für dein Zuhause. Zweige\, Blätter und flauschige Gräser sind unsere absoluten all-time-favourites und verpassen auch deinen 4-Wänden eine skandinavische Wohlfühl-Athmosphäre.
URL:https://flamingocat.de/event/offener-herbstkranz-workshop-2/
LOCATION:FLAMINGOCAT\, Kurt Eisner Strasse 17\, Leipzig\, 04275
CATEGORIES:Offene Kurse
ATTACH;FMTTYPE=:
END:VEVENT
END:VCALENDAR